View In:
ArcGIS JavaScript
ArcGIS Enterprise Map Viewer
ArcGIS Earth
Service Description: This data publication includes Community Wildfire Risk Reduction Zone rasters, products delivered as part of the Wildfire Risk to Communities project. There are two types of data included: 1) raster spatial data that delineate Community Wildfire Risk Reduction Zones for all populated areas in the continental United States (CONUS), Alaska, and Hawaii; and 2) tabular summaries by communities, counties, tribal areas, and states of wildfire hazard and risk produced as part of the Wildfire Risk to Communities (WRC) project.
The Community Wildfire Risk Reduction Zones (CWiRRZ) product is a 30-m raster delineating areas where mitigation activities will be most effective at protecting homes from most types of wildfire. The zones are determined by the spatial coincidence of wildfire likelihood (Burn Probability), and populated areas. There are four Risk Reduction Zones: Minimal Exposure Zone, Indirect Exposure Zone, Direct Exposure Zone, and Wildfire Transmission Zone. However, the CWiRRZ raster can be further deconstructed into ten zones, wherein the Wildfire Transmission Zone is separated into the following surface fuel types: Tree, Shrub, Grass, Agriculture, Non-Vegetated, Water, and Outlying Wildlands (area beyond 2400-m from buildings).
Additional methodology documentation is provided with the data publication download. (https://www.fs.usda.gov/rds/archive/Catalog/RDS-2024-0030)
Note: Pixel values in this image service have been altered from the original raster dataset due to data requirements in web services. The service is intended primarily for data visualization. Relative values and spatial patterns have been largely preserved in the service, but users are encouraged to download the source data for quantitative analysis.
Name: Fire_Aviation/USFS_EDW_RMRS_WRC_CommunityWildfireRiskReductionZones10
Description: This data publication includes Community Wildfire Risk Reduction Zone rasters, products delivered as part of the Wildfire Risk to Communities project. There are two types of data included: 1) raster spatial data that delineate Community Wildfire Risk Reduction Zones for all populated areas in the continental United States (CONUS), Alaska, and Hawaii; and 2) tabular summaries by communities, counties, tribal areas, and states of wildfire hazard and risk produced as part of the Wildfire Risk to Communities (WRC) project.
The Community Wildfire Risk Reduction Zones (CWiRRZ) product is a 30-m raster delineating areas where mitigation activities will be most effective at protecting homes from most types of wildfire. The zones are determined by the spatial coincidence of wildfire likelihood (Burn Probability), and populated areas. There are four Risk Reduction Zones: Minimal Exposure Zone, Indirect Exposure Zone, Direct Exposure Zone, and Wildfire Transmission Zone. However, the CWiRRZ raster can be further deconstructed into ten zones, wherein the Wildfire Transmission Zone is separated into the following surface fuel types: Tree, Shrub, Grass, Agriculture, Non-Vegetated, Water, and Outlying Wildlands (area beyond 2400-m from buildings).
Additional methodology documentation is provided with the data publication download. (https://www.fs.usda.gov/rds/archive/Catalog/RDS-2024-0030)
Note: Pixel values in this image service have been altered from the original raster dataset due to data requirements in web services. The service is intended primarily for data visualization. Relative values and spatial patterns have been largely preserved in the service, but users are encouraged to download the source data for quantitative analysis.
Single Fused Map Cache: false
Extent:
XMin: -2.00111681527E7
YMin: 2136104.6613000035
XMax: -7130458.1526999995
YMax: 1.1596994661300004E7
Spatial Reference: 102100
(3857)
LatestVCSWkid(0)
Initial Extent:
XMin: -2.00111681527E7
YMin: 2136104.6613000035
XMax: -7130458.1526999995
YMax: 1.1596994661300004E7
Spatial Reference: 102100
(3857)
LatestVCSWkid(0)
Full Extent:
XMin: -2.00111681527E7
YMin: 2136104.6613000035
XMax: -7130458.1526999995
YMax: 1.1596994661300004E7
Spatial Reference: 102100
(3857)
LatestVCSWkid(0)
Pixel Size X: 30.0
Pixel Size Y: 30.0
Band Count: 1
Pixel Type: U16
RasterFunction Infos: {"rasterFunctionInfos": [
{
"help": "",
"name": "CWiRRZ 10 Value",
"description": "Community Wildfire Risk Reduction Zones RFT for the 10 Value Symbology"
},
{
"help": "",
"name": "None",
"description": "Make a Raster or Raster Dataset into a Function Raster Dataset."
}
]}
Mensuration Capabilities: Basic
Inspection Capabilities:
Has Histograms: true
Has Colormap: false
Has Multi Dimensions : false
Rendering Rule:
Min Scale: 0
Max Scale: 0
Copyright Text: Funding for this project provided by USDA Forest Service, Fire and Aviation Management. Funding also provided by USDA Forest Service, Fire Modeling Institute, which is part of the Rocky Mountain Research Station, Fire, Fuel and Smoke Science Program. Work on data development was primarily completed by the USDA Forest Service, Fire Modeling Institute (FMI). Some salary was provided by FMI through an ORISE agreement under the U.S. Department of Energy (DE-SC0014664).
Gregory K. Dillon
USDA Forest Service, Rocky Mountain Research Station
https://orcid.org/0009-0006-6304-650X
Mitchell T. Lazarz
USDA Forest Service, Rocky Mountain Research Station
https://orcid.org/0000-0002-4558-4949
Eva C. Karau
USDA Forest Service, Rocky Mountain Research Station
https://orcid.org/0009-0009-6776-9387
Scott J. Story
Headwaters Economics
Kelly A. Pohl
Headwaters Economics
https://orcid.org/0009-0003-3876-5121
Service Data Type: esriImageServiceDataTypeGeneric
Min Values: 0
Max Values: 9
Mean Values: 6.3723951974037671
Standard Deviation Values: 2.3507297638032227
Object ID Field: objectid
Fields:
-
objectid
(
alias: objectid
, type: esriFieldTypeOID
)
-
name
(
length: 200
, alias: name
, type: esriFieldTypeString
)
-
minps
(
alias: minps
, type: esriFieldTypeDouble
)
-
maxps
(
alias: maxps
, type: esriFieldTypeDouble
)
-
lowps
(
alias: lowps
, type: esriFieldTypeDouble
)
-
highps
(
alias: highps
, type: esriFieldTypeDouble
)
-
category
(
alias: category
, type: esriFieldTypeInteger
, Coded Values:
[0: Unknown]
, [1: Primary]
, [2: Overview]
, ...6 more...
)
-
tag
(
length: 100
, alias: tag
, type: esriFieldTypeString
)
-
groupname
(
length: 100
, alias: groupname
, type: esriFieldTypeString
)
-
productname
(
length: 100
, alias: productname
, type: esriFieldTypeString
)
-
centerx
(
alias: centerx
, type: esriFieldTypeDouble
)
-
centery
(
alias: centery
, type: esriFieldTypeDouble
)
-
zorder
(
alias: zorder
, type: esriFieldTypeInteger
)
-
shape
(
alias: shape
, type: esriFieldTypeGeometry
)
Default Mosaic Method: Northwest
Allowed Mosaic Methods: NorthWest,Center,LockRaster,ByAttribute,Nadir,Viewpoint,Seamline,None
SortField:
SortValue: N/A
Mosaic Operator: First
Default Compression Quality: 75
Default Resampling Method: Nearest
Max Record Count: 1000
Max Image Height: 100000
Max Image Width: 100000
Max Download Image Count: 20
Max Mosaic Image Count: 20
Allow Raster Function: true
Allow Copy: true
Allow Analysis: true
Allow Compute TiePoints: false
Supports Statistics: true
Supports Advanced Queries: true
Use StandardizedQueries: true
Raster Type Infos:
Name: Raster Dataset
Description: Supports all ArcGIS Raster Datasets
Help:
Has Raster Attribute Table: false
Edit Fields Info: N/A
Ownership Based AccessControl For Rasters: N/A
Child Resources:
Info
Histograms
Statistics
Key Properties
Legend
Raster Function Infos
Supported Operations:
Export Image
Query
Identify
Measure
Compute Histograms
Compute Statistics Histograms
Get Samples
Compute Class Statistics
Query GPS Info
Find Images
Image to Map
Map to Image
Measure from Image
Image to Map Multiray
Query Boundary
Compute Pixel Location
Compute Angles
Validate
Project