View In:
ArcGIS JavaScript
ArcGIS Online Map Viewer
ArcGIS Earth
Service Description: Gridded coverages based on PRISM climate data were used to calculate departure of mean temperature and total precipitation for winter, spring, summer, and fall seasons for the recent 5-year period (2018-2022) as compared with previous years (1900-2017) in the historical record. Data were summarized at the Subsection scale of the USFS National Hierarchy of Ecological Units and applied to the corresponding landscape (LTA).
Name: Weather_Climate/USFS_EDW_TCA_ClimateExposureTemperature
Description: Gridded coverages based on PRISM climate data were used to calculate departure of mean temperature and total precipitation for winter, spring, summer, and fall seasons for the recent 5-year period (2018-2022) as compared with previous years (1900-2017) in the historical record. Data were summarized at the Subsection scale of the USFS National Hierarchy of Ecological Units and applied to the corresponding landscape (LTA).
Single Fused Map Cache: false
Extent:
XMin: -15130348.178399999
YMin: 2262629.9694999978
XMax: -6174348.1783999987
YMax: 6982629.9694999978
Spatial Reference: 102100
(3857)
Initial Extent:
XMin: -15130348.178399999
YMin: 2262629.9694999978
XMax: -6174348.1783999987
YMax: 6982629.9694999978
Spatial Reference: 102100
(3857)
Full Extent:
XMin: -15130348.178399999
YMin: 2262629.9694999978
XMax: -6174348.1783999987
YMax: 6982629.9694999978
Spatial Reference: 102100
(3857)
Pixel Size X: 4000.0
Pixel Size Y: 4000.0
Band Count: 1
Pixel Type: F32
RasterFunction Infos: {"rasterFunctionInfos": [
{
"help": "",
"name": "None",
"description": "Make a Raster or Raster Dataset into a Function Raster Dataset."
},
{
"help": "",
"name": "Fall",
"description": "A raster function template."
},
{
"help": "",
"name": "Spring",
"description": "A raster function template."
},
{
"help": "",
"name": "Summer",
"description": "A raster function template."
},
{
"help": "",
"name": "Winter",
"description": "A raster function template."
}
]}
Mensuration Capabilities: Basic
Inspection Capabilities:
Has Histograms: true
Has Colormap: false
Has Multi Dimensions : true
Rendering Rule:
Min Scale: 0
Max Scale: 0
Copyright Text: The USDA Forest Service makes no warranty, expressed or implied, including the warranties of merchantability and fitness for a particular purpose, nor assumes any legal liability or responsibility for the accuracy, reliability, completeness or utility of these geospatial data, or for the improper or incorrect use of these geospatial data. These geospatial data and related maps or graphics are not legal documents and are not intended to be used as such. The data and maps may not be used to determine title, ownership, legal descriptions or boundaries, legal jurisdiction, or restrictions that may be in place on either public or private land. Natural hazards may or may not be depicted on the data and maps, and land users should exercise due caution. The data are dynamic and may change over time. The user is responsible to verify the limitations of the geospatial data and to use the data accordingly.
Non-Discrimination Statement
In accordance with Federal civil rights law and U.S. Department of Agriculture (USDA) civil rights regulations and policies, the USDA, its Agencies, offices, and employees, and institutions participating in or administering USDA programs are prohibited from discriminating based on race, color, national origin, religion, sex, disability, age, marital status, family/parental status, income derived from a public assistance program, political beliefs, or reprisal or retaliation for prior civil rights activity, in any program or activity conducted or funded by USDA (not all bases apply to all programs). Remedies and complaint filing deadlines vary by program or incident.
Persons with disabilities who require alternative means of communication for program information (e.g., Braille, large print, audiotape, American Sign Language, etc.) should contact the State or local Agency that administers the program or contact USDA through the Telecommunications Relay Service at 711 (voice and TTY). Additionally, program information may be made available in languages other than English.
To file a program discrimination complaint, complete the USDA Program Discrimination Complaint Form, AD-3027, found online at How to File a Program Discrimination Complaint and at any USDA office or write a letter addressed to USDA and provide in the letter all of the information requested in the form. To request a copy of the complaint form, call (866) 632-9992. Submit your completed form or letter to USDA by: (1) mail: U.S. Department of Agriculture, Office of the Assistant Secretary for Civil Rights, 1400 Independence Avenue, SW, Mail Stop 9410, Washington, D.C. 20250-9410; (2) fax: (202) 690-7442; or (3) email: program.intake@usda.gov.
USDA is an equal opportunity provider, employer, and lender.
Service Data Type: esriImageServiceDataTypeScientific
Min Values: -3.1513411998748779
Max Values: 5.3124732971191406
Mean Values: 0.60697282755821036
Standard Deviation Values: 1.0412398129317055
Object ID Field: objectid
Fields:
-
objectid
(
alias: objectid
, type: esriFieldTypeOID
)
-
name
(
length: 200
, alias: name
, type: esriFieldTypeString
)
-
minps
(
alias: minps
, type: esriFieldTypeDouble
)
-
maxps
(
alias: maxps
, type: esriFieldTypeDouble
)
-
lowps
(
alias: lowps
, type: esriFieldTypeDouble
)
-
highps
(
alias: highps
, type: esriFieldTypeDouble
)
-
category
(
alias: category
, type: esriFieldTypeInteger
, Coded Values:
[0: Unknown]
, [1: Primary]
, [2: Overview]
, ...6 more...
)
-
tag
(
length: 100
, alias: tag
, type: esriFieldTypeString
)
-
groupname
(
length: 100
, alias: groupname
, type: esriFieldTypeString
)
-
productname
(
length: 100
, alias: productname
, type: esriFieldTypeString
)
-
centerx
(
alias: centerx
, type: esriFieldTypeDouble
)
-
centery
(
alias: centery
, type: esriFieldTypeDouble
)
-
zorder
(
alias: zorder
, type: esriFieldTypeInteger
)
-
shape
(
alias: shape
, type: esriFieldTypeGeometry
)
-
season
(
length: 12
, alias: season
, type: esriFieldTypeString
)
-
year
(
length: 8
, alias: year
, type: esriFieldTypeDate
)
-
stdtime
(
length: 8
, alias: Standard Time
, type: esriFieldTypeDate
)
-
dimensions
(
length: 50
, alias: Dimensions
, type: esriFieldTypeString
)
-
variable
(
length: 50
, alias: Variable
, type: esriFieldTypeString
)
-
st_area(shape)
(
alias: st_area(shape)
, type: esriFieldTypeDouble
)
-
st_perimeter(shape)
(
alias: st_perimeter(shape)
, type: esriFieldTypeDouble
)
Default Mosaic Method: ByAttribute
Allowed Mosaic Methods: ByAttribute,NorthWest,Center,LockRaster,Nadir,Viewpoint,Seamline,None
SortField: StdTime
SortValue: 0
Mosaic Operator: First
Default Compression Quality: 75
Default Resampling Method: Bilinear
Max Record Count: 1000
Max Image Height: 100000
Max Image Width: 100000
Max Download Image Count: 20
Max Mosaic Image Count: 20
Allow Raster Function: true
Allow Copy: true
Allow Analysis: true
Allow Compute TiePoints: false
Supports Statistics: true
Supports Advanced Queries: true
Use StandardizedQueries: true
Raster Type Infos:
Name: Raster Dataset
Description: Supports all ArcGIS Raster Datasets
Help:
Has Raster Attribute Table: false
Edit Fields Info: N/A
Ownership Based AccessControl For Rasters: N/A
Child Resources:
Info
Histograms
Statistics
Key Properties
Legend
Raster Function Infos
Multidimensional Info
Slices
Supported Operations:
Export Image
Query
Identify
Measure
Compute Histograms
Compute Statistics Histograms
Get Samples
Compute Class Statistics
Query GPS Info
Find Images
Image to Map
Map to Image
Measure from Image
Image to Map Multiray
Query Boundary
Compute Pixel Location
Compute Angles
Validate
Project