{ "extent": { "ymin": 2262629.9694999978, "xmin": -15130348.178399999, "ymax": 6982629.9694999978, "xmax": -6174348.1783999987, "spatialReference": { "latestWkid": 3857, "wkid": 102100 } }, "blockWidth": 2048, "mosaicOperator": "First", "serviceSourceType": "esriImageServiceSourceTypeMosaicDataset", "hasMultidimensions": true, "maxImageWidth": 100000, "maxRecordCount": 1000, "meanValues": [0.60697282755821036], "hasColormap": false, "compressionType": "None", "defaultCompressionQuality": 75, "maxValues": [5.3124732971191406], "hasHistograms": true, "datasetFormat": "AMD", "maxImageHeight": 100000, "sortField": "StdTime", "bandNames": ["Band_1"], "spatialReference": { "latestWkid": 3857, "wkid": 102100 }, "fullExtent": { "ymin": 2262629.9694999978, "xmin": -15130348.178399999, "ymax": 6982629.9694999978, "xmax": -6174348.1783999987, "spatialReference": { "latestWkid": 3857, "wkid": 102100 } }, "bandCount": 1, "rasterFunctionInfos": [ { "help": "", "name": "None", "description": "Make a Raster or Raster Dataset into a Function Raster Dataset." }, { "help": "", "name": "Fall", "description": "A raster function template." }, { "help": "", "name": "Spring", "description": "A raster function template." }, { "help": "", "name": "Summer", "description": "A raster function template." }, { "help": "", "name": "Winter", "description": "A raster function template." } ], "supportsStatistics": true, "sortableFields": "minps,maxps,lowps,highps,centerx,centery,zorder,st_area(shape),st_perimeter(shape),Year,StdTime", "minValues": [-3.1513411998748779], "allowRasterFunction": true, "allowComputeTiePoints": false, "serviceDataType": "esriImageServiceDataTypeScientific", "supportsAdvancedQueries": true, "maxDownloadSizeLimit": 2048, "currentVersion": 11.3, "sortValue": "0", "objectIdField": "objectid", "blockHeight": 256, "initialExtent": { "ymin": 2262629.9694999978, "xmin": -15130348.178399999, "ymax": 6982629.9694999978, "xmax": -6174348.1783999987, "spatialReference": { "latestWkid": 3857, "wkid": 102100 } }, "pixelSizeX": 4000, "pixelSizeY": 4000, "defaultMosaicMethod": "ByAttribute", "name": "Weather_Climate/USFS_EDW_TCA_ClimateExposureTemperature", "allowedMosaicMethods": "ByAttribute,NorthWest,Center,LockRaster,Nadir,Viewpoint,Seamline,None", "maxDownloadImageCount": 20, "fields": [ { "domain": null, "name": "objectid", "alias": "objectid", "type": "esriFieldTypeOID" }, { "domain": null, "name": "name", "length": 200, "alias": "name", "type": "esriFieldTypeString" }, { "domain": null, "name": "minps", "alias": "minps", "type": "esriFieldTypeDouble" }, { "domain": null, "name": "maxps", "alias": "maxps", "type": "esriFieldTypeDouble" }, { "domain": null, "name": "lowps", "alias": "lowps", "type": "esriFieldTypeDouble" }, { "domain": null, "name": "highps", "alias": "highps", "type": "esriFieldTypeDouble" }, { "domain": { "splitPolicy": "esriSPTDefaultValue", "name": "MosaicCatalogItemCategoryDomain", "description": "Catalog item categories.", "type": "codedValue", "codedValues": [ { "code": 0, "name": "Unknown" }, { "code": 1, "name": "Primary" }, { "code": 2, "name": "Overview" }, { "code": 3, "name": "Unprocessed Overview" }, { "code": 4, "name": "Partial Overview" }, { "code": 5, "name": "Inactive" }, { "code": 253, "name": "Uploaded" }, { "code": 254, "name": "Incomplete" }, { "code": 255, "name": "Custom" } ], "mergePolicy": "esriMPTDefaultValue" }, "name": "category", "alias": "category", "type": "esriFieldTypeInteger" }, { "domain": null, "name": "tag", "length": 100, "alias": "tag", "type": "esriFieldTypeString" }, { "domain": null, "name": "groupname", "length": 100, "alias": "groupname", "type": "esriFieldTypeString" }, { "domain": null, "name": "productname", "length": 100, "alias": "productname", "type": "esriFieldTypeString" }, { "domain": null, "name": "centerx", "alias": "centerx", "type": "esriFieldTypeDouble" }, { "domain": null, "name": "centery", "alias": "centery", "type": "esriFieldTypeDouble" }, { "domain": null, "name": "zorder", "alias": "zorder", "type": "esriFieldTypeInteger" }, { "domain": null, "name": "shape", "alias": "shape", "type": "esriFieldTypeGeometry" }, { "domain": null, "name": "season", "length": 12, "alias": "season", "type": "esriFieldTypeString" }, { "domain": null, "name": "year", "length": 8, "alias": "year", "type": "esriFieldTypeDate" }, { "domain": null, "name": "stdtime", "length": 8, "alias": "Standard Time", "type": "esriFieldTypeDate" }, { "domain": null, "name": "dimensions", "length": 50, "alias": "Dimensions", "type": "esriFieldTypeString" }, { "domain": null, "name": "variable", "length": 50, "alias": "Variable", "type": "esriFieldTypeString" }, { "domain": null, "name": "st_area(shape)", "alias": "st_area(shape)", "type": "esriFieldTypeDouble" }, { "domain": null, "name": "st_perimeter(shape)", "alias": "st_perimeter(shape)", "type": "esriFieldTypeDouble" } ], "defaultVariable": "", "allowAnalysis": true, "hasRasterAttributeTable": false, "useStandardizedQueries": true, "description": "
Gridded coverages based on PRISM climate data were used to calculate departure of mean temperature and total precipitation for winter, spring, summer, and fall seasons for the recent 5-year period (2018-2022) as compared with previous years (1900-2017) in the historical record. Data were summarized at the Subsection scale of the USFS National Hierarchy of Ecological Units and applied to the corresponding landscape (LTA).<\/SPAN><\/P><\/DIV><\/DIV><\/DIV>",
"pixelType": "F32",
"meanPixelSize": 4000,
"exportTilesAllowed": false,
"editFieldsInfo": null,
"rasterTypeInfos": [{
"help": "",
"name": "Raster Dataset",
"description": "Supports all ArcGIS Raster Datasets"
}],
"defaultResamplingMethod": "Bilinear",
"itemAccess": false,
"minScale": 0,
"advancedQueryCapabilities": {
"supportsStatistics": true,
"supportsOrderBy": true,
"useStandardizedQueries": true,
"supportsPagination": true,
"supportsDistinct": true
},
"capabilities": "Image,Metadata,Catalog,Mensuration",
"maxScale": 0,
"stdvValues": [1.0412398129317055],
"minPixelSize": 0,
"sortAscending": false,
"maxMosaicImageCount": 20,
"inspectionCapabilities": "",
"maxPixelSize": 0,
"uncompressedSize": 10568080,
"serviceDescription": " Gridded coverages based on PRISM climate data were used to calculate departure of mean temperature and total precipitation for winter, spring, summer, and fall seasons for the recent 5-year period (2018-2022) as compared with previous years (1900-2017) in the historical record. Data were summarized at the Subsection scale of the USFS National Hierarchy of Ecological Units and applied to the corresponding landscape (LTA).<\/SPAN><\/P><\/DIV><\/DIV><\/DIV>",
"allowCopy": true,
"copyrightText": "The USDA Forest Service makes no warranty, expressed or implied, including the warranties of merchantability and fitness for a particular purpose, nor assumes any legal liability or responsibility for the accuracy, reliability, completeness or utility of these geospatial data, or for the improper or incorrect use of these geospatial data. These geospatial data and related maps or graphics are not legal documents and are not intended to be used as such. The data and maps may not be used to determine title, ownership, legal descriptions or boundaries, legal jurisdiction, or restrictions that may be in place on either public or private land. Natural hazards may or may not be depicted on the data and maps, and land users should exercise due caution. The data are dynamic and may change over time. The user is responsible to verify the limitations of the geospatial data and to use the data accordingly.\n\nNon-Discrimination Statement\n\nIn accordance with Federal civil rights law and U.S. Department of Agriculture (USDA) civil rights regulations and policies, the USDA, its Agencies, offices, and employees, and institutions participating in or administering USDA programs are prohibited from discriminating based on race, color, national origin, religion, sex, disability, age, marital status, family/parental status, income derived from a public assistance program, political beliefs, or reprisal or retaliation for prior civil rights activity, in any program or activity conducted or funded by USDA (not all bases apply to all programs). Remedies and complaint filing deadlines vary by program or incident.\n\nPersons with disabilities who require alternative means of communication for program information (e.g., Braille, large print, audiotape, American Sign Language, etc.) should contact the State or local Agency that administers the program or contact USDA through the Telecommunications Relay Service at 711 (voice and TTY). Additionally, program information may be made available in languages other than English.\n\nTo file a program discrimination complaint, complete the USDA Program Discrimination Complaint Form, AD-3027, found online at How to File a Program Discrimination Complaint and at any USDA office or write a letter addressed to USDA and provide in the letter all of the information requested in the form. To request a copy of the complaint form, call (866) 632-9992. Submit your completed form or letter to USDA by: (1) mail: U.S. Department of Agriculture, Office of the Assistant Secretary for Civil Rights, 1400 Independence Avenue, SW, Mail Stop 9410, Washington, D.C. 20250-9410; (2) fax: (202) 690-7442; or (3) email: program.intake@usda.gov.\n\nUSDA is an equal opportunity provider, employer, and lender.",
"mensurationCapabilities": "Basic",
"ownershipBasedAccessControlForRasters": null
}