View In:
ArcGIS JavaScript
ArcGIS Enterprise Map Viewer
ArcGIS Earth
Service Description: Climate Stress Summary By Subwatershed. This layer describes the relative magnitude of projected changes across watersheds. Seven climate stress variables were summarized by subwatershed. Thresholds were then assigned to each of the variables, with the variables given a value of 1 if they passed the threshold, and 0 otherwise: Absolute change in length-weighted number of winter floods > 4; Percent change in length-weighted 25-year flood > 25; Percent change in length-weighted decadal low flow > 25; Percent change in snow water equivalent > 25; Percent change in snow residence time > 25; Percent change in 90th percentile number of summer dry days > 25; Historical (1993-2011) stream temperature > 18 °C (i.e., above 20 °C with a 2 °C temperature increase); These values were summed, then divided by the number of variables with data in that subwatershed, to identify the percentage of variables with projected changes over the thresholds. Low: < 25%; Medium: >= 25, < 50%; High: >50%; All future data are for the time period 2070-2099, using RCP 8.5 (https://www.globalchange.gov/browse/multimedia/emissions-concentrations-and-temperature-projections), The input layers used for the summaries include the Streamflow Metrics dataset (https://storymaps.arcgis.com/stories/6a6be7d624db41638a24b659305af522), National Forest Climate Change Maps (https://www.fs.usda.gov/rm/boise/AWAE/projects/national-forest-climate-change-maps.html), and the NorWeST Stream Temperature dataset (https://www.fs.usda.gov/rm/boise/AWAE/projects/NorWeST.html). Scenario = RCP 8.5; incorporates data from several data sources. Climate variables (snow-water equivalent, snow residence time, and summer dry days) use the average of 20 global climate models (bcc-csm1-1, bcc-csm1-1-m, BNU-ESM, CanESM2, CCSM4, CNRM-CM5, CSIRO-Mk3-6-0, GFDL-ESM2G, GFDL-ESM2M, HadGEM2-CC365, HadGEM2-ES365, inmcm4 , IPSL-CM5A-LR, IPSL-CM5A-MR, IPSL-CM5B-LR, MIROC5, MIROC-ESM, MIROC-ESM-CHEM, MRI-CGCM3, NorESM1-M). Streamflow variables (winter floods, 25-year floods, and decadal low flows) use the average of 5 climate models used in RPA Assessment: Least Warm-MRI-CGCM3; Hot-HadGEM2-ES; Dry-IPSL-CM5A-MR; Wet-CNRM-CM5; Middle-NorESM1-M. Stream temperature adds 2 degrees Celsius to historical (1993–2011) temperatures.
Name: Weather_Climate/USFS_CRV_Water_ClimateStressSummaryBySubwatershed
Description: Climate Stress Summary By Subwatershed. This layer describes the relative magnitude of projected changes across watersheds. Seven climate stress variables were summarized by subwatershed. Thresholds were then assigned to each of the variables, with the variables given a value of 1 if they passed the threshold, and 0 otherwise: Absolute change in length-weighted number of winter floods > 4; Percent change in length-weighted 25-year flood > 25; Percent change in length-weighted decadal low flow > 25; Percent change in snow water equivalent > 25; Percent change in snow residence time > 25; Percent change in 90th percentile number of summer dry days > 25; Historical (1993-2011) stream temperature > 18 °C (i.e., above 20 °C with a 2 °C temperature increase); These values were summed, then divided by the number of variables with data in that subwatershed, to identify the percentage of variables with projected changes over the thresholds. Low: < 25%; Medium: >= 25, < 50%; High: >50%; All future data are for the time period 2070-2099, using RCP 8.5 (https://www.globalchange.gov/browse/multimedia/emissions-concentrations-and-temperature-projections), The input layers used for the summaries include the Streamflow Metrics dataset (https://storymaps.arcgis.com/stories/6a6be7d624db41638a24b659305af522), National Forest Climate Change Maps (https://www.fs.usda.gov/rm/boise/AWAE/projects/national-forest-climate-change-maps.html), and the NorWeST Stream Temperature dataset (https://www.fs.usda.gov/rm/boise/AWAE/projects/NorWeST.html). Scenario = RCP 8.5; incorporates data from several data sources. Climate variables (snow-water equivalent, snow residence time, and summer dry days) use the average of 20 global climate models (bcc-csm1-1, bcc-csm1-1-m, BNU-ESM, CanESM2, CCSM4, CNRM-CM5, CSIRO-Mk3-6-0, GFDL-ESM2G, GFDL-ESM2M, HadGEM2-CC365, HadGEM2-ES365, inmcm4 , IPSL-CM5A-LR, IPSL-CM5A-MR, IPSL-CM5B-LR, MIROC5, MIROC-ESM, MIROC-ESM-CHEM, MRI-CGCM3, NorESM1-M). Streamflow variables (winter floods, 25-year floods, and decadal low flows) use the average of 5 climate models used in RPA Assessment: Least Warm-MRI-CGCM3; Hot-HadGEM2-ES; Dry-IPSL-CM5A-MR; Wet-CNRM-CM5; Middle-NorESM1-M. Stream temperature adds 2 degrees Celsius to historical (1993–2011) temperatures.
Single Fused Map Cache: false
Extent:
XMin: -1.38887539839E7
YMin: 2816683.1959000006
XMax: -7452753.983899999
YMax: 6340683.195900001
Spatial Reference: 102100
(3857)
LatestVCSWkid(0)
Initial Extent:
XMin: -1.38887539839E7
YMin: 2816683.1959000006
XMax: -7452753.983899999
YMax: 6340683.195900001
Spatial Reference: 102100
(3857)
LatestVCSWkid(0)
Full Extent:
XMin: -1.38887539839E7
YMin: 2816683.1959000006
XMax: -7452753.983899999
YMax: 6340683.195900001
Spatial Reference: 102100
(3857)
LatestVCSWkid(0)
Pixel Size X: 1000.0
Pixel Size Y: 1000.0
Band Count: 1
Pixel Type: U4
RasterFunction Infos: {"rasterFunctionInfos": [
{
"help": "",
"name": "USFS_EDW_CRV_ClimateStressSummaryBySubwatershed",
"description": "USFS_EDW_CRV_ClimateStressSummaryBySubwatershed"
},
{
"help": "",
"name": "None",
"description": "Make a Raster or Raster Dataset into a Function Raster Dataset."
}
]}
Mensuration Capabilities: Basic
Inspection Capabilities:
Has Histograms: true
Has Colormap: false
Has Multi Dimensions : false
Rendering Rule:
Min Scale: 0
Max Scale: 0
Copyright Text: USDA Forest Service: Office of Sustainability and Climate (OSC) and Rocky Mountain Research Station (RMRS);
Service Data Type: esriImageServiceDataTypeGeneric
Min Values: 1
Max Values: 3
Mean Values: 1.8240470051168463
Standard Deviation Values: 0.70305227639230428
Object ID Field: objectid
Fields:
-
objectid
(
alias: objectid
, type: esriFieldTypeOID
)
-
name
(
length: 200
, alias: name
, type: esriFieldTypeString
)
-
minps
(
alias: minps
, type: esriFieldTypeDouble
)
-
maxps
(
alias: maxps
, type: esriFieldTypeDouble
)
-
lowps
(
alias: lowps
, type: esriFieldTypeDouble
)
-
highps
(
alias: highps
, type: esriFieldTypeDouble
)
-
category
(
alias: category
, type: esriFieldTypeInteger
, Coded Values:
[0: Unknown]
, [1: Primary]
, [2: Overview]
, ...6 more...
)
-
tag
(
length: 100
, alias: tag
, type: esriFieldTypeString
)
-
groupname
(
length: 100
, alias: groupname
, type: esriFieldTypeString
)
-
productname
(
length: 100
, alias: productname
, type: esriFieldTypeString
)
-
centerx
(
alias: centerx
, type: esriFieldTypeDouble
)
-
centery
(
alias: centery
, type: esriFieldTypeDouble
)
-
zorder
(
alias: zorder
, type: esriFieldTypeInteger
)
-
shape
(
alias: shape
, type: esriFieldTypeGeometry
)
Default Mosaic Method: Northwest
Allowed Mosaic Methods: NorthWest,Center,LockRaster,ByAttribute,Nadir,Viewpoint,Seamline,None
SortField:
SortValue: N/A
Mosaic Operator: First
Default Compression Quality: 75
Default Resampling Method: Nearest
Max Record Count: 1000
Max Image Height: 100000
Max Image Width: 100000
Max Download Image Count: 20
Max Mosaic Image Count: 100
Allow Raster Function: true
Allow Copy: true
Allow Analysis: true
Allow Compute TiePoints: false
Supports Statistics: true
Supports Advanced Queries: true
Use StandardizedQueries: true
Raster Type Infos:
Name: Raster Dataset
Description: Supports all ArcGIS Raster Datasets
Help:
Has Raster Attribute Table: false
Edit Fields Info: N/A
Ownership Based AccessControl For Rasters: N/A
Child Resources:
Info
Histograms
Statistics
Key Properties
Legend
Raster Function Infos
Supported Operations:
Export Image
Query
Identify
Measure
Compute Histograms
Compute Statistics Histograms
Get Samples
Compute Class Statistics
Query GPS Info
Find Images
Image to Map
Map to Image
Measure from Image
Image to Map Multiray
Query Boundary
Compute Pixel Location
Compute Angles
Validate
Project