{ "extent": { "ymin": 2816683.1959000006, "xmin": -13888753.983899999, "ymax": 6340683.1959000006, "xmax": -7452753.9838999994, "spatialReference": { "latestWkid": 3857, "wkid": 102100 } }, "blockWidth": 2048, "mosaicOperator": "First", "serviceSourceType": "esriImageServiceSourceTypeMosaicDataset", "hasMultidimensions": false, "maxImageWidth": 100000, "maxRecordCount": 1000, "meanValues": [1.8240470051168463], "hasColormap": false, "compressionType": "None", "defaultCompressionQuality": 75, "maxValues": [3], "hasHistograms": true, "datasetFormat": "AMD", "maxImageHeight": 100000, "sortField": "", "bandNames": ["Band_1"], "spatialReference": { "latestWkid": 3857, "wkid": 102100 }, "fullExtent": { "ymin": 2816683.1959000006, "xmin": -13888753.983899999, "ymax": 6340683.1959000006, "xmax": -7452753.9838999994, "spatialReference": { "latestWkid": 3857, "wkid": 102100 } }, "bandCount": 1, "rasterFunctionInfos": [ { "help": "", "name": "USFS_EDW_CRV_ClimateStressSummaryBySubwatershed", "description": "USFS_EDW_CRV_ClimateStressSummaryBySubwatershed" }, { "help": "", "name": "None", "description": "Make a Raster or Raster Dataset into a Function Raster Dataset." } ], "supportsStatistics": true, "sortableFields": "minps,maxps,lowps,highps,centerx,centery,zorder,st_area(shape),st_perimeter(shape)", "minValues": [1], "allowRasterFunction": true, "allowComputeTiePoints": false, "serviceDataType": "esriImageServiceDataTypeGeneric", "supportsAdvancedQueries": true, "maxDownloadSizeLimit": 2048, "currentVersion": 12, "sortValue": null, "objectIdField": "objectid", "blockHeight": 256, "initialExtent": { "ymin": 2816683.1959000006, "xmin": -13888753.983899999, "ymax": 6340683.1959000006, "xmax": -7452753.9838999994, "spatialReference": { "latestWkid": 3857, "wkid": 102100 } }, "pixelSizeX": 1000, "pixelSizeY": 1000, "defaultMosaicMethod": "Northwest", "name": "Weather_Climate/USFS_CRV_Water_ClimateStressSummaryBySubwatershed", "allowedMosaicMethods": "NorthWest,Center,LockRaster,ByAttribute,Nadir,Viewpoint,Seamline,None", "maxDownloadImageCount": 20, "fields": [ { "domain": null, "name": "objectid", "alias": "objectid", "type": "esriFieldTypeOID" }, { "domain": null, "name": "name", "length": 200, "alias": "name", "type": "esriFieldTypeString" }, { "domain": null, "name": "minps", "alias": "minps", "type": "esriFieldTypeDouble" }, { "domain": null, "name": "maxps", "alias": "maxps", "type": "esriFieldTypeDouble" }, { "domain": null, "name": "lowps", "alias": "lowps", "type": "esriFieldTypeDouble" }, { "domain": null, "name": "highps", "alias": "highps", "type": "esriFieldTypeDouble" }, { "domain": { "splitPolicy": "esriSPTDefaultValue", "name": "MosaicCatalogItemCategoryDomain", "description": "Catalog item categories.", "type": "codedValue", "codedValues": [ { "code": 0, "name": "Unknown" }, { "code": 1, "name": "Primary" }, { "code": 2, "name": "Overview" }, { "code": 3, "name": "Unprocessed Overview" }, { "code": 4, "name": "Partial Overview" }, { "code": 5, "name": "Inactive" }, { "code": 253, "name": "Uploaded" }, { "code": 254, "name": "Incomplete" }, { "code": 255, "name": "Custom" } ], "mergePolicy": "esriMPTDefaultValue" }, "name": "category", "alias": "category", "type": "esriFieldTypeInteger" }, { "domain": null, "name": "tag", "length": 100, "alias": "tag", "type": "esriFieldTypeString" }, { "domain": null, "name": "groupname", "length": 100, "alias": "groupname", "type": "esriFieldTypeString" }, { "domain": null, "name": "productname", "length": 100, "alias": "productname", "type": "esriFieldTypeString" }, { "domain": null, "name": "centerx", "alias": "centerx", "type": "esriFieldTypeDouble" }, { "domain": null, "name": "centery", "alias": "centery", "type": "esriFieldTypeDouble" }, { "domain": null, "name": "zorder", "alias": "zorder", "type": "esriFieldTypeInteger" }, { "domain": null, "name": "shape", "alias": "shape", "type": "esriFieldTypeGeometry" } ], "allowAnalysis": true, "hasRasterAttributeTable": false, "useStandardizedQueries": true, "description": "
Climate Stress Summary By Subwatershed. This layer describes the relative magnitude of projected changes across watersheds. Seven climate stress variables were summarized by subwatershed. Thresholds were then assigned to each of the variables, with the variables given a value of 1 if they passed the threshold, and 0 otherwise: Absolute change in length-weighted number of winter floods > 4; Percent change in length-weighted 25-year flood > 25; Percent change in length-weighted decadal low flow > 25; Percent change in snow water equivalent > 25; Percent change in snow residence time > 25; Percent change in 90th percentile number of summer dry days > 25; Historical (1993-2011) stream temperature > 18 °C (i.e., above 20 °C with a 2 °C temperature increase); These values were summed, then divided by the number of variables with data in that subwatershed, to identify the percentage of variables with projected changes over the thresholds. Low: < 25%; Medium: >= 25, < 50%; High: >50%; All future data are for the time period 2070-2099, using RCP 8.5 (https://www.globalchange.gov/browse/multimedia/emissions-concentrations-and-temperature-projections), The input layers used for the summaries include the Streamflow Metrics dataset (https://storymaps.arcgis.com/stories/6a6be7d624db41638a24b659305af522), National Forest Climate Change Maps (https://www.fs.usda.gov/rm/boise/AWAE/projects/national-forest-climate-change-maps.html), and the NorWeST Stream Temperature dataset (https://www.fs.usda.gov/rm/boise/AWAE/projects/NorWeST.html). Scenario = RCP 8.5; incorporates data from several data sources. Climate variables (snow-water equivalent, snow residence time, and summer dry days) use the average of 20 global climate models (bcc-csm1-1, bcc-csm1-1-m, BNU-ESM, CanESM2, CCSM4, CNRM-CM5, CSIRO-Mk3-6-0, GFDL-ESM2G, GFDL-ESM2M, HadGEM2-CC365, HadGEM2-ES365, inmcm4 , IPSL-CM5A-LR, IPSL-CM5A-MR, IPSL-CM5B-LR, MIROC5, MIROC-ESM, MIROC-ESM-CHEM, MRI-CGCM3, NorESM1-M). Streamflow variables (winter floods, 25-year floods, and decadal low flows) use the average of 5 climate models used in RPA Assessment: Least Warm-MRI-CGCM3; Hot-HadGEM2-ES; Dry-IPSL-CM5A-MR; Wet-CNRM-CM5; Middle-NorESM1-M. Stream temperature adds 2 degrees Celsius to historical (1993\u20132011) temperatures. <\/span><\/p> <\/p><\/div><\/div><\/div>",
"pixelType": "U4",
"meanPixelSize": 1000,
"exportTilesAllowed": false,
"editFieldsInfo": null,
"rasterTypeInfos": [{
"help": "",
"name": "Raster Dataset",
"description": "Supports all ArcGIS Raster Datasets"
}],
"defaultResamplingMethod": "Nearest",
"itemAccess": false,
"minScale": 0,
"serviceProperties": " Climate Stress Summary By Subwatershed. This layer describes the relative magnitude of projected changes across watersheds. Seven climate stress variables were summarized by subwatershed. Thresholds were then assigned to each of the variables, with the variables given a value of 1 if they passed the threshold, and 0 otherwise: Absolute change in length-weighted number of winter floods > 4; Percent change in length-weighted 25-year flood > 25; Percent change in length-weighted decadal low flow > 25; Percent change in snow water equivalent > 25; Percent change in snow residence time > 25; Percent change in 90th percentile number of summer dry days > 25; Historical (1993-2011) stream temperature > 18 °C (i.e., above 20 °C with a 2 °C temperature increase); These values were summed, then divided by the number of variables with data in that subwatershed, to identify the percentage of variables with projected changes over the thresholds. Low: < 25%; Medium: >= 25, < 50%; High: >50%; All future data are for the time period 2070-2099, using RCP 8.5 (https://www.globalchange.gov/browse/multimedia/emissions-concentrations-and-temperature-projections), The input layers used for the summaries include the Streamflow Metrics dataset (https://storymaps.arcgis.com/stories/6a6be7d624db41638a24b659305af522), National Forest Climate Change Maps (https://www.fs.usda.gov/rm/boise/AWAE/projects/national-forest-climate-change-maps.html), and the NorWeST Stream Temperature dataset (https://www.fs.usda.gov/rm/boise/AWAE/projects/NorWeST.html). Scenario = RCP 8.5; incorporates data from several data sources. Climate variables (snow-water equivalent, snow residence time, and summer dry days) use the average of 20 global climate models (bcc-csm1-1, bcc-csm1-1-m, BNU-ESM, CanESM2, CCSM4, CNRM-CM5, CSIRO-Mk3-6-0, GFDL-ESM2G, GFDL-ESM2M, HadGEM2-CC365, HadGEM2-ES365, inmcm4 , IPSL-CM5A-LR, IPSL-CM5A-MR, IPSL-CM5B-LR, MIROC5, MIROC-ESM, MIROC-ESM-CHEM, MRI-CGCM3, NorESM1-M). Streamflow variables (winter floods, 25-year floods, and decadal low flows) use the average of 5 climate models used in RPA Assessment: Least Warm-MRI-CGCM3; Hot-HadGEM2-ES; Dry-IPSL-CM5A-MR; Wet-CNRM-CM5; Middle-NorESM1-M. Stream temperature adds 2 degrees Celsius to historical (1993\u20132011) temperatures. <\/SPAN><\/P> <\/P><\/DIV><\/DIV><\/DIV>",
"allowCopy": true,
"copyrightText": "USDA Forest Service: Office of Sustainability and Climate (OSC) and Rocky Mountain Research Station (RMRS);",
"mensurationCapabilities": "Basic",
"ownershipBasedAccessControlForRasters": null
}