View In:
ArcGIS JavaScript
ArcGIS Enterprise Map Viewer
ArcGIS Earth
Service Description: Multidecadal Repeat-Aridity Exposure Index (MRAEI). This dataset depicts spatial locations that are prone to reoccurrence of atmospheric precipitation levels below the long-term average from 1948-2021 during the warm season (May-September). Arid climatic conditions during the warm season have been identified to predispose forested ecosystems to disturbance with impacts to wildfire area burned and enhance forest vulnerability to bark beetle infestations (Holden et al. 2018 https://www.pnas.org/doi/10.1073/pnas.1802316115; Egan et al. 2023, in press).
The MRAEI is a climate-based indicator that represents locations that have experienced repeat-aridity during warm season throughout the long-term dry cycle that has impacted western U.S. from 2000-2021. This dataset was derived from the standardized precipitation index (SPI; Guttman 1999: https://drought.unl.edu/archive/Documents/NDMC/Workshops/136/Ref/SPI_Guttman.pdf; McKee et al. 1993 https://www.droughtmanagement.info/literature/AMS_Relationship_Drought_Frequency_Duration_Time_Scales_1993.pdf) that was calculated at 4 km2 resolution, respectively for each of 481k grid cells across the conterminous U.S., using the Parameter-elevation with independent slope model dataset (PRISM, Daly et al. 1994) and normalized across 1948-2021 period by fitting Gamma distribution, using observations to compute Cumulative Distribution Function (CDF), then evaluating CDF with inverse Gaussian function to derive final SPI anomaly values (Holden and Hoylman 2023 https://doi.org/10.5281/zenodo.7921890). Then, the temporal frequency of dry anomalies for each site-specific grid cell was calculated from 2000-2021, scaled by severity of dry anomaly with < -3 SPI severe dry as a baseline, and divided by the baseline to represent cumulative percent (%) of years with severe dry equivalence (Egan et al. 2023, in press)
Name: Weather_Climate/USFS_CRV_Climate_MultidecadalRepeatDrynessExposureIndex
Description:
Single Fused Map Cache: false
Extent:
XMin: -1.42447523828E7
YMin: 2607924.0779
XMax: -7267752.3828
YMax: 6739924.0779
Spatial Reference: 102100
(3857)
LatestVCSWkid(0)
Initial Extent:
XMin: -1.42447523828E7
YMin: 2607924.0779
XMax: -7267752.3828
YMax: 6739924.0779
Spatial Reference: 102100
(3857)
LatestVCSWkid(0)
Full Extent:
XMin: -1.42447523828E7
YMin: 2607924.0779
XMax: -7267752.3828
YMax: 6739924.0779
Spatial Reference: 102100
(3857)
LatestVCSWkid(0)
Pixel Size X: 1000.0
Pixel Size Y: 1000.0
Band Count: 1
Pixel Type: S8
RasterFunction Infos: {"rasterFunctionInfos": [
{
"help": "",
"name": "Disturbances_MultidecadalExtremeDry",
"description": "Disturbances Multidecadal Extreme Dry RFT"
},
{
"help": "",
"name": "None",
"description": "Make a Raster or Raster Dataset into a Function Raster Dataset."
}
]}
Mensuration Capabilities: Basic
Inspection Capabilities:
Has Histograms: true
Has Colormap: false
Has Multi Dimensions : false
Rendering Rule:
Min Scale: 0
Max Scale: 0
Copyright Text: Egan et al. 2023. Association of Multidecadal Repeat-Aridity with Bark Beetle and Wildfire Disturbances from 2000-2022 across conterminous United States. In press: Forest Health Monitoring: National Status, Trends, and Analysis. 2023 National Report.
Service Data Type: esriImageServiceDataTypeGeneric
Min Values: 0
Max Values: 71
Mean Values: 34.56864312927528
Standard Deviation Values: 10.576599273031119
Object ID Field: objectid
Fields:
-
objectid
(
alias: objectid
, type: esriFieldTypeOID
)
-
name
(
length: 200
, alias: name
, type: esriFieldTypeString
)
-
minps
(
alias: minps
, type: esriFieldTypeDouble
)
-
maxps
(
alias: maxps
, type: esriFieldTypeDouble
)
-
lowps
(
alias: lowps
, type: esriFieldTypeDouble
)
-
highps
(
alias: highps
, type: esriFieldTypeDouble
)
-
category
(
alias: category
, type: esriFieldTypeInteger
, Coded Values:
[0: Unknown]
, [1: Primary]
, [2: Overview]
, ...6 more...
)
-
tag
(
length: 100
, alias: tag
, type: esriFieldTypeString
)
-
groupname
(
length: 100
, alias: groupname
, type: esriFieldTypeString
)
-
productname
(
length: 100
, alias: productname
, type: esriFieldTypeString
)
-
centerx
(
alias: centerx
, type: esriFieldTypeDouble
)
-
centery
(
alias: centery
, type: esriFieldTypeDouble
)
-
zorder
(
alias: zorder
, type: esriFieldTypeInteger
)
-
shape
(
alias: shape
, type: esriFieldTypeGeometry
)
Default Mosaic Method: Northwest
Allowed Mosaic Methods: NorthWest,Center,LockRaster,ByAttribute,Nadir,Viewpoint,Seamline,None
SortField:
SortValue: N/A
Mosaic Operator: First
Default Compression Quality: 75
Default Resampling Method: Nearest
Max Record Count: 1000
Max Image Height: 100000
Max Image Width: 100000
Max Download Image Count: 20
Max Mosaic Image Count: 20
Allow Raster Function: true
Allow Copy: true
Allow Analysis: true
Allow Compute TiePoints: false
Supports Statistics: true
Supports Advanced Queries: true
Use StandardizedQueries: true
Raster Type Infos:
Name: Raster Dataset
Description: Supports all ArcGIS Raster Datasets
Help:
Has Raster Attribute Table: false
Edit Fields Info: N/A
Ownership Based AccessControl For Rasters: N/A
Child Resources:
Info
Histograms
Statistics
Key Properties
Legend
Raster Function Infos
Supported Operations:
Export Image
Query
Identify
Measure
Compute Histograms
Compute Statistics Histograms
Get Samples
Compute Class Statistics
Query GPS Info
Find Images
Image to Map
Map to Image
Measure from Image
Image to Map Multiray
Query Boundary
Compute Pixel Location
Compute Angles
Validate
Project