{ "extent": { "ymin": 2607924.0778999999, "xmin": -14244752.3828, "ymax": 6739924.0778999999, "xmax": -7267752.3827999998, "spatialReference": { "latestWkid": 3857, "wkid": 102100 } }, "blockWidth": 2048, "mosaicOperator": "First", "serviceSourceType": "esriImageServiceSourceTypeMosaicDataset", "hasMultidimensions": false, "maxImageWidth": 100000, "maxRecordCount": 1000, "meanValues": [34.56864312927528], "hasColormap": false, "compressionType": "None", "defaultCompressionQuality": 75, "maxValues": [71], "hasHistograms": true, "datasetFormat": "AMD", "maxImageHeight": 100000, "sortField": "", "bandNames": ["Band_1"], "spatialReference": { "latestWkid": 3857, "wkid": 102100 }, "fullExtent": { "ymin": 2607924.0778999999, "xmin": -14244752.3828, "ymax": 6739924.0778999999, "xmax": -7267752.3827999998, "spatialReference": { "latestWkid": 3857, "wkid": 102100 } }, "bandCount": 1, "rasterFunctionInfos": [ { "help": "", "name": "Disturbances_MultidecadalExtremeDry", "description": "Disturbances Multidecadal Extreme Dry RFT" }, { "help": "", "name": "None", "description": "Make a Raster or Raster Dataset into a Function Raster Dataset." } ], "supportsStatistics": true, "sortableFields": "minps,maxps,lowps,highps,centerx,centery,zorder", "minValues": [0], "allowRasterFunction": true, "allowComputeTiePoints": false, "serviceDataType": "esriImageServiceDataTypeGeneric", "supportsAdvancedQueries": true, "maxDownloadSizeLimit": 2048, "currentVersion": 12, "sortValue": null, "objectIdField": "objectid", "blockHeight": 256, "initialExtent": { "ymin": 2607924.0778999999, "xmin": -14244752.3828, "ymax": 6739924.0778999999, "xmax": -7267752.3827999998, "spatialReference": { "latestWkid": 3857, "wkid": 102100 } }, "pixelSizeX": 1000, "pixelSizeY": 1000, "defaultMosaicMethod": "Northwest", "name": "Weather_Climate/USFS_CRV_Climate_MultidecadalRepeatDrynessExposureIndex", "allowedMosaicMethods": "NorthWest,Center,LockRaster,ByAttribute,Nadir,Viewpoint,Seamline,None", "maxDownloadImageCount": 20, "fields": [ { "domain": null, "name": "objectid", "alias": "objectid", "type": "esriFieldTypeOID" }, { "domain": null, "name": "name", "length": 200, "alias": "name", "type": "esriFieldTypeString" }, { "domain": null, "name": "minps", "alias": "minps", "type": "esriFieldTypeDouble" }, { "domain": null, "name": "maxps", "alias": "maxps", "type": "esriFieldTypeDouble" }, { "domain": null, "name": "lowps", "alias": "lowps", "type": "esriFieldTypeDouble" }, { "domain": null, "name": "highps", "alias": "highps", "type": "esriFieldTypeDouble" }, { "domain": { "splitPolicy": "esriSPTDefaultValue", "name": "MosaicCatalogItemCategoryDomain", "description": "Catalog item categories.", "type": "codedValue", "codedValues": [ { "code": 0, "name": "Unknown" }, { "code": 1, "name": "Primary" }, { "code": 2, "name": "Overview" }, { "code": 3, "name": "Unprocessed Overview" }, { "code": 4, "name": "Partial Overview" }, { "code": 5, "name": "Inactive" }, { "code": 253, "name": "Uploaded" }, { "code": 254, "name": "Incomplete" }, { "code": 255, "name": "Custom" } ], "mergePolicy": "esriMPTDefaultValue" }, "name": "category", "alias": "category", "type": "esriFieldTypeInteger" }, { "domain": null, "name": "tag", "length": 100, "alias": "tag", "type": "esriFieldTypeString" }, { "domain": null, "name": "groupname", "length": 100, "alias": "groupname", "type": "esriFieldTypeString" }, { "domain": null, "name": "productname", "length": 100, "alias": "productname", "type": "esriFieldTypeString" }, { "domain": null, "name": "centerx", "alias": "centerx", "type": "esriFieldTypeDouble" }, { "domain": null, "name": "centery", "alias": "centery", "type": "esriFieldTypeDouble" }, { "domain": null, "name": "zorder", "alias": "zorder", "type": "esriFieldTypeInteger" }, { "domain": null, "name": "shape", "alias": "shape", "type": "esriFieldTypeGeometry" } ], "allowAnalysis": true, "hasRasterAttributeTable": false, "useStandardizedQueries": true, "description": "", "pixelType": "S8", "meanPixelSize": 1000, "exportTilesAllowed": false, "editFieldsInfo": null, "rasterTypeInfos": [{ "help": "", "name": "Raster Dataset", "description": "Supports all ArcGIS Raster Datasets" }], "defaultResamplingMethod": "Nearest", "itemAccess": false, "minScale": 0, "serviceProperties": "NorthWest<\/MosaicMethod>First<\/MosaicOperator>true<\/SortAscending><\/LockImageID>name<\/TileOrderField>0<\/TileOrderBase>600.000000<\/AvgImageSpacingX>300.000000<\/AvgImageSpacingY>0.0<\/ViewPointX>0.0<\/ViewPointY>0.0<\/ViewPointDefShiftX>0.0<\/ViewPointDefShiftY>None<\/CompressionMethod>75<\/CompressionQuality>0.010000<\/CompressionTolerance>Nearest<\/SamplingMethod><\/ImageServiceProperties><\/ImageServer>", "advancedQueryCapabilities": { "supportsStatistics": true, "supportsSqlExpression": true, "supportsOrderBy": true, "useStandardizedQueries": true, "supportsPagination": true, "supportsDistinct": true }, "serviceItemId": "bab6fc9a4c2142a1b2f009993c3df56d", "capabilities": "Image,Metadata,Catalog,Mensuration", "maxScale": 0, "stdvValues": [10.576599273031119], "allowedFields": "name,minps,maxps,lowps,highps,tag,groupname,productname,centerx,centery,zorder", "minPixelSize": 0, "sortAscending": true, "maxMosaicImageCount": 20, "inspectionCapabilities": "", "maxPixelSize": 0, "uncompressedSize": 28828964, "serviceDescription": "

Multidecadal Repeat-Aridity Exposure Index (MRAEI). This dataset depicts spatial locations that are prone to reoccurrence of atmospheric precipitation levels below the long-term average from 1948-2021 during the warm season (May-September). Arid climatic conditions during the warm season have been identified to predispose forested ecosystems to disturbance with impacts to wildfire area burned and enhance forest vulnerability to bark beetle infestations (Holden et al. 2018 <\/SPAN>https://www.pnas.org/doi/10.1073/pnas.1802316115<\/SPAN><\/A>; Egan et al. 2023, in press). <\/SPAN><\/P>
The MRAEI is a climate-based indicator that represents locations that have experienced repeat-aridity during warm season throughout the long-term dry cycle that has impacted western U.S. from 2000-2021. This dataset was derived from the standardized precipitation index (SPI; Guttman 1999: <\/SPAN>https://drought.unl.edu/archive/Documents/NDMC/Workshops/136/Ref/SPI_Guttman.pdf<\/SPAN><\/A>; McKee et al. 1993 <\/SPAN>https://www.droughtmanagement.info/literature/AMS_Relationship_Drought_Frequency_Duration_Time_Scales_1993.pdf<\/SPAN><\/A>) that was calculated at 4 km2 resolution, respectively for each of 481k grid cells across the conterminous U.S., using the Parameter-elevation with independent slope model dataset (PRISM, Daly et al. 1994) and normalized across 1948-2021 period by fitting Gamma distribution, using observations to compute Cumulative Distribution Function (CDF), then evaluating CDF with inverse Gaussian function to derive final SPI anomaly values (Holden and Hoylman 2023 <\/SPAN>https://doi.org/10.5281/zenodo.7921890<\/SPAN><\/A>). Then, the temporal frequency of dry anomalies for each site-specific grid cell was calculated from 2000-2021, scaled by severity of dry anomaly with < -3 SPI severe dry as a baseline, and divided by the baseline to represent cumulative percent (%) of years with severe dry equivalence (Egan et al. 2023, in press)<\/SPAN><\/P>
<\/DIV><\/DIV><\/DIV>", "allowCopy": true, "copyrightText": "Egan et al. 2023. Association of Multidecadal Repeat-Aridity with Bark Beetle and Wildfire Disturbances from 2000-2022 across conterminous United States. In press: Forest Health Monitoring: National Status, Trends, and Analysis. 2023 National Report.", "mensurationCapabilities": "Basic", "ownershipBasedAccessControlForRasters": null }