View In:
ArcGIS JavaScript
ArcGIS Enterprise Map Viewer
ArcGIS Earth
Service Description: This dataset was selected to represent lands that are relatively free from human modification (i.e. natural) and thus supporting areas important for maintaining biodiversity and providing ecosystem services. The degree of human modification models known stressors to ecological systems due to land use and human activities. Major stressor types include: built-up (urban and low-density residential), agriculture, oil and gas production, mining/extraction, power generation, roads/railways, powerlines, logging/harvesting, human intrusions, and air pollution. Both the area (footprint) and intensity of use are represented, and stressors are combined using rigorous mathematical equations to reduce collinearity. The raw values were binned into five classes: very low (i.e. ‘wild’; <0.01), low (0.01-0.1), moderate (0.1-0.4), high (0.4-0.6), and very high (>0.6). The wild category value is based on the average human modification value of all IUCN protected areas 1a, 1b, and 2. The ‘low’ category represents the next lowest level of human modification. The 0.4 and 0.6 cutoffs for the moderate and high human modification categories are based on thresholds derived from percolation theory that relates habitat loss to fragmentation. In addition, these thresholds are consistent with values of "working" landscapes (e.g., intensive agriculture has a value of 0.5). For cartographic purposes, the classes were smoothed using a moving window radius of 1 mile. These data provide the basis to measure relative intactness or ecological integrity for species and ecological processes sensitive to human activities. Important additional human activities missing from these data include fire suppression activities and visitation/recreation. Larger areas with low human modification likely require lower relative energy inputs to support native biodiversity than areas that are more modified, except where intensive fire suppression has occurred, invasive species have been introduced, or other uncaptured influences (e.g., drought, erosion) are at play. These data are often also used as a primary factor to develop a resistance surface used for connectivity modeling (see Belote connectivity data), though doing so requires specific constraints and interpretations of these data. More information: https://essd.copernicus.org/articles/12/1953/2020/essd-12-1953-2020.html
Name: Weather_Climate/USFS_CRV_Climate_HumanModification
Description:
Single Fused Map Cache: false
Extent:
XMin: -1.388853E7
YMin: 2816605.992200002
XMax: -7452810.0
YMax: 6340375.992200002
Spatial Reference: 102100
(3857)
LatestVCSWkid(0)
Initial Extent:
XMin: -1.388853E7
YMin: 2816605.992200002
XMax: -7452810.0
YMax: 6340375.992200002
Spatial Reference: 102100
(3857)
LatestVCSWkid(0)
Full Extent:
XMin: -1.388853E7
YMin: 2816605.992200002
XMax: -7452810.0
YMax: 6340375.992200002
Spatial Reference: 102100
(3857)
LatestVCSWkid(0)
Pixel Size X: 270.0
Pixel Size Y: 270.0
Band Count: 1
Pixel Type: U8
RasterFunction Infos: {"rasterFunctionInfos": [
{
"help": "",
"name": "CRV_Climate_HumanModification",
"description": "CRV_Climate_HumanModification RFT"
},
{
"help": "",
"name": "None",
"description": "Make a Raster or Raster Dataset into a Function Raster Dataset."
}
]}
Mensuration Capabilities: Basic
Inspection Capabilities:
Has Histograms: true
Has Colormap: false
Has Multi Dimensions : false
Rendering Rule:
Min Scale: 0
Max Scale: 0
Copyright Text: Theobald, D. M., Kennedy, C., Chen, B., Oakleaf, J., Baruch-Mordo, S., and Kiesecker, J.: Earth transformed: detailed mapping of global human modification from 1990 to 2017, Earth Syst. Sci. Data, 12, 1953–1972, https://doi.org/10.5194/essd-12-1953-2020, 2020.
Service Data Type: esriImageServiceDataTypeGeneric
Min Values: 0
Max Values: 4
Mean Values: 2.002343983132703
Standard Deviation Values: 1.3895717614348986
Object ID Field: objectid
Fields:
-
objectid
(
alias: objectid
, type: esriFieldTypeOID
)
-
name
(
length: 200
, alias: name
, type: esriFieldTypeString
)
-
minps
(
alias: minps
, type: esriFieldTypeDouble
)
-
maxps
(
alias: maxps
, type: esriFieldTypeDouble
)
-
lowps
(
alias: lowps
, type: esriFieldTypeDouble
)
-
highps
(
alias: highps
, type: esriFieldTypeDouble
)
-
category
(
alias: category
, type: esriFieldTypeInteger
, Coded Values:
[0: Unknown]
, [1: Primary]
, [2: Overview]
, ...6 more...
)
-
tag
(
length: 100
, alias: tag
, type: esriFieldTypeString
)
-
groupname
(
length: 100
, alias: groupname
, type: esriFieldTypeString
)
-
productname
(
length: 100
, alias: productname
, type: esriFieldTypeString
)
-
centerx
(
alias: centerx
, type: esriFieldTypeDouble
)
-
centery
(
alias: centery
, type: esriFieldTypeDouble
)
-
zorder
(
alias: zorder
, type: esriFieldTypeInteger
)
-
shape
(
alias: shape
, type: esriFieldTypeGeometry
)
Default Mosaic Method: Northwest
Allowed Mosaic Methods: NorthWest,Center,LockRaster,ByAttribute,Nadir,Viewpoint,Seamline,None
SortField:
SortValue: N/A
Mosaic Operator: First
Default Compression Quality: 75
Default Resampling Method: Nearest
Max Record Count: 1000
Max Image Height: 100000
Max Image Width: 100000
Max Download Image Count: 20
Max Mosaic Image Count: 20
Allow Raster Function: true
Allow Copy: true
Allow Analysis: true
Allow Compute TiePoints: false
Supports Statistics: true
Supports Advanced Queries: true
Use StandardizedQueries: true
Raster Type Infos:
Name: Raster Dataset
Description: Supports all ArcGIS Raster Datasets
Help:
Has Raster Attribute Table: false
Edit Fields Info: N/A
Ownership Based AccessControl For Rasters: N/A
Child Resources:
Info
Histograms
Statistics
Key Properties
Legend
Raster Function Infos
Supported Operations:
Export Image
Query
Identify
Measure
Compute Histograms
Compute Statistics Histograms
Get Samples
Compute Class Statistics
Query GPS Info
Find Images
Image to Map
Map to Image
Measure from Image
Image to Map Multiray
Query Boundary
Compute Pixel Location
Compute Angles
Validate
Project