{ "extent": { "ymin": 2816605.9922000021, "xmin": -13888530, "ymax": 6340375.9922000021, "xmax": -7452810, "spatialReference": { "latestWkid": 3857, "wkid": 102100 } }, "blockWidth": 2048, "mosaicOperator": "First", "serviceSourceType": "esriImageServiceSourceTypeMosaicDataset", "hasMultidimensions": false, "maxImageWidth": 100000, "maxRecordCount": 1000, "meanValues": [2.002343983132703], "hasColormap": false, "compressionType": "None", "defaultCompressionQuality": 75, "maxValues": [4], "hasHistograms": true, "datasetFormat": "AMD", "maxImageHeight": 100000, "sortField": "", "bandNames": ["Band_1"], "spatialReference": { "latestWkid": 3857, "wkid": 102100 }, "fullExtent": { "ymin": 2816605.9922000021, "xmin": -13888530, "ymax": 6340375.9922000021, "xmax": -7452810, "spatialReference": { "latestWkid": 3857, "wkid": 102100 } }, "bandCount": 1, "rasterFunctionInfos": [ { "help": "", "name": "CRV_Climate_HumanModification", "description": "CRV_Climate_HumanModification RFT" }, { "help": "", "name": "None", "description": "Make a Raster or Raster Dataset into a Function Raster Dataset." } ], "supportsStatistics": true, "sortableFields": "minps,maxps,lowps,highps,centerx,centery,zorder", "minValues": [0], "allowRasterFunction": true, "allowComputeTiePoints": false, "serviceDataType": "esriImageServiceDataTypeGeneric", "supportsAdvancedQueries": true, "maxDownloadSizeLimit": 2048, "currentVersion": 12, "sortValue": null, "objectIdField": "objectid", "blockHeight": 256, "initialExtent": { "ymin": 2816605.9922000021, "xmin": -13888530, "ymax": 6340375.9922000021, "xmax": -7452810, "spatialReference": { "latestWkid": 3857, "wkid": 102100 } }, "pixelSizeX": 270, "pixelSizeY": 270, "defaultMosaicMethod": "Northwest", "name": "Weather_Climate/USFS_CRV_Climate_HumanModification", "allowedMosaicMethods": "NorthWest,Center,LockRaster,ByAttribute,Nadir,Viewpoint,Seamline,None", "maxDownloadImageCount": 20, "fields": [ { "domain": null, "name": "objectid", "alias": "objectid", "type": "esriFieldTypeOID" }, { "domain": null, "name": "name", "length": 200, "alias": "name", "type": "esriFieldTypeString" }, { "domain": null, "name": "minps", "alias": "minps", "type": "esriFieldTypeDouble" }, { "domain": null, "name": "maxps", "alias": "maxps", "type": "esriFieldTypeDouble" }, { "domain": null, "name": "lowps", "alias": "lowps", "type": "esriFieldTypeDouble" }, { "domain": null, "name": "highps", "alias": "highps", "type": "esriFieldTypeDouble" }, { "domain": { "splitPolicy": "esriSPTDefaultValue", "name": "MosaicCatalogItemCategoryDomain", "description": "Catalog item categories.", "type": "codedValue", "codedValues": [ { "code": 0, "name": "Unknown" }, { "code": 1, "name": "Primary" }, { "code": 2, "name": "Overview" }, { "code": 3, "name": "Unprocessed Overview" }, { "code": 4, "name": "Partial Overview" }, { "code": 5, "name": "Inactive" }, { "code": 253, "name": "Uploaded" }, { "code": 254, "name": "Incomplete" }, { "code": 255, "name": "Custom" } ], "mergePolicy": "esriMPTDefaultValue" }, "name": "category", "alias": "category", "type": "esriFieldTypeInteger" }, { "domain": null, "name": "tag", "length": 100, "alias": "tag", "type": "esriFieldTypeString" }, { "domain": null, "name": "groupname", "length": 100, "alias": "groupname", "type": "esriFieldTypeString" }, { "domain": null, "name": "productname", "length": 100, "alias": "productname", "type": "esriFieldTypeString" }, { "domain": null, "name": "centerx", "alias": "centerx", "type": "esriFieldTypeDouble" }, { "domain": null, "name": "centery", "alias": "centery", "type": "esriFieldTypeDouble" }, { "domain": null, "name": "zorder", "alias": "zorder", "type": "esriFieldTypeInteger" }, { "domain": null, "name": "shape", "alias": "shape", "type": "esriFieldTypeGeometry" } ], "allowAnalysis": true, "hasRasterAttributeTable": false, "useStandardizedQueries": true, "description": "", "pixelType": "U8", "meanPixelSize": 270, "exportTilesAllowed": false, "editFieldsInfo": null, "rasterTypeInfos": [{ "help": "", "name": "Raster Dataset", "description": "Supports all ArcGIS Raster Datasets" }], "defaultResamplingMethod": "Nearest", "itemAccess": false, "minScale": 0, "serviceProperties": "NorthWest<\/MosaicMethod>First<\/MosaicOperator>true<\/SortAscending><\/LockImageID>name<\/TileOrderField>0<\/TileOrderBase>600.000000<\/AvgImageSpacingX>300.000000<\/AvgImageSpacingY>0.0<\/ViewPointX>0.0<\/ViewPointY>0.0<\/ViewPointDefShiftX>0.0<\/ViewPointDefShiftY>None<\/CompressionMethod>75<\/CompressionQuality>0.010000<\/CompressionTolerance>Nearest<\/SamplingMethod><\/ImageServiceProperties><\/ImageServer>", "advancedQueryCapabilities": { "supportsStatistics": true, "supportsSqlExpression": true, "supportsOrderBy": true, "useStandardizedQueries": true, "supportsPagination": true, "supportsDistinct": true }, "serviceItemId": "068715cbae3e4e67bc6c50553d94240b", "capabilities": "Image,Metadata,Catalog,Mensuration", "maxScale": 0, "stdvValues": [1.3895717614348986], "allowedFields": "name,minps,maxps,lowps,highps,tag,groupname,productname,centerx,centery,zorder", "minPixelSize": 0, "sortAscending": true, "maxMosaicImageCount": 20, "inspectionCapabilities": "", "maxPixelSize": 0, "uncompressedSize": 311083636, "serviceDescription": "

This dataset was selected to represent lands that are relatively free from human modification (i.e. natural) and thus supporting areas important for maintaining biodiversity and providing ecosystem services. The degree of human modification models known stressors to ecological systems due to land use and human activities. Major stressor types include: built-up (urban and low-density residential), agriculture, oil and gas production, mining/extraction, power generation, roads/railways, powerlines, logging/harvesting, human intrusions, and air pollution. Both the area (footprint) and intensity of use are represented, and stressors are combined using rigorous mathematical equations to reduce collinearity. The raw values were binned into five classes: very low (i.e. \u2018wild\u2019; <0.01), low (0.01-0.1), moderate (0.1-0.4), high (0.4-0.6), and very high (>0.6). The wild category value is based on the average human modification value of all IUCN protected areas 1a, 1b, and 2. The \u2018low\u2019 category represents the next lowest level of human modification. The 0.4 and 0.6 cutoffs for the moderate and high human modification categories are based on thresholds derived from percolation theory that relates habitat loss to fragmentation. In addition, these thresholds are consistent with values of \"working\" landscapes (e.g., intensive agriculture has a value of 0.5). For cartographic purposes, the classes were smoothed using a moving window radius of 1 mile. These data provide the basis to measure relative intactness or ecological integrity for species and ecological processes sensitive to human activities. Important additional human activities missing from these data include fire suppression activities and visitation/recreation. Larger areas with low human modification likely require lower relative energy inputs to support native biodiversity than areas that are more modified, except where intensive fire suppression has occurred, invasive species have been introduced, or other uncaptured influences (e.g., drought, erosion) are at play. These data are often also used as a primary factor to develop a resistance surface used for connectivity modeling (see Belote connectivity data), though doing so requires specific constraints and interpretations of these data. More information: <\/SPAN>https://essd.copernicus.org/articles/12/1953/2020/essd-12-1953-2020.html<\/SPAN><\/A><\/P>
<\/P><\/DIV><\/DIV><\/DIV>", "allowCopy": true, "copyrightText": "Theobald, D. M., Kennedy, C., Chen, B., Oakleaf, J., Baruch-Mordo, S., and Kiesecker, J.: Earth transformed: detailed mapping of global human modification from 1990 to 2017, Earth Syst. Sci. Data, 12, 1953\u20131972, https://doi.org/10.5194/essd-12-1953-2020, 2020.", "mensurationCapabilities": "Basic", "ownershipBasedAccessControlForRasters": null }