View In:
ArcGIS JavaScript
ArcGIS Enterprise Map Viewer
ArcGIS Earth
Service Description: Test service for a Weighted Raster Overlay.
This Suitability model was used in the configuration of the Bourbon Oak Availability Tool.
The suitability model was configured using the Bourbon Barrel WRO, which was manually created by mosaicking image services, that may be applied as selectable suitability criteria within the suitability modeler. Image services mosaicked for suitability criteria include:
Bourbon Oak Species AGB
Name: Vegetation/USFS_FIA_BIGMAP_BourbonOak_WRO
Description:
Single Fused Map Cache: false
Extent:
XMin: -1.524477254314186E7
YMin: 2480514.57121184
XMax: -5033762.5431418605
YMax: 7317264.57121184
Spatial Reference: 102100
(3857)
LatestVCSWkid(0)
Initial Extent:
XMin: -1.524477254314186E7
YMin: 2480514.57121184
XMax: -5033762.5431418605
YMax: 7317264.57121184
Spatial Reference: 102100
(3857)
LatestVCSWkid(0)
Full Extent:
XMin: -1.524477254314186E7
YMin: 2480514.57121184
XMax: -5033762.5431418605
YMax: 7317264.57121184
Spatial Reference: 102100
(3857)
LatestVCSWkid(0)
Pixel Size X: 30.0
Pixel Size Y: 30.0
Band Count: 1
Pixel Type: U8
RasterFunction Infos: {"rasterFunctionInfos": [{
"help": "",
"name": "None",
"description": ""
}]}
Mensuration Capabilities: Basic
Inspection Capabilities:
Has Histograms: true
Has Colormap: false
Has Multi Dimensions : false
Rendering Rule:
Min Scale: 0
Max Scale: 0
Copyright Text:
Service Data Type: esriImageServiceDataTypeGeneric
Min Values: 0
Max Values: 15
Mean Values: 4.7093157333656439
Standard Deviation Values: 5.9799692173064507
Object ID Field: objectid
Fields:
-
objectid
(
alias: objectid
, type: esriFieldTypeOID
)
-
name
(
length: 200
, alias: name
, type: esriFieldTypeString
)
-
minps
(
alias: minps
, type: esriFieldTypeDouble
)
-
maxps
(
alias: maxps
, type: esriFieldTypeDouble
)
-
lowps
(
alias: lowps
, type: esriFieldTypeDouble
)
-
highps
(
alias: highps
, type: esriFieldTypeDouble
)
-
category
(
alias: category
, type: esriFieldTypeInteger
, Coded Values:
[0: Unknown]
, [1: Primary]
, [2: Overview]
, ...6 more...
)
-
shape
(
alias: shape
, type: esriFieldTypeGeometry
)
-
title
(
length: 1024
, alias: title
, type: esriFieldTypeString
)
-
description
(
length: 1024
, alias: description
, type: esriFieldTypeString
)
-
url
(
length: 1024
, alias: url
, type: esriFieldTypeString
)
-
inputranges
(
length: 2048
, alias: inputranges
, type: esriFieldTypeString
)
-
nodataranges
(
length: 256
, alias: nodataranges
, type: esriFieldTypeString
)
-
rangelabels
(
length: 1024
, alias: rangelabels
, type: esriFieldTypeString
)
-
nodatarangelabels
(
length: 1024
, alias: nodatarangelabels
, type: esriFieldTypeString
)
-
outputvalues
(
length: 256
, alias: outputvalues
, type: esriFieldTypeString
)
-
metadata
(
length: 1024
, alias: metadata
, type: esriFieldTypeString
)
-
dataset_id
(
length: 1024
, alias: dataset_id
, type: esriFieldTypeString
)
Default Mosaic Method: Northwest
Allowed Mosaic Methods: NorthWest,Center,LockRaster,ByAttribute,Nadir,Viewpoint,Seamline,None
SortField:
SortValue: N/A
Mosaic Operator: First
Default Compression Quality: 75
Default Resampling Method: Nearest
Max Record Count: 1000
Max Image Height: 4100
Max Image Width: 15000
Max Download Image Count: 20
Max Mosaic Image Count: 20
Allow Raster Function: true
Allow Copy: true
Allow Analysis: true
Allow Compute TiePoints: false
Supports Statistics: true
Supports Advanced Queries: true
Use StandardizedQueries: true
Raster Type Infos:
Name: Raster Dataset
Description: Supports all ArcGIS Raster Datasets
Help:
Has Raster Attribute Table: false
Edit Fields Info: N/A
Ownership Based AccessControl For Rasters: N/A
Child Resources:
Info
Histograms
Statistics
Key Properties
Legend
Raster Function Infos
Supported Operations:
Export Image
Query
Identify
Measure
Compute Histograms
Compute Statistics Histograms
Get Samples
Compute Class Statistics
Query GPS Info
Find Images
Image to Map
Map to Image
Measure from Image
Image to Map Multiray
Query Boundary
Compute Pixel Location
Compute Angles
Validate
Project