{ "extent": { "ymin": 2480514.57121184, "xmin": -15244772.543141861, "ymax": 7317264.57121184, "xmax": -5033762.5431418605, "spatialReference": { "latestWkid": 3857, "wkid": 102100 } }, "blockWidth": 2048, "mosaicOperator": "First", "serviceSourceType": "esriImageServiceSourceTypeMosaicDataset", "hasMultidimensions": false, "maxImageWidth": 15000, "maxRecordCount": 1000, "meanValues": [4.7093157333656439], "hasColormap": false, "compressionType": "None", "defaultCompressionQuality": 75, "maxValues": [15], "hasHistograms": true, "datasetFormat": "AMD", "maxImageHeight": 4100, "sortField": "", "bandNames": ["Band_1"], "spatialReference": { "latestWkid": 3857, "wkid": 102100 }, "fullExtent": { "ymin": 2480514.57121184, "xmin": -15244772.543141861, "ymax": 7317264.57121184, "xmax": -5033762.5431418605, "spatialReference": { "latestWkid": 3857, "wkid": 102100 } }, "bandCount": 1, "rasterFunctionInfos": [{ "help": "", "name": "None", "description": "" }], "supportsStatistics": true, "sortableFields": "minps,maxps,lowps,highps", "minValues": [0], "allowRasterFunction": true, "allowComputeTiePoints": false, "serviceDataType": "esriImageServiceDataTypeGeneric", "supportsAdvancedQueries": true, "maxDownloadSizeLimit": 2048, "currentVersion": 12, "sortValue": null, "objectIdField": "objectid", "blockHeight": 256, "initialExtent": { "ymin": 2480514.57121184, "xmin": -15244772.543141861, "ymax": 7317264.57121184, "xmax": -5033762.5431418605, "spatialReference": { "latestWkid": 3857, "wkid": 102100 } }, "pixelSizeX": 30, "pixelSizeY": 30, "defaultMosaicMethod": "Northwest", "name": "Vegetation/USFS_FIA_BIGMAP_BourbonOak_WRO", "allowedMosaicMethods": "NorthWest,Center,LockRaster,ByAttribute,Nadir,Viewpoint,Seamline,None", "maxDownloadImageCount": 20, "fields": [ { "domain": null, "name": "objectid", "alias": "objectid", "type": "esriFieldTypeOID" }, { "domain": null, "name": "name", "length": 200, "alias": "name", "type": "esriFieldTypeString" }, { "domain": null, "name": "minps", "alias": "minps", "type": "esriFieldTypeDouble" }, { "domain": null, "name": "maxps", "alias": "maxps", "type": "esriFieldTypeDouble" }, { "domain": null, "name": "lowps", "alias": "lowps", "type": "esriFieldTypeDouble" }, { "domain": null, "name": "highps", "alias": "highps", "type": "esriFieldTypeDouble" }, { "domain": { "splitPolicy": "esriSPTDefaultValue", "name": "MosaicCatalogItemCategoryDomain", "description": "Catalog item categories.", "type": "codedValue", "codedValues": [ { "code": 0, "name": "Unknown" }, { "code": 1, "name": "Primary" }, { "code": 2, "name": "Overview" }, { "code": 3, "name": "Unprocessed Overview" }, { "code": 4, "name": "Partial Overview" }, { "code": 5, "name": "Inactive" }, { "code": 253, "name": "Uploaded" }, { "code": 254, "name": "Incomplete" }, { "code": 255, "name": "Custom" } ], "mergePolicy": "esriMPTDefaultValue" }, "name": "category", "alias": "category", "type": "esriFieldTypeInteger" }, { "domain": null, "name": "shape", "alias": "shape", "type": "esriFieldTypeGeometry" }, { "domain": null, "name": "title", "length": 1024, "alias": "title", "type": "esriFieldTypeString" }, { "domain": null, "name": "description", "length": 1024, "alias": "description", "type": "esriFieldTypeString" }, { "domain": null, "name": "url", "length": 1024, "alias": "url", "type": "esriFieldTypeString" }, { "domain": null, "name": "inputranges", "length": 2048, "alias": "inputranges", "type": "esriFieldTypeString" }, { "domain": null, "name": "nodataranges", "length": 256, "alias": "nodataranges", "type": "esriFieldTypeString" }, { "domain": null, "name": "rangelabels", "length": 1024, "alias": "rangelabels", "type": "esriFieldTypeString" }, { "domain": null, "name": "nodatarangelabels", "length": 1024, "alias": "nodatarangelabels", "type": "esriFieldTypeString" }, { "domain": null, "name": "outputvalues", "length": 256, "alias": "outputvalues", "type": "esriFieldTypeString" }, { "domain": null, "name": "metadata", "length": 1024, "alias": "metadata", "type": "esriFieldTypeString" }, { "domain": null, "name": "dataset_id", "length": 1024, "alias": "dataset_id", "type": "esriFieldTypeString" } ], "allowAnalysis": true, "hasRasterAttributeTable": false, "useStandardizedQueries": true, "description": "", "pixelType": "U8", "meanPixelSize": 30, "exportTilesAllowed": false, "editFieldsInfo": null, "rasterTypeInfos": [{ "help": "", "name": "Raster Dataset", "description": "Supports all ArcGIS Raster Datasets" }], "defaultResamplingMethod": "Nearest", "itemAccess": false, "minScale": 0, "serviceProperties": "NorthWest<\/MosaicMethod>First<\/MosaicOperator>true<\/SortAscending><\/LockImageID>name<\/TileOrderField>0<\/TileOrderBase>600.000000<\/AvgImageSpacingX>300.000000<\/AvgImageSpacingY>0.0<\/ViewPointX>0.0<\/ViewPointY>0.0<\/ViewPointDefShiftX>0.0<\/ViewPointDefShiftY>None<\/CompressionMethod>75<\/CompressionQuality>0.010000<\/CompressionTolerance>Nearest<\/SamplingMethod><\/ImageServiceProperties><\/ImageServer>", "advancedQueryCapabilities": { "supportsStatistics": true, "supportsSqlExpression": true, "supportsOrderBy": true, "useStandardizedQueries": true, "supportsPagination": true, "supportsDistinct": true }, "serviceItemId": "a914d46bf9c74035bdca83bd5df065b1", "capabilities": "Image,Metadata,Catalog,Mensuration", "maxScale": 0, "stdvValues": [5.9799692173064507], "allowedFields": "name,minps,maxps,lowps,highps,title,description,url,inputranges,nodataranges,rangelabels,nodatarangelabels,outputvalues,metadata,dataset_id", "minPixelSize": 0, "sortAscending": true, "maxMosaicImageCount": 20, "inspectionCapabilities": "", "maxPixelSize": 0, "uncompressedSize": 54875669575, "serviceDescription": "

Test service for a Weighted Raster Overlay.<\/span><\/p>
This Suitability model was used in the configuration of the Bourbon Oak Availability Tool. <\/span><\/p>
The suitability model was configured using the Bourbon Barrel WRO, which was manually created by mosaicking image services, that may be applied as selectable suitability criteria within the suitability modeler. Image services mosaicked for suitability criteria include:<\/span><\/p>
Bourbon Oak Species AGB<\/span><\/p>
  • Mill Density<\/span><\/p><\/li>
  • Site Productivity <\/span><\/p><\/li>
  • Stand Class Size<\/span><\/p><\/li>
  • Wildland Urban Interface<\/span><\/p><\/li>
  • Forest Importance to Drinking Water<\/span><\/p><\/li>
  • Forest Ownership<\/span><\/p><\/li><\/ul><\/div><\/div><\/div>", "allowCopy": true, "copyrightText": "", "mensurationCapabilities": "Basic", "ownershipBasedAccessControlForRasters": null }