View In:
ArcGIS JavaScript
ArcGIS Enterprise Map Viewer
ArcGIS Earth
Service Description: This dataset portrays FIA National Forest Type Groups. Each group is a subset of the National Forest Type dataset which portrays 28 Forest Type Groups across the contiguous United States. Forest Type Groups are aggregations of forest types into logical ecological groupings. These data were derived from MODIS composite images from the 2002 and 2003 growing seasons in combination with nearly 100 other geospatial data layers, including elevation, slope, aspect, ecoregions, and PRISM climate data.
Name: Vegetation/USFS_EDW_FIA_ForestAtlas_TreeSpecies_109
Description:
Single Fused Map Cache: false
Extent:
XMin: -1.4244266411E7
YMin: 2608765.413900003
XMax: -7264766.411
YMax: 6737015.413900003
Spatial Reference: 102100
(3857)
LatestVCSWkid(0)
Initial Extent:
XMin: -1.4244266411E7
YMin: 2608765.413900003
XMax: -7264766.411
YMax: 6737015.413900003
Spatial Reference: 102100
(3857)
LatestVCSWkid(0)
Full Extent:
XMin: -1.4244266411E7
YMin: 2608765.413900003
XMax: -7264766.411
YMax: 6737015.413900003
Spatial Reference: 102100
(3857)
LatestVCSWkid(0)
Pixel Size X: 250.0
Pixel Size Y: 250.0
Band Count: 1
Pixel Type: U1
RasterFunction Infos: {"rasterFunctionInfos": [
{
"help": "",
"name": "None",
"description": "Make a Raster or Raster Dataset into a Function Raster Dataset."
},
{
"help": "",
"name": "aldermaple",
"description": "A raster function template."
},
{
"help": "",
"name": "aspenbirch",
"description": "A raster function template."
},
{
"help": "",
"name": "californiamixedconifer",
"description": "A raster function template."
},
{
"help": "",
"name": "elmashcottonwood",
"description": "A raster function template."
},
{
"help": "",
"name": "exotichardwoods",
"description": "A raster function template."
},
{
"help": "",
"name": "exoticsoftwoods",
"description": "A raster function template."
},
{
"help": "",
"name": "hemlocksitkaspruce",
"description": "A raster function template."
},
{
"help": "",
"name": "lodgepolepine",
"description": "A raster function template."
},
{
"help": "",
"name": "maplebeechbirch",
"description": "A raster function template."
},
{
"help": "",
"name": "oakgumcypress",
"description": "A raster function template."
},
{
"help": "",
"name": "oakpine",
"description": "A raster function template."
},
{
"help": "",
"name": "otherwesternhardwoods",
"description": "A raster function template."
},
{
"help": "",
"name": "otherwesternsoftwood",
"description": "A raster function template."
},
{
"help": "",
"name": "redwood",
"description": "A raster function template."
},
{
"help": "",
"name": "tanoaklaurel",
"description": "A raster function template."
},
{
"help": "",
"name": "tropicalhardwoods",
"description": "A raster function template."
},
{
"help": "",
"name": "westernlarch",
"description": "A raster function template."
},
{
"help": "",
"name": "westernoak",
"description": "A raster function template."
},
{
"help": "",
"name": "DouglasFir",
"description": "A raster function template."
},
{
"help": "",
"name": "FirSpruceMountainMemlock",
"description": "A raster function template."
},
{
"help": "",
"name": "Loblolly_Shortleaf_Pine",
"description": "A raster function template."
},
{
"help": "",
"name": "Longleaf_Slash_Pine",
"description": "A raster function template."
},
{
"help": "",
"name": "Oak_Hickory",
"description": "A raster function template."
},
{
"help": "",
"name": "PinyonJuniper",
"description": "A raster function template."
},
{
"help": "",
"name": "PonderosaPine",
"description": "A raster function template."
},
{
"help": "",
"name": "Spruce_Fir",
"description": "A raster function template."
},
{
"help": "",
"name": "WesternWhitePine",
"description": "A raster function template."
},
{
"help": "",
"name": "White_Red_Jack_Pine",
"description": "A raster function template."
}
]}
Mensuration Capabilities: Basic
Inspection Capabilities:
Has Histograms: true
Has Colormap: false
Has Multi Dimensions : true
Rendering Rule:
Min Scale: 0
Max Scale: 0
Copyright Text: Wilson, Barry T., Lister, Andrew J., Riemann, Rachel I., and Griffith, Douglas M. ; Eyre, F.H. ed. 1980. Forest cover types of the United States and Canada. Washington DC: Society of American Foresters; 148 p.
Service Data Type: esriImageServiceDataTypeScientific
Min Values: 1
Max Values: 1
Mean Values: 1
Standard Deviation Values: 0
Object ID Field: objectid
Fields:
-
objectid
(
alias: objectid
, type: esriFieldTypeOID
)
-
name
(
length: 200
, alias: name
, type: esriFieldTypeString
)
-
minps
(
alias: minps
, type: esriFieldTypeDouble
)
-
maxps
(
alias: maxps
, type: esriFieldTypeDouble
)
-
lowps
(
alias: lowps
, type: esriFieldTypeDouble
)
-
highps
(
alias: highps
, type: esriFieldTypeDouble
)
-
category
(
alias: category
, type: esriFieldTypeInteger
, Coded Values:
[0: Unknown]
, [1: Primary]
, [2: Overview]
, ...6 more...
)
-
tag
(
length: 100
, alias: tag
, type: esriFieldTypeString
)
-
groupname
(
length: 100
, alias: groupname
, type: esriFieldTypeString
)
-
productname
(
length: 100
, alias: productname
, type: esriFieldTypeString
)
-
centerx
(
alias: centerx
, type: esriFieldTypeDouble
)
-
centery
(
alias: centery
, type: esriFieldTypeDouble
)
-
zorder
(
alias: zorder
, type: esriFieldTypeInteger
)
-
shape
(
alias: shape
, type: esriFieldTypeGeometry
)
-
dimensions
(
length: 50
, alias: dimensions
, type: esriFieldTypeString
)
-
year
(
alias: year
, type: esriFieldTypeSmallInteger
)
-
sppcode
(
alias: sppcode
, type: esriFieldTypeSmallInteger
)
Default Mosaic Method: None
Allowed Mosaic Methods: None,NorthWest,Center,LockRaster,ByAttribute,Nadir,Viewpoint,Seamline
SortField: N/A
SortValue: N/A
Mosaic Operator: First
Default Compression Quality: 75
Default Resampling Method: Bilinear
Max Record Count: 1000
Max Image Height: 100000
Max Image Width: 100000
Max Download Image Count: 20
Max Mosaic Image Count: 100
Allow Raster Function: true
Allow Copy: true
Allow Analysis: true
Allow Compute TiePoints: false
Supports Statistics: true
Supports Advanced Queries: true
Use StandardizedQueries: true
Raster Type Infos:
Name: Raster Dataset
Description: Supports all ArcGIS Raster Datasets
Help:
Has Raster Attribute Table: false
Edit Fields Info: N/A
Ownership Based AccessControl For Rasters: N/A
Child Resources:
Info
Histograms
Statistics
Key Properties
Legend
Raster Function Infos
Multidimensional Info
Slices
Supported Operations:
Export Image
Query
Identify
Measure
Compute Histograms
Compute Statistics Histograms
Get Samples
Compute Class Statistics
Query GPS Info
Find Images
Image to Map
Map to Image
Measure from Image
Image to Map Multiray
Query Boundary
Compute Pixel Location
Compute Angles
Validate
Project