{ "extent": { "ymin": 2608765.4139000028, "xmin": -14244266.411, "ymax": 6737015.4139000028, "xmax": -7264766.4110000003, "spatialReference": { "latestWkid": 3857, "wkid": 102100 } }, "blockWidth": 2048, "mosaicOperator": "First", "serviceSourceType": "esriImageServiceSourceTypeMosaicDataset", "hasMultidimensions": true, "maxImageWidth": 100000, "maxRecordCount": 1000, "meanValues": [1], "hasColormap": false, "compressionType": "None", "defaultCompressionQuality": 75, "maxValues": [1], "hasHistograms": true, "datasetFormat": "AMD", "maxImageHeight": 100000, "bandNames": ["Band_1"], "spatialReference": { "latestWkid": 3857, "wkid": 102100 }, "fullExtent": { "ymin": 2608765.4139000028, "xmin": -14244266.411, "ymax": 6737015.4139000028, "xmax": -7264766.4110000003, "spatialReference": { "latestWkid": 3857, "wkid": 102100 } }, "bandCount": 1, "rasterFunctionInfos": [ { "help": "", "name": "None", "description": "Make a Raster or Raster Dataset into a Function Raster Dataset." }, { "help": "", "name": "aldermaple", "description": "A raster function template." }, { "help": "", "name": "aspenbirch", "description": "A raster function template." }, { "help": "", "name": "californiamixedconifer", "description": "A raster function template." }, { "help": "", "name": "elmashcottonwood", "description": "A raster function template." }, { "help": "", "name": "exotichardwoods", "description": "A raster function template." }, { "help": "", "name": "exoticsoftwoods", "description": "A raster function template." }, { "help": "", "name": "hemlocksitkaspruce", "description": "A raster function template." }, { "help": "", "name": "lodgepolepine", "description": "A raster function template." }, { "help": "", "name": "maplebeechbirch", "description": "A raster function template." }, { "help": "", "name": "oakgumcypress", "description": "A raster function template." }, { "help": "", "name": "oakpine", "description": "A raster function template." }, { "help": "", "name": "otherwesternhardwoods", "description": "A raster function template." }, { "help": "", "name": "otherwesternsoftwood", "description": "A raster function template." }, { "help": "", "name": "redwood", "description": "A raster function template." }, { "help": "", "name": "tanoaklaurel", "description": "A raster function template." }, { "help": "", "name": "tropicalhardwoods", "description": "A raster function template." }, { "help": "", "name": "westernlarch", "description": "A raster function template." }, { "help": "", "name": "westernoak", "description": "A raster function template." }, { "help": "", "name": "DouglasFir", "description": "A raster function template." }, { "help": "", "name": "FirSpruceMountainMemlock", "description": "A raster function template." }, { "help": "", "name": "Loblolly_Shortleaf_Pine", "description": "A raster function template." }, { "help": "", "name": "Longleaf_Slash_Pine", "description": "A raster function template." }, { "help": "", "name": "Oak_Hickory", "description": "A raster function template." }, { "help": "", "name": "PinyonJuniper", "description": "A raster function template." }, { "help": "", "name": "PonderosaPine", "description": "A raster function template." }, { "help": "", "name": "Spruce_Fir", "description": "A raster function template." }, { "help": "", "name": "WesternWhitePine", "description": "A raster function template." }, { "help": "", "name": "White_Red_Jack_Pine", "description": "A raster function template." } ], "supportsStatistics": true, "sortableFields": "minps,maxps,lowps,highps,centerx,centery,zorder,year,SppCode", "minValues": [1], "allowRasterFunction": true, "allowComputeTiePoints": false, "serviceDataType": "esriImageServiceDataTypeScientific", "supportsAdvancedQueries": true, "maxDownloadSizeLimit": 2048, "currentVersion": 12, "objectIdField": "objectid", "blockHeight": 256, "initialExtent": { "ymin": 2608765.4139000028, "xmin": -14244266.411, "ymax": 6737015.4139000028, "xmax": -7264766.4110000003, "spatialReference": { "latestWkid": 3857, "wkid": 102100 } }, "pixelSizeX": 250, "pixelSizeY": 250, "defaultMosaicMethod": "None", "name": "Vegetation/USFS_EDW_FIA_ForestAtlas_TreeSpecies_109", "allowedMosaicMethods": "None,NorthWest,Center,LockRaster,ByAttribute,Nadir,Viewpoint,Seamline", "maxDownloadImageCount": 20, "fields": [ { "domain": null, "name": "objectid", "alias": "objectid", "type": "esriFieldTypeOID" }, { "domain": null, "name": "name", "length": 200, "alias": "name", "type": "esriFieldTypeString" }, { "domain": null, "name": "minps", "alias": "minps", "type": "esriFieldTypeDouble" }, { "domain": null, "name": "maxps", "alias": "maxps", "type": "esriFieldTypeDouble" }, { "domain": null, "name": "lowps", "alias": "lowps", "type": "esriFieldTypeDouble" }, { "domain": null, "name": "highps", "alias": "highps", "type": "esriFieldTypeDouble" }, { "domain": { "splitPolicy": "esriSPTDefaultValue", "name": "MosaicCatalogItemCategoryDomain", "description": "Catalog item categories.", "type": "codedValue", "codedValues": [ { "code": 0, "name": "Unknown" }, { "code": 1, "name": "Primary" }, { "code": 2, "name": "Overview" }, { "code": 3, "name": "Unprocessed Overview" }, { "code": 4, "name": "Partial Overview" }, { "code": 5, "name": "Inactive" }, { "code": 253, "name": "Uploaded" }, { "code": 254, "name": "Incomplete" }, { "code": 255, "name": "Custom" } ], "mergePolicy": "esriMPTDefaultValue" }, "name": "category", "alias": "category", "type": "esriFieldTypeInteger" }, { "domain": null, "name": "tag", "length": 100, "alias": "tag", "type": "esriFieldTypeString" }, { "domain": null, "name": "groupname", "length": 100, "alias": "groupname", "type": "esriFieldTypeString" }, { "domain": null, "name": "productname", "length": 100, "alias": "productname", "type": "esriFieldTypeString" }, { "domain": null, "name": "centerx", "alias": "centerx", "type": "esriFieldTypeDouble" }, { "domain": null, "name": "centery", "alias": "centery", "type": "esriFieldTypeDouble" }, { "domain": null, "name": "zorder", "alias": "zorder", "type": "esriFieldTypeInteger" }, { "domain": null, "name": "shape", "alias": "shape", "type": "esriFieldTypeGeometry" }, { "domain": null, "name": "dimensions", "length": 50, "alias": "dimensions", "type": "esriFieldTypeString" }, { "domain": null, "name": "year", "alias": "year", "type": "esriFieldTypeSmallInteger" }, { "domain": null, "name": "sppcode", "alias": "sppcode", "type": "esriFieldTypeSmallInteger" } ], "defaultVariable": "", "allowAnalysis": true, "hasRasterAttributeTable": false, "useStandardizedQueries": true, "description": "", "pixelType": "U1", "meanPixelSize": 250, "exportTilesAllowed": false, "editFieldsInfo": null, "rasterTypeInfos": [{ "help": "", "name": "Raster Dataset", "description": "Supports all ArcGIS Raster Datasets" }], "defaultResamplingMethod": "Bilinear", "itemAccess": false, "minScale": 0, "serviceProperties": "None<\/MosaicMethod>First<\/MosaicOperator>true<\/SortAscending><\/LockImageID>name<\/TileOrderField>0<\/TileOrderBase>600.000000<\/AvgImageSpacingX>300.000000<\/AvgImageSpacingY>0.0<\/ViewPointX>0.0<\/ViewPointY>0.0<\/ViewPointDefShiftX>0.0<\/ViewPointDefShiftY>None<\/CompressionMethod>75<\/CompressionQuality>0.010000<\/CompressionTolerance>Bilinear<\/SamplingMethod><\/ImageServiceProperties><\/ImageServer>", "advancedQueryCapabilities": { "supportsStatistics": true, "supportsSqlExpression": true, "supportsOrderBy": true, "useStandardizedQueries": true, "supportsPagination": true, "supportsDistinct": true }, "serviceItemId": "a14ba34071e8449d974d5355319e0009", "capabilities": "Image,Metadata,Catalog,Mensuration", "maxScale": 0, "stdvValues": [0], "allowedFields": "name,minps,maxps,lowps,highps,tag,groupname,productname,centerx,centery,zorder,dimensions,year,SppCode", "minPixelSize": 0, "maxMosaicImageCount": 100, "inspectionCapabilities": "", "maxPixelSize": 0, "uncompressedSize": 57626242, "serviceDescription": "

This dataset portrays FIA National Forest Type Groups. Each group is a subset of the National Forest Type dataset which portrays 28 Forest Type Groups across the contiguous United States. Forest Type Groups are aggregations of forest types into logical ecological groupings. These data were derived from MODIS composite images from the 2002 and 2003 growing seasons in combination with nearly 100 other geospatial data layers, including elevation, slope, aspect, ecoregions, and PRISM climate data.<\/SPAN><\/P>
<\/P><\/DIV><\/DIV><\/DIV>", "allowCopy": true, "copyrightText": "Wilson, Barry T., Lister, Andrew J., Riemann, Rachel I., and Griffith, Douglas M. ; \nEyre, F.H. ed. 1980. Forest cover types of the United States and Canada. Washington DC: Society of American Foresters; 148 p.", "mensurationCapabilities": "Basic", "ownershipBasedAccessControlForRasters": null }