View In:
ArcGIS JavaScript
ArcGIS Enterprise Map Viewer
ArcGIS Earth
Service Description: This dataset portrays the live tree mean basal area (square feet per acre) of the species across the contiguous United States. The underlying data publication contains raster maps of live tree basal area for each tree species along with corresponding assessment data. An efficient approach for mapping multiple individual tree species over large spatial domains was used to develop these raster datasets. The method integrates vegetation phenology derived from MODIS imagery and raster data describing relevant environmental parameters with extensive field plot data of tree species basal area to create maps of tree species abundance and distribution at a 250-meter (m) pixel size for the contiguous United States. The approach uses the modeling techniques of k-nearest neighbors and canonical correspondence analysis, where model predictions are calculated using a weighting of nearest neighbors based on proximity in a feature space derived from the model. The approach also utilizes a stratification derived from the 2001 National Land-Cover Database tree canopy cover layer.
Name: Vegetation/USFS_EDW_FIA_ForestAtlas_TreeSpecies_107
Description:
Single Fused Map Cache: false
Extent:
XMin: -1.43034010395E7
YMin: 2562973.8165000007
XMax: -7206651.0395
YMax: 6787223.816500001
Spatial Reference: 102100
(3857)
LatestVCSWkid(0)
Initial Extent:
XMin: -1.43034010395E7
YMin: 2562973.8165000007
XMax: -7206651.0395
YMax: 6787223.816500001
Spatial Reference: 102100
(3857)
LatestVCSWkid(0)
Full Extent:
XMin: -1.43034010395E7
YMin: 2562973.8165000007
XMax: -7206651.0395
YMax: 6787223.816500001
Spatial Reference: 102100
(3857)
LatestVCSWkid(0)
Pixel Size X: 250.0
Pixel Size Y: 250.0
Band Count: 1
Pixel Type: F32
RasterFunction Infos: {"rasterFunctionInfos": [
{
"help": "",
"name": "None",
"description": "Make a Raster or Raster Dataset into a Function Raster Dataset."
},
{
"help": "",
"name": "American_elm",
"description": "A raster function template."
},
{
"help": "",
"name": "Ashe_juniper",
"description": "A raster function template."
},
{
"help": "",
"name": "balsam_fir",
"description": "A raster function template."
},
{
"help": "",
"name": "chestnut_oak",
"description": "A raster function template."
},
{
"help": "",
"name": "common_pinyon",
"description": "A raster function template."
},
{
"help": "",
"name": "Douglas_fir",
"description": "A raster function template."
},
{
"help": "",
"name": "Gambel_oak",
"description": "A raster function template."
},
{
"help": "",
"name": "honey_mesquite",
"description": "A raster function template."
},
{
"help": "",
"name": "loblolly_pine",
"description": "A raster function template."
},
{
"help": "",
"name": "lodgepole_pine",
"description": "A raster function template."
},
{
"help": "",
"name": "pondcypress",
"description": "A raster function template."
},
{
"help": "",
"name": "ponderosa_pine",
"description": "A raster function template."
},
{
"help": "",
"name": "post_oak",
"description": "A raster function template."
},
{
"help": "",
"name": "quaking_aspen",
"description": "A raster function template."
},
{
"help": "",
"name": "red_alder",
"description": "A raster function template."
},
{
"help": "",
"name": "red_maple",
"description": "A raster function template."
},
{
"help": "",
"name": "redwood",
"description": "A raster function template."
},
{
"help": "",
"name": "shortleaf_pine",
"description": "A raster function template."
},
{
"help": "",
"name": "sugar_maple",
"description": "A raster function template."
},
{
"help": "",
"name": "sweetgum",
"description": "A raster function template."
},
{
"help": "",
"name": "tanoak",
"description": "A raster function template."
},
{
"help": "",
"name": "Utah_juniper",
"description": "A raster function template."
},
{
"help": "",
"name": "western_hemlock",
"description": "A raster function template."
},
{
"help": "",
"name": "white_oak",
"description": "A raster function template."
}
]}
Mensuration Capabilities: Basic
Inspection Capabilities:
Has Histograms: true
Has Colormap: false
Has Multi Dimensions : true
Rendering Rule:
Min Scale: 0
Max Scale: 0
Copyright Text: Wilson, Barry T., Lister, Andrew J., Riemann, Rachel I., and Griffith, Douglas M.
Service Data Type: esriImageServiceDataTypeScientific
Min Values: 0.00070647895336151123
Max Values: 150.11869812011719
Mean Values: 14.404171553889766
Standard Deviation Values: 19.998676854445904
Object ID Field: objectid
Fields:
-
objectid
(
alias: objectid
, type: esriFieldTypeOID
)
-
name
(
length: 200
, alias: name
, type: esriFieldTypeString
)
-
minps
(
alias: minps
, type: esriFieldTypeDouble
)
-
maxps
(
alias: maxps
, type: esriFieldTypeDouble
)
-
lowps
(
alias: lowps
, type: esriFieldTypeDouble
)
-
highps
(
alias: highps
, type: esriFieldTypeDouble
)
-
category
(
alias: category
, type: esriFieldTypeInteger
, Coded Values:
[0: Unknown]
, [1: Primary]
, [2: Overview]
, ...6 more...
)
-
tag
(
length: 100
, alias: tag
, type: esriFieldTypeString
)
-
groupname
(
length: 100
, alias: groupname
, type: esriFieldTypeString
)
-
productname
(
length: 100
, alias: productname
, type: esriFieldTypeString
)
-
centerx
(
alias: centerx
, type: esriFieldTypeDouble
)
-
centery
(
alias: centery
, type: esriFieldTypeDouble
)
-
zorder
(
alias: zorder
, type: esriFieldTypeInteger
)
-
shape
(
alias: shape
, type: esriFieldTypeGeometry
)
Default Mosaic Method: None
Allowed Mosaic Methods: None,NorthWest,Center,LockRaster,ByAttribute,Nadir,Viewpoint,Seamline
SortField: N/A
SortValue: N/A
Mosaic Operator: First
Default Compression Quality: 75
Default Resampling Method: Bilinear
Max Record Count: 1000
Max Image Height: 100000
Max Image Width: 100000
Max Download Image Count: 20
Max Mosaic Image Count: 100
Allow Raster Function: true
Allow Copy: true
Allow Analysis: true
Allow Compute TiePoints: false
Supports Statistics: true
Supports Advanced Queries: true
Use StandardizedQueries: true
Raster Type Infos:
Name: Raster Dataset
Description: Supports all ArcGIS Raster Datasets
Help:
Has Raster Attribute Table: false
Edit Fields Info: N/A
Ownership Based AccessControl For Rasters: N/A
Child Resources:
Info
Histograms
Statistics
Key Properties
Legend
Raster Function Infos
Multidimensional Info
Slices
Supported Operations:
Export Image
Query
Identify
Measure
Compute Histograms
Compute Statistics Histograms
Get Samples
Compute Class Statistics
Query GPS Info
Find Images
Image to Map
Map to Image
Measure from Image
Image to Map Multiray
Query Boundary
Compute Pixel Location
Compute Angles
Validate
Project