{
 "extent": {
  "ymin": 2562973.8165000007,
  "xmin": -14303401.0395,
  "ymax": 6787223.8165000007,
  "xmax": -7206651.0395,
  "spatialReference": {
   "latestWkid": 3857,
   "wkid": 102100
  }
 },
 "blockWidth": 2048,
 "mosaicOperator": "First",
 "serviceSourceType": "esriImageServiceSourceTypeMosaicDataset",
 "hasMultidimensions": true,
 "maxImageWidth": 100000,
 "maxRecordCount": 1000,
 "meanValues": [
  14.404171553889766
 ],
 "hasColormap": false,
 "compressionType": "None",
 "defaultCompressionQuality": 75,
 "maxValues": [
  150.11869812011719
 ],
 "hasHistograms": true,
 "datasetFormat": "AMD",
 "maxImageHeight": 100000,
 "bandNames": [
  "Band_1"
 ],
 "spatialReference": {
  "latestWkid": 3857,
  "wkid": 102100
 },
 "fullExtent": {
  "ymin": 2562973.8165000007,
  "xmin": -14303401.0395,
  "ymax": 6787223.8165000007,
  "xmax": -7206651.0395,
  "spatialReference": {
   "latestWkid": 3857,
   "wkid": 102100
  }
 },
 "bandCount": 1,
 "rasterFunctionInfos": [
  {
   "help": "",
   "name": "None",
   "description": "Make a Raster or Raster Dataset into a Function Raster Dataset."
  },
  {
   "help": "",
   "name": "American_elm",
   "description": "A raster function template."
  },
  {
   "help": "",
   "name": "Ashe_juniper",
   "description": "A raster function template."
  },
  {
   "help": "",
   "name": "balsam_fir",
   "description": "A raster function template."
  },
  {
   "help": "",
   "name": "chestnut_oak",
   "description": "A raster function template."
  },
  {
   "help": "",
   "name": "common_pinyon",
   "description": "A raster function template."
  },
  {
   "help": "",
   "name": "Douglas_fir",
   "description": "A raster function template."
  },
  {
   "help": "",
   "name": "Gambel_oak",
   "description": "A raster function template."
  },
  {
   "help": "",
   "name": "honey_mesquite",
   "description": "A raster function template."
  },
  {
   "help": "",
   "name": "loblolly_pine",
   "description": "A raster function template."
  },
  {
   "help": "",
   "name": "lodgepole_pine",
   "description": "A raster function template."
  },
  {
   "help": "",
   "name": "pondcypress",
   "description": "A raster function template."
  },
  {
   "help": "",
   "name": "ponderosa_pine",
   "description": "A raster function template."
  },
  {
   "help": "",
   "name": "post_oak",
   "description": "A raster function template."
  },
  {
   "help": "",
   "name": "quaking_aspen",
   "description": "A raster function template."
  },
  {
   "help": "",
   "name": "red_alder",
   "description": "A raster function template."
  },
  {
   "help": "",
   "name": "red_maple",
   "description": "A raster function template."
  },
  {
   "help": "",
   "name": "redwood",
   "description": "A raster function template."
  },
  {
   "help": "",
   "name": "shortleaf_pine",
   "description": "A raster function template."
  },
  {
   "help": "",
   "name": "sugar_maple",
   "description": "A raster function template."
  },
  {
   "help": "",
   "name": "sweetgum",
   "description": "A raster function template."
  },
  {
   "help": "",
   "name": "tanoak",
   "description": "A raster function template."
  },
  {
   "help": "",
   "name": "Utah_juniper",
   "description": "A raster function template."
  },
  {
   "help": "",
   "name": "western_hemlock",
   "description": "A raster function template."
  },
  {
   "help": "",
   "name": "white_oak",
   "description": "A raster function template."
  }
 ],
 "supportsStatistics": true,
 "sortableFields": "minps,maxps,lowps,highps,centerx,centery,zorder",
 "minValues": [
  0.00070647895336151123
 ],
 "allowRasterFunction": true,
 "allowComputeTiePoints": false,
 "serviceDataType": "esriImageServiceDataTypeScientific",
 "supportsAdvancedQueries": true,
 "maxDownloadSizeLimit": 2048,
 "currentVersion": 12,
 "objectIdField": "objectid",
 "blockHeight": 256,
 "initialExtent": {
  "ymin": 2562973.8165000007,
  "xmin": -14303401.0395,
  "ymax": 6787223.8165000007,
  "xmax": -7206651.0395,
  "spatialReference": {
   "latestWkid": 3857,
   "wkid": 102100
  }
 },
 "pixelSizeX": 250,
 "pixelSizeY": 250,
 "defaultMosaicMethod": "None",
 "name": "Vegetation/USFS_EDW_FIA_ForestAtlas_TreeSpecies_107",
 "allowedMosaicMethods": "None,NorthWest,Center,LockRaster,ByAttribute,Nadir,Viewpoint,Seamline",
 "maxDownloadImageCount": 20,
 "fields": [
  {
   "domain": null,
   "name": "objectid",
   "alias": "objectid",
   "type": "esriFieldTypeOID"
  },
  {
   "domain": null,
   "name": "name",
   "length": 200,
   "alias": "name",
   "type": "esriFieldTypeString"
  },
  {
   "domain": null,
   "name": "minps",
   "alias": "minps",
   "type": "esriFieldTypeDouble"
  },
  {
   "domain": null,
   "name": "maxps",
   "alias": "maxps",
   "type": "esriFieldTypeDouble"
  },
  {
   "domain": null,
   "name": "lowps",
   "alias": "lowps",
   "type": "esriFieldTypeDouble"
  },
  {
   "domain": null,
   "name": "highps",
   "alias": "highps",
   "type": "esriFieldTypeDouble"
  },
  {
   "domain": {
    "splitPolicy": "esriSPTDefaultValue",
    "name": "MosaicCatalogItemCategoryDomain",
    "description": "Catalog item categories.",
    "type": "codedValue",
    "codedValues": [
     {
      "code": 0,
      "name": "Unknown"
     },
     {
      "code": 1,
      "name": "Primary"
     },
     {
      "code": 2,
      "name": "Overview"
     },
     {
      "code": 3,
      "name": "Unprocessed Overview"
     },
     {
      "code": 4,
      "name": "Partial Overview"
     },
     {
      "code": 5,
      "name": "Inactive"
     },
     {
      "code": 253,
      "name": "Uploaded"
     },
     {
      "code": 254,
      "name": "Incomplete"
     },
     {
      "code": 255,
      "name": "Custom"
     }
    ],
    "mergePolicy": "esriMPTDefaultValue"
   },
   "name": "category",
   "alias": "category",
   "type": "esriFieldTypeInteger"
  },
  {
   "domain": null,
   "name": "tag",
   "length": 100,
   "alias": "tag",
   "type": "esriFieldTypeString"
  },
  {
   "domain": null,
   "name": "groupname",
   "length": 100,
   "alias": "groupname",
   "type": "esriFieldTypeString"
  },
  {
   "domain": null,
   "name": "productname",
   "length": 100,
   "alias": "productname",
   "type": "esriFieldTypeString"
  },
  {
   "domain": null,
   "name": "centerx",
   "alias": "centerx",
   "type": "esriFieldTypeDouble"
  },
  {
   "domain": null,
   "name": "centery",
   "alias": "centery",
   "type": "esriFieldTypeDouble"
  },
  {
   "domain": null,
   "name": "zorder",
   "alias": "zorder",
   "type": "esriFieldTypeInteger"
  },
  {
   "domain": null,
   "name": "shape",
   "alias": "shape",
   "type": "esriFieldTypeGeometry"
  }
 ],
 "defaultVariable": "",
 "allowAnalysis": true,
 "hasRasterAttributeTable": false,
 "useStandardizedQueries": true,
 "description": "",
 "pixelType": "F32",
 "meanPixelSize": 250,
 "exportTilesAllowed": false,
 "editFieldsInfo": null,
 "rasterTypeInfos": [
  {
   "help": "",
   "name": "Raster Dataset",
   "description": "Supports all ArcGIS Raster Datasets"
  }
 ],
 "defaultResamplingMethod": "Bilinear",
 "itemAccess": false,
 "minScale": 0,
 "serviceProperties": "None<\/MosaicMethod>First<\/MosaicOperator>true<\/SortAscending><\/LockImageID>name<\/TileOrderField>0<\/TileOrderBase>600.000000<\/AvgImageSpacingX>300.000000<\/AvgImageSpacingY>0.0<\/ViewPointX>0.0<\/ViewPointY>0.0<\/ViewPointDefShiftX>0.0<\/ViewPointDefShiftY>None<\/CompressionMethod>75<\/CompressionQuality>0.010000<\/CompressionTolerance>Bilinear<\/SamplingMethod><\/ImageServiceProperties><\/ImageServer>",
 "advancedQueryCapabilities": {
  "supportsStatistics": true,
  "supportsSqlExpression": true,
  "supportsOrderBy": true,
  "useStandardizedQueries": true,
  "supportsPagination": true,
  "supportsDistinct": true
 },
 "serviceItemId": "c026ee17bf0d41918375b54417dd363c",
 "capabilities": "Image,Metadata,Catalog,Mensuration",
 "maxScale": 0,
 "stdvValues": [
  19.998676854445904
 ],
 "allowedFields": "name,minps,maxps,lowps,highps,tag,groupname,productname,centerx,centery,zorder",
 "minPixelSize": 0,
 "noDataValues": [
  0
 ],
 "maxMosaicImageCount": 100,
 "inspectionCapabilities": "",
 "maxPixelSize": 0,
 "noDataValue": 0,
 "uncompressedSize": 1918620556,
 "serviceDescription": " This dataset portrays the live tree mean basal area (square feet per acre) of the species across the contiguous United States. The underlying data publication contains raster maps of live tree basal area for each tree species along with corresponding assessment data. An efficient approach for mapping multiple individual tree species over large spatial domains was used to develop these raster datasets. The method integrates vegetation phenology derived from MODIS imagery and raster data describing relevant environmental parameters with extensive field plot data of tree species basal area to create maps of tree species abundance and distribution at a 250-meter (m) pixel size for the contiguous United States. The approach uses the modeling techniques of k-nearest neighbors and canonical correspondence analysis, where model predictions are calculated using a weighting of nearest neighbors based on proximity in a feature space derived from the model. The approach also utilizes a stratification derived from the 2001 National Land-Cover Database tree canopy cover layer.<\/SPAN><\/P><\/DIV><\/DIV><\/DIV>",
 "allowCopy": true,
 "copyrightText": "Wilson, Barry T., Lister, Andrew J., Riemann, Rachel I., and Griffith, Douglas M.",
 "mensurationCapabilities": "Basic",
 "ownershipBasedAccessControlForRasters": null
}
