View In:
ArcGIS JavaScript
ArcGIS Enterprise Map Viewer
ArcGIS Earth
Service Description: The 2010 North American Land Cover data set was produced as part of the North American Land Change Monitoring System (NALCMS), a trilateral effort between the Canada Centre for Remote Sensing, the United States Geological Survey, and three Mexican organizations including the National Institute of Statistics and Geography (Instituto Nacional de Estadistica y Geografia), National Commission for the Knowledge and Use of the Biodiversity (Comisión Nacional Para el Conocimiento y Uso de la Biodiversidad), and the National Forestry Commission of Mexico (Comisión Nacional Forestal). The collaboration is facilitated by the Commission for Environmental Cooperation, an international organization created by the Canada, Mexico, and United States governments under the North American Agreement on Environmental Cooperation to promote environmental collaboration between the three countries. The general objective of NALCMS is to devise, through collective effort, a harmonized multi-scale land cover monitoring approach which ensures high accuracy and consistency in monitoring land cover changes at the North American scale and which meets each countryÂs specific requirements. The initial data set of North American Land Cover at 250 meters reflected land cover information for 2005. This 2010 data set was produced by updating the 2005 data to show land cover changes as determined from more recent data. No changes were mapped in Hawaii because newer data were not available. Land cover classification changed between 2005 and 2010 for approximately 1 percent of the continental area. For the continental data sets (including surrounding water fringe) 4150241 pixels (1.03% of the area) changed in the update. The following national counts exclude the water fringe: Canada, 3264779 pixels changed (2.05%); Mexico, 47070 pixels changed (0.15%), and U.S., 836706 pixels changed (0.55%). The initial data set used to generate land cover information over North America was produced by the Canada Centre for Remote Sensing from observations acquired by the Moderate Resolution Imaging Spectroradiometer (MODIS/Terra). All seven land spectral bands were processed from Level 1 granules into top-of-atmosphere reflectance covering North America at a 250-meter spatial and 10-day temporal resolution. In order to generate a seamless and consistent land cover map of North America, national maps were generated for Canada by the CCRS; for Mexico by INEGI, CONABIO, and CONAFOR; and for the United States by the USGS. Each country used specific training data and land cover mapping methodologies to create national data sets. This North America data set was produced by combining the national land cover data sets. The countries worked together to produce a definitive list of land cover classifications for the 2005 data; the same classifications were used for the 2010 data. This document is available for download from the same site as the data and is entitled: North American Land Cover Classifications (2005).
Name: Vegetation/USFS_EDW_CEC_LandCoverOfNorthAmerica_2010_250m
Description:
Single Fused Map Cache: false
Extent:
XMin: -2.00375070672E7
YMin: -17284.719499997795
XMax: 2.00374929328E7
YMax: 3.0083715280500002E7
Spatial Reference: 102100
(3857)
LatestVCSWkid(0)
Initial Extent:
XMin: -2.00375070672E7
YMin: -17284.719499997795
XMax: 2.00374929328E7
YMax: 3.0083715280500002E7
Spatial Reference: 102100
(3857)
LatestVCSWkid(0)
Full Extent:
XMin: -2.00375070672E7
YMin: -17284.719499997795
XMax: 2.00374929328E7
YMax: 3.0083715280500002E7
Spatial Reference: 102100
(3857)
LatestVCSWkid(0)
Pixel Size X: 250.0
Pixel Size Y: 250.0
Band Count: 1
Pixel Type: U8
RasterFunction Infos: {"rasterFunctionInfos": [
{
"help": "",
"name": "2010_LCNA_250m",
"description": "lcna"
},
{
"help": "",
"name": "None",
"description": "Make a Raster or Raster Dataset into a Function Raster Dataset."
}
]}
Mensuration Capabilities: Basic
Inspection Capabilities:
Has Histograms: true
Has Colormap: false
Has Multi Dimensions : false
Rendering Rule:
Min Scale: 0
Max Scale: 0
Copyright Text: USDA - GEO; USDA - USFS – GTAC
Service Data Type: esriImageServiceDataTypeGeneric
Min Values: 0.037109375
Max Values: 18.96484375
Mean Values: 4.2339555645857478
Standard Deviation Values: 5.8886193153311917
Object ID Field: objectid
Fields:
-
objectid
(
alias: objectid
, type: esriFieldTypeOID
)
-
name
(
length: 200
, alias: name
, type: esriFieldTypeString
)
-
minps
(
alias: minps
, type: esriFieldTypeDouble
)
-
maxps
(
alias: maxps
, type: esriFieldTypeDouble
)
-
lowps
(
alias: lowps
, type: esriFieldTypeDouble
)
-
highps
(
alias: highps
, type: esriFieldTypeDouble
)
-
category
(
alias: category
, type: esriFieldTypeInteger
, Coded Values:
[0: Unknown]
, [1: Primary]
, [2: Overview]
, ...6 more...
)
-
tag
(
length: 100
, alias: tag
, type: esriFieldTypeString
)
-
groupname
(
length: 100
, alias: groupname
, type: esriFieldTypeString
)
-
productname
(
length: 100
, alias: productname
, type: esriFieldTypeString
)
-
centerx
(
alias: centerx
, type: esriFieldTypeDouble
)
-
centery
(
alias: centery
, type: esriFieldTypeDouble
)
-
zorder
(
alias: zorder
, type: esriFieldTypeInteger
)
-
shape
(
alias: shape
, type: esriFieldTypeGeometry
)
Default Mosaic Method: Northwest
Allowed Mosaic Methods: NorthWest,Center,LockRaster,ByAttribute,Nadir,Viewpoint,Seamline,None
SortField:
SortValue: N/A
Mosaic Operator: Max
Default Compression Quality: 75
Default Resampling Method: Nearest
Max Record Count: 1000
Max Image Height: 100000
Max Image Width: 100000
Max Download Image Count: 20
Max Mosaic Image Count: 20
Allow Raster Function: true
Allow Copy: true
Allow Analysis: true
Allow Compute TiePoints: false
Supports Statistics: true
Supports Advanced Queries: true
Use StandardizedQueries: true
Raster Type Infos:
Name: Raster Dataset
Description: Supports all ArcGIS Raster Datasets
Help:
Has Raster Attribute Table: false
Edit Fields Info: N/A
Ownership Based AccessControl For Rasters: N/A
Child Resources:
Info
Histograms
Statistics
Key Properties
Legend
Raster Function Infos
Supported Operations:
Export Image
Query
Identify
Measure
Compute Histograms
Compute Statistics Histograms
Get Samples
Compute Class Statistics
Query GPS Info
Find Images
Image to Map
Map to Image
Measure from Image
Image to Map Multiray
Query Boundary
Compute Pixel Location
Compute Angles
Validate
Project