{
 "extent": {
  "ymin": -17284.719499997795,
  "xmin": -20037507.067200001,
  "ymax": 30083715.280500002,
  "xmax": 20037492.932799999,
  "spatialReference": {
   "latestWkid": 3857,
   "wkid": 102100
  }
 },
 "blockWidth": 2048,
 "mosaicOperator": "First",
 "serviceSourceType": "esriImageServiceSourceTypeMosaicDataset",
 "hasMultidimensions": false,
 "maxImageWidth": 100000,
 "maxRecordCount": 1000,
 "meanValues": [
  4.2339555645857478
 ],
 "hasColormap": false,
 "compressionType": "None",
 "defaultCompressionQuality": 75,
 "maxValues": [
  18.96484375
 ],
 "hasHistograms": true,
 "datasetFormat": "AMD",
 "maxImageHeight": 100000,
 "sortField": "",
 "bandNames": [
  "Band_1"
 ],
 "spatialReference": {
  "latestWkid": 3857,
  "wkid": 102100
 },
 "fullExtent": {
  "ymin": -17284.719499997795,
  "xmin": -20037507.067200001,
  "ymax": 30083715.280500002,
  "xmax": 20037492.932799999,
  "spatialReference": {
   "latestWkid": 3857,
   "wkid": 102100
  }
 },
 "bandCount": 1,
 "rasterFunctionInfos": [
  {
   "help": "",
   "name": "2010_LCNA_250m",
   "description": "lcna"
  },
  {
   "help": "",
   "name": "None",
   "description": "Make a Raster or Raster Dataset into a Function Raster Dataset."
  }
 ],
 "supportsStatistics": true,
 "sortableFields": "minps,maxps,lowps,highps,centerx,centery,zorder",
 "minValues": [
  0.037109375
 ],
 "allowRasterFunction": true,
 "allowComputeTiePoints": false,
 "serviceDataType": "esriImageServiceDataTypeGeneric",
 "supportsAdvancedQueries": true,
 "maxDownloadSizeLimit": 2048,
 "currentVersion": 12,
 "sortValue": null,
 "objectIdField": "objectid",
 "blockHeight": 256,
 "initialExtent": {
  "ymin": -17284.719499997795,
  "xmin": -20037507.067200001,
  "ymax": 30083715.280500002,
  "xmax": 20037492.932799999,
  "spatialReference": {
   "latestWkid": 3857,
   "wkid": 102100
  }
 },
 "pixelSizeX": 250,
 "pixelSizeY": 250,
 "defaultMosaicMethod": "Northwest",
 "name": "Vegetation/USFS_EDW_CEC_LandCoverOfNorthAmerica_2010_250m",
 "allowedMosaicMethods": "NorthWest,Center,LockRaster,ByAttribute,Nadir,Viewpoint,Seamline,None",
 "maxDownloadImageCount": 20,
 "fields": [
  {
   "domain": null,
   "name": "objectid",
   "alias": "objectid",
   "type": "esriFieldTypeOID"
  },
  {
   "domain": null,
   "name": "name",
   "length": 200,
   "alias": "name",
   "type": "esriFieldTypeString"
  },
  {
   "domain": null,
   "name": "minps",
   "alias": "minps",
   "type": "esriFieldTypeDouble"
  },
  {
   "domain": null,
   "name": "maxps",
   "alias": "maxps",
   "type": "esriFieldTypeDouble"
  },
  {
   "domain": null,
   "name": "lowps",
   "alias": "lowps",
   "type": "esriFieldTypeDouble"
  },
  {
   "domain": null,
   "name": "highps",
   "alias": "highps",
   "type": "esriFieldTypeDouble"
  },
  {
   "domain": {
    "splitPolicy": "esriSPTDefaultValue",
    "name": "MosaicCatalogItemCategoryDomain",
    "description": "Catalog item categories.",
    "type": "codedValue",
    "codedValues": [
     {
      "code": 0,
      "name": "Unknown"
     },
     {
      "code": 1,
      "name": "Primary"
     },
     {
      "code": 2,
      "name": "Overview"
     },
     {
      "code": 3,
      "name": "Unprocessed Overview"
     },
     {
      "code": 4,
      "name": "Partial Overview"
     },
     {
      "code": 5,
      "name": "Inactive"
     },
     {
      "code": 253,
      "name": "Uploaded"
     },
     {
      "code": 254,
      "name": "Incomplete"
     },
     {
      "code": 255,
      "name": "Custom"
     }
    ],
    "mergePolicy": "esriMPTDefaultValue"
   },
   "name": "category",
   "alias": "category",
   "type": "esriFieldTypeInteger"
  },
  {
   "domain": null,
   "name": "tag",
   "length": 100,
   "alias": "tag",
   "type": "esriFieldTypeString"
  },
  {
   "domain": null,
   "name": "groupname",
   "length": 100,
   "alias": "groupname",
   "type": "esriFieldTypeString"
  },
  {
   "domain": null,
   "name": "productname",
   "length": 100,
   "alias": "productname",
   "type": "esriFieldTypeString"
  },
  {
   "domain": null,
   "name": "centerx",
   "alias": "centerx",
   "type": "esriFieldTypeDouble"
  },
  {
   "domain": null,
   "name": "centery",
   "alias": "centery",
   "type": "esriFieldTypeDouble"
  },
  {
   "domain": null,
   "name": "zorder",
   "alias": "zorder",
   "type": "esriFieldTypeInteger"
  },
  {
   "domain": null,
   "name": "shape",
   "alias": "shape",
   "type": "esriFieldTypeGeometry"
  }
 ],
 "allowAnalysis": true,
 "hasRasterAttributeTable": false,
 "useStandardizedQueries": true,
 "description": "",
 "pixelType": "U8",
 "meanPixelSize": 250,
 "exportTilesAllowed": false,
 "editFieldsInfo": null,
 "rasterTypeInfos": [
  {
   "help": "",
   "name": "Raster Dataset",
   "description": "Supports all ArcGIS Raster Datasets"
  }
 ],
 "defaultResamplingMethod": "Nearest",
 "itemAccess": false,
 "minScale": 0,
 "serviceProperties": "NorthWest<\/MosaicMethod>First<\/MosaicOperator>true<\/SortAscending><\/LockImageID>name<\/TileOrderField>0<\/TileOrderBase>600.000000<\/AvgImageSpacingX>300.000000<\/AvgImageSpacingY>0.0<\/ViewPointX>0.0<\/ViewPointY>0.0<\/ViewPointDefShiftX>0.0<\/ViewPointDefShiftY>None<\/CompressionMethod>75<\/CompressionQuality>0.010000<\/CompressionTolerance>Nearest<\/SamplingMethod><\/ImageServiceProperties><\/ImageServer>",
 "advancedQueryCapabilities": {
  "supportsStatistics": true,
  "supportsSqlExpression": true,
  "supportsOrderBy": true,
  "useStandardizedQueries": true,
  "supportsPagination": true,
  "supportsDistinct": true
 },
 "serviceItemId": "6ccd88b2d881482ab8be5eaadff0fdcf",
 "capabilities": "Image,Metadata,Catalog,Mensuration",
 "maxScale": 0,
 "stdvValues": [
  5.8886193153311917
 ],
 "allowedFields": "name,minps,maxps,lowps,highps,tag,groupname,productname,centerx,centery,zorder",
 "minPixelSize": 0,
 "sortAscending": true,
 "maxMosaicImageCount": 20,
 "inspectionCapabilities": "",
 "maxPixelSize": 0,
 "uncompressedSize": 19300761200,
 "serviceDescription": " The 2010 North American Land Cover data set was produced as part of the North American Land Change Monitoring System (NALCMS), a trilateral effort between the Canada Centre for Remote Sensing, the United States Geological Survey, and three Mexican organizations including the National Institute of Statistics and Geography (Instituto Nacional de Estadistica y Geografia), National Commission for the Knowledge and Use of the Biodiversity (Comisión Nacional Para el Conocimiento y Uso de la Biodiversidad), and the National Forestry Commission of Mexico (Comisión Nacional Forestal). The collaboration is facilitated by the Commission for Environmental Cooperation, an international organization created by the Canada, Mexico, and United States governments under the North American Agreement on Environmental Cooperation to promote environmental collaboration between the three countries. The general objective of NALCMS is to devise, through collective effort, a harmonized multi-scale land cover monitoring approach which ensures high accuracy and consistency in monitoring land cover changes at the North American scale and which meets each countryÂs specific requirements. The initial data set of North American Land Cover at 250 meters reflected land cover information for 2005. This 2010 data set was produced by updating the 2005 data to show land cover changes as determined from more recent data. No changes were mapped in Hawaii because newer data were not available. Land cover classification changed between 2005 and 2010 for approximately 1 percent of the continental area. For the continental data sets (including surrounding water fringe) 4150241 pixels (1.03% of the area) changed in the update. The following national counts exclude the water fringe: Canada, 3264779 pixels changed (2.05%); Mexico, 47070 pixels changed (0.15%), and U.S., 836706 pixels changed (0.55%). The initial data set used to generate land cover information over North America was produced by the Canada Centre for Remote Sensing from observations acquired by the Moderate Resolution Imaging Spectroradiometer (MODIS/Terra). All seven land spectral bands were processed from Level 1 granules into top-of-atmosphere reflectance covering North America at a 250-meter spatial and 10-day temporal resolution. In order to generate a seamless and consistent land cover map of North America, national maps were generated for Canada by the CCRS; for Mexico by INEGI, CONABIO, and CONAFOR; and for the United States by the USGS. Each country used specific training data and land cover mapping methodologies to create national data sets. This North America data set was produced by combining the national land cover data sets. The countries worked together to produce a definitive list of land cover classifications for the 2005 data; the same classifications were used for the 2010 data. This document is available for download from the same site as the data and is entitled: North American Land Cover Classifications (2005).<\/SPAN><\/P><\/DIV><\/DIV><\/DIV>",
 "allowCopy": true,
 "copyrightText": "USDA - GEO; USDA - USFS \u2013 GTAC",
 "mensurationCapabilities": "Basic",
 "ownershipBasedAccessControlForRasters": null
}
