View In:
ArcGIS JavaScript
ArcGIS Enterprise Map Viewer
ArcGIS Earth
Service Description: This is a collection of bare-Earth digital elevation models covering selected U.S. Forest Service and adjoining lands in the Eastern Region, encompassing Michigan, Huron Manistee region. The data are presented in a time-enabled format, allowing the end-user to view available data year-by-year, or all available years at once, within a GIS system. The data encompass varying years, varying resolutions, and varying geographic extents, dependent upon available data as provided by the region. Bare-Earth DEMs, also commonly called Digital Terrain Models (DTM), represent the ground topography after removal of persistent objects such as vegetation and buildings, and therefore show the natural terrain.The data contains an attribute table. Notable attributes that may be of interest to an end-user are:lowps: the pixel size of the source raster, given in meters.highps: the pixel size of the top-most pyramid for the raster, given in meters.beginyear: the first year of data acquisition for an individual dataset.endyear: the final year of data acquisition for an individual dataset.dataset_name: the name of the individual dataset within the collection.metadata: A URL link to a file on IIPP's Portal containing metadata pertaining to an individual dataset within the image service.resolution: The pixel size of the source raster, given in meters.Terrain-related imagery are primarily derived from Lidar, stereoscopic aerial imagery, or Interferometric Synthetic Aperture Radar datasets. Consequently, these derivatives inherit the limitations and uncertainties of the parent sensor and platform and the processing techniques used to produce the imagery. The terrain images are orthographic; they have been georeferenced and displacement due to sensor orientation and topography have been removed, producing data that combines the characteristics of an image with the geometric qualities of a map. The orthographic images show ground features in their proper positions, without the distortion characteristic of unrectified aerial or satellite imagery. Digital orthoimages produced and used within the Forest Service are developed from imagery acquired through various national and regional image acquisition programs. The resulting orthoimages can be directly applied in remote sensing, GIS and mapping applications. They serve a variety of purposes, from interim maps to references for Earth science investigations and analysis. Because of the orthographic property, an orthoimage can be used like a map for measurement of distances, angles, and areas with scale being constant everywhere. Also, they can be used as map layers in GIS or other computer-based manipulation, overlaying, and analysis. An orthoimage differs from a map in a manner of depiction of detail; on a map only selected detail is shown by conventional symbols whereas on an orthoimage all details appear just as in original aerial or satellite imagery.
Name: Terrain/BareEarthDEM_multiYear_USFS_R9_Eastern_multiRes_Public
Description:
Single Fused Map Cache: false
Extent:
XMin: -1.0408519599999998E7
YMin: 5328786.600000001
XMax: -9268540.899999999
YMax: 6214823.7
Spatial Reference: 102100
(3857)
LatestVCSWkid(0)
Initial Extent:
XMin: -1.0408519599999998E7
YMin: 5328786.600000001
XMax: -9268540.899999999
YMax: 6214823.7
Spatial Reference: 102100
(3857)
LatestVCSWkid(0)
Full Extent:
XMin: -1.0408519599999998E7
YMin: 5328786.600000001
XMax: -9268540.899999999
YMax: 6214823.7
Spatial Reference: 102100
(3857)
LatestVCSWkid(0)
Time Info:
Start Time Field: beginyear
End Time Field: endyear
Time Extent:
[2014/01/01 00:00:00 UTC, 2021/01/01 00:00:00 UTC]
Time Reference:
N/A
Pixel Size X: 0.2999999999999998
Pixel Size Y: 0.2999999999999999
Band Count: 1
Pixel Type: F32
RasterFunction Infos: {"rasterFunctionInfos": [
{
"help": "",
"name": "None",
"description": "Make a Raster or Raster Dataset into a Function Raster Dataset."
},
{
"help": "",
"name": "Aspect_RFT",
"description": "Aspect derived from bare earth DEM"
},
{
"help": "The following parameter can be adjusted by the end-user:\nZFactor: A number to exaggerate elevation; default is 1.",
"name": "Hillshade_Multidirectional",
"description": "Multidirectional hillshade raster function."
},
{
"help": "These parameters can be adjusted by the end-user:\n\nAzimuth: Values range from 0 to 360; default is 315. Defines Sun direction.\nAltitude: Values range from 0 to 90; default is 45. Defines Sun elevation.\nZFactor: A number used to exaggerate elevation; default is 1.",
"name": "Hillshade_Traditional",
"description": "Traditional hillshade raster function."
},
{
"help": "The following parameter can be adjusted by the end-user:\nZFactor: A number to exaggerate elevation; default value is 1.",
"name": "Slope_Degree",
"description": "Slope measured in degrees"
},
{
"help": "\n",
"name": "Slope_Degrees_Classified",
"description": "Slope in degrees, classified into 6 categories. Categories are defined as follows:\n1: 0 to 15 degrees\n2: 15 to 30 degrees\n3: 30 to 45 degrees\n4: 45 to 60 degrees\n5: 60 to 75 degrees\n6: 75 to 90 degrees"
},
{
"help": "The following parameter can be adjusted by the end-user:\nZFactor: A number used to exaggerate elevation; default is 1.",
"name": "Slope_Percent",
"description": "Slope measured in percent rise."
},
{
"help": "\n",
"name": "Slope_Percent_Classified",
"description": "Slope in Percent Rise, classified into 5 categories. Categories are defined as follows:\n1: 0 to 8 percent\n2: 8 to 15 percent\n3: 15 to 25 percent\n4: 25 to 35 percent\n5: >35 percent"
},
{
"help": "",
"name": "Convert_To_Feet_R9_BareEarth",
"description": "Convert elevation to feet for Region 9 Bare Earth"
}
]}
Mensuration Capabilities: Basic
Inspection Capabilities:
Has Histograms: true
Has Colormap: false
Has Multi Dimensions : false
Rendering Rule:
Min Scale: 0
Max Scale: 0
Copyright Text: These datasets were provided by the U.S. Forest Service Eastern Region (R9) and are served by the U.S. Forest Service Geospatial Technology & Applications Center (GTAC), in cooperation with the U.S. Department of the Interior's Geospatial Platform (GeoPlatform), as part of the Interdepartmental Imagery Publication Platform (IIPP).
Service Data Type: esriImageServiceDataTypeElevation
Min Values: 172.29000854492188
Max Values: 699.2149658203125
Mean Values: 321.74105857853641
Standard Deviation Values: 103.06915150182307
Object ID Field: objectid
Fields:
-
objectid
(
alias: objectid
, type: esriFieldTypeOID
)
-
name
(
length: 200
, alias: name
, type: esriFieldTypeString
)
-
minps
(
alias: minps
, type: esriFieldTypeDouble
)
-
maxps
(
alias: maxps
, type: esriFieldTypeDouble
)
-
lowps
(
alias: lowps
, type: esriFieldTypeDouble
)
-
highps
(
alias: highps
, type: esriFieldTypeDouble
)
-
category
(
alias: category
, type: esriFieldTypeInteger
, Coded Values:
[0: Unknown]
, [1: Primary]
, [2: Overview]
, ...6 more...
)
-
zorder
(
alias: zorder
, type: esriFieldTypeInteger
)
-
shape
(
alias: shape
, type: esriFieldTypeGeometry
)
-
beginyear
(
alias: beginyear
, type: esriFieldTypeSmallInteger
)
-
endyear
(
alias: endyear
, type: esriFieldTypeSmallInteger
)
-
dataset_name
(
length: 100
, alias: dataset_name
, type: esriFieldTypeString
)
-
public
(
length: 3
, alias: public
, type: esriFieldTypeString
)
-
metadata
(
length: 255
, alias: metadata
, type: esriFieldTypeString
)
-
resolution
(
alias: resolution
, type: esriFieldTypeDouble
)
Default Mosaic Method: ByAttribute
Allowed Mosaic Methods: ByAttribute,NorthWest,Center,LockRaster,Nadir,Viewpoint,Seamline,None
SortField: zorder
SortValue:
Mosaic Operator: First
Default Compression Quality: 75
Default Resampling Method: Nearest
Max Record Count: 1000
Max Image Height: 100000
Max Image Width: 100000
Max Download Image Count: 20
Max Mosaic Image Count: 100
Allow Raster Function: true
Allow Copy: true
Allow Analysis: true
Allow Compute TiePoints: false
Supports Statistics: true
Supports Advanced Queries: true
Use StandardizedQueries: true
Raster Type Infos:
Name: Raster Dataset
Description: Supports all ArcGIS Raster Datasets
Help:
Has Raster Attribute Table: false
Edit Fields Info: N/A
Ownership Based AccessControl For Rasters: N/A
Child Resources:
Info
Histograms
Statistics
Key Properties
Legend
Raster Function Infos
Supported Operations:
Export Image
Query
Identify
Measure
Compute Histograms
Compute Statistics Histograms
Get Samples
Compute Class Statistics
Query GPS Info
Find Images
Image to Map
Map to Image
Measure from Image
Image to Map Multiray
Query Boundary
Compute Pixel Location
Compute Angles
Validate
Project
Calculate Volume