{
 "extent": {
  "ymin": 5328786.6000000006,
  "xmin": -10408519.599999998,
  "ymax": 6214823.7000000002,
  "xmax": -9268540.8999999985,
  "spatialReference": {
   "latestWkid": 3857,
   "wkid": 102100
  }
 },
 "blockWidth": 2048,
 "mosaicOperator": "First",
 "serviceSourceType": "esriImageServiceSourceTypeMosaicDataset",
 "hasMultidimensions": false,
 "maxImageWidth": 100000,
 "maxRecordCount": 1000,
 "meanValues": [
  321.74105857853641
 ],
 "hasColormap": false,
 "compressionType": "None",
 "defaultCompressionQuality": 75,
 "maxValues": [
  699.2149658203125
 ],
 "hasHistograms": true,
 "datasetFormat": "AMD",
 "maxImageHeight": 100000,
 "sortField": "zorder",
 "bandNames": [
  "Band_1"
 ],
 "spatialReference": {
  "latestWkid": 3857,
  "wkid": 102100
 },
 "fullExtent": {
  "ymin": 5328786.6000000006,
  "xmin": -10408519.599999998,
  "ymax": 6214823.7000000002,
  "xmax": -9268540.8999999985,
  "spatialReference": {
   "latestWkid": 3857,
   "wkid": 102100
  }
 },
 "bandCount": 1,
 "rasterFunctionInfos": [
  {
   "help": "",
   "name": "None",
   "description": "Make a Raster or Raster Dataset into a Function Raster Dataset."
  },
  {
   "help": "",
   "name": "Aspect_RFT",
   "description": "Aspect derived from bare earth DEM"
  },
  {
   "help": "The following parameter can be adjusted by the end-user:\nZFactor: A number to exaggerate elevation; default is 1.",
   "name": "Hillshade_Multidirectional",
   "description": "Multidirectional hillshade raster function."
  },
  {
   "help": "These parameters can be adjusted by the end-user:\n\nAzimuth: Values range from 0 to 360; default is 315. Defines Sun direction.\nAltitude: Values range from 0 to 90; default is 45. Defines Sun elevation.\nZFactor: A number used to exaggerate elevation; default is 1.",
   "name": "Hillshade_Traditional",
   "description": "Traditional hillshade raster function."
  },
  {
   "help": "The following parameter can be adjusted by the end-user:\nZFactor: A number to exaggerate elevation; default value is 1.",
   "name": "Slope_Degree",
   "description": "Slope measured in degrees"
  },
  {
   "help": "\n",
   "name": "Slope_Degrees_Classified",
   "description": "Slope in degrees, classified into 6 categories. Categories are defined as follows:\n1: 0 to 15 degrees\n2: 15 to 30 degrees\n3: 30 to 45 degrees\n4: 45 to 60 degrees\n5: 60 to 75 degrees\n6: 75 to 90 degrees"
  },
  {
   "help": "The following parameter can be adjusted by the end-user:\nZFactor: A number used to exaggerate elevation; default is 1.",
   "name": "Slope_Percent",
   "description": "Slope measured in percent rise."
  },
  {
   "help": "\n",
   "name": "Slope_Percent_Classified",
   "description": "Slope in Percent Rise, classified into 5 categories. Categories are defined as follows:\n1: 0 to 8 percent\n2: 8 to 15 percent\n3: 15 to 25 percent\n4: 25 to 35 percent\n5: >35 percent"
  },
  {
   "help": "",
   "name": "Convert_To_Feet_R9_BareEarth",
   "description": "Convert elevation to feet for Region 9 Bare Earth"
  }
 ],
 "supportsStatistics": true,
 "sortableFields": "minps,maxps,lowps,highps,centerx,centery,zorder,st_area(shape),st_perimeter(shape),beginyear,endyear,resolution",
 "minValues": [
  172.29000854492188
 ],
 "allowRasterFunction": true,
 "allowComputeTiePoints": false,
 "serviceDataType": "esriImageServiceDataTypeElevation",
 "supportsAdvancedQueries": true,
 "maxDownloadSizeLimit": 2048,
 "currentVersion": 12,
 "sortValue": "",
 "timeInfo": {
  "startTimeField": "beginyear",
  "endTimeField": "endyear",
  "timeExtent": [
   1388534400000,
   1609459200000
  ],
  "timeReference": null
 },
 "objectIdField": "objectid",
 "blockHeight": 256,
 "initialExtent": {
  "ymin": 5328786.6000000006,
  "xmin": -10408519.599999998,
  "ymax": 6214823.7000000002,
  "xmax": -9268540.8999999985,
  "spatialReference": {
   "latestWkid": 3857,
   "wkid": 102100
  }
 },
 "pixelSizeX": 0.29999999999999982,
 "pixelSizeY": 0.29999999999999988,
 "defaultMosaicMethod": "ByAttribute",
 "name": "Terrain/BareEarthDEM_multiYear_USFS_R9_Eastern_multiRes_Public",
 "allowedMosaicMethods": "ByAttribute,NorthWest,Center,LockRaster,Nadir,Viewpoint,Seamline,None",
 "maxDownloadImageCount": 20,
 "fields": [
  {
   "domain": null,
   "name": "objectid",
   "alias": "objectid",
   "type": "esriFieldTypeOID"
  },
  {
   "domain": null,
   "name": "name",
   "length": 200,
   "alias": "name",
   "type": "esriFieldTypeString"
  },
  {
   "domain": null,
   "name": "minps",
   "alias": "minps",
   "type": "esriFieldTypeDouble"
  },
  {
   "domain": null,
   "name": "maxps",
   "alias": "maxps",
   "type": "esriFieldTypeDouble"
  },
  {
   "domain": null,
   "name": "lowps",
   "alias": "lowps",
   "type": "esriFieldTypeDouble"
  },
  {
   "domain": null,
   "name": "highps",
   "alias": "highps",
   "type": "esriFieldTypeDouble"
  },
  {
   "domain": {
    "splitPolicy": "esriSPTDefaultValue",
    "name": "MosaicCatalogItemCategoryDomain",
    "description": "Catalog item categories.",
    "type": "codedValue",
    "codedValues": [
     {
      "code": 0,
      "name": "Unknown"
     },
     {
      "code": 1,
      "name": "Primary"
     },
     {
      "code": 2,
      "name": "Overview"
     },
     {
      "code": 3,
      "name": "Unprocessed Overview"
     },
     {
      "code": 4,
      "name": "Partial Overview"
     },
     {
      "code": 5,
      "name": "Inactive"
     },
     {
      "code": 253,
      "name": "Uploaded"
     },
     {
      "code": 254,
      "name": "Incomplete"
     },
     {
      "code": 255,
      "name": "Custom"
     }
    ],
    "mergePolicy": "esriMPTDefaultValue"
   },
   "name": "category",
   "alias": "category",
   "type": "esriFieldTypeInteger"
  },
  {
   "domain": null,
   "name": "zorder",
   "alias": "zorder",
   "type": "esriFieldTypeInteger"
  },
  {
   "domain": null,
   "name": "shape",
   "alias": "shape",
   "type": "esriFieldTypeGeometry"
  },
  {
   "domain": null,
   "name": "beginyear",
   "alias": "beginyear",
   "type": "esriFieldTypeSmallInteger"
  },
  {
   "domain": null,
   "name": "endyear",
   "alias": "endyear",
   "type": "esriFieldTypeSmallInteger"
  },
  {
   "domain": null,
   "name": "dataset_name",
   "length": 100,
   "alias": "dataset_name",
   "type": "esriFieldTypeString"
  },
  {
   "domain": null,
   "name": "public",
   "length": 3,
   "alias": "public",
   "type": "esriFieldTypeString"
  },
  {
   "domain": null,
   "name": "metadata",
   "length": 255,
   "alias": "metadata",
   "type": "esriFieldTypeString"
  },
  {
   "domain": null,
   "name": "resolution",
   "alias": "resolution",
   "type": "esriFieldTypeDouble"
  }
 ],
 "allowAnalysis": true,
 "hasRasterAttributeTable": false,
 "useStandardizedQueries": true,
 "description": "",
 "pixelType": "F32",
 "meanPixelSize": 0.29999999999999982,
 "exportTilesAllowed": false,
 "editFieldsInfo": null,
 "rasterTypeInfos": [
  {
   "help": "",
   "name": "Raster Dataset",
   "description": "Supports all ArcGIS Raster Datasets"
  }
 ],
 "defaultResamplingMethod": "Nearest",
 "itemAccess": false,
 "minScale": 0,
 "serviceProperties": "ByAttribute<\/MosaicMethod>First<\/MosaicOperator>true<\/SortAscending><\/LockImageID>zorder<\/TileOrderField><\/TileOrderBase>600.000000<\/AvgImageSpacingX>300.000000<\/AvgImageSpacingY>0.0<\/ViewPointX>0.0<\/ViewPointY>0.0<\/ViewPointDefShiftX>0.0<\/ViewPointDefShiftY>None<\/CompressionMethod>75<\/CompressionQuality>0.010000<\/CompressionTolerance>Nearest<\/SamplingMethod><\/ImageServiceProperties><\/ImageServer>",
 "advancedQueryCapabilities": {
  "supportsStatistics": true,
  "supportsSqlExpression": true,
  "supportsOrderBy": true,
  "useStandardizedQueries": true,
  "supportsPagination": true,
  "supportsDistinct": true
 },
 "serviceItemId": "1d2bac6b032a468498d39249c9dd4090",
 "capabilities": "Image,Metadata,Catalog,Mensuration",
 "maxScale": 0,
 "stdvValues": [
  103.06915150182307
 ],
 "allowedFields": "name,minps,maxps,lowps,highps,zorder,beginyear,endyear,dataset_name,public,metadata,resolution",
 "minPixelSize": 0,
 "sortAscending": true,
 "maxMosaicImageCount": 100,
 "inspectionCapabilities": "",
 "maxPixelSize": 0,
 "uncompressedSize": 44891695804384,
 "serviceDescription": " This is a collection of bare-Earth digital elevation models covering selected U.S. Forest Service and adjoining lands in the Eastern Region, encompassing Michigan, Huron Manistee region. The data are presented in a time-enabled format, allowing the end-user to view available data year-by-year, or all available years at once, within a GIS system. The data encompass varying years, varying resolutions, and varying geographic extents, dependent upon available data as provided by the region. Bare-Earth DEMs, also commonly called Digital Terrain Models (DTM), represent the ground topography after removal of persistent objects such as vegetation and buildings, and therefore show the natural terrain.The data contains an attribute table. Notable attributes that may be of interest to an end-user are:lowps: the pixel size of the source raster, given in meters.highps: the pixel size of the top-most pyramid for the raster, given in meters.beginyear: the first year of data acquisition for an individual dataset.endyear: the final year of data acquisition for an individual dataset.dataset_name: the name of the individual dataset within the collection.metadata: A URL link to a file on IIPP's Portal containing metadata pertaining to an individual dataset within the image service.resolution: The pixel size of the source raster, given in meters.Terrain-related imagery are primarily derived from Lidar, stereoscopic aerial imagery, or Interferometric Synthetic Aperture Radar datasets. Consequently, these derivatives inherit the limitations and uncertainties of the parent sensor and platform and the processing techniques used to produce the imagery. The terrain images are orthographic; they have been georeferenced and displacement due to sensor orientation and topography have been removed, producing data that combines the characteristics of an image with the geometric qualities of a map. The orthographic images show ground features in their proper positions, without the distortion characteristic of unrectified aerial or satellite imagery. Digital orthoimages produced and used within the Forest Service are developed from imagery acquired through various national and regional image acquisition programs. The resulting orthoimages can be directly applied in remote sensing, GIS and mapping applications. They serve a variety of purposes, from interim maps to references for Earth science investigations and analysis. Because of the orthographic property, an orthoimage can be used like a map for measurement of distances, angles, and areas with scale being constant everywhere. Also, they can be used as map layers in GIS or other computer-based manipulation, overlaying, and analysis. An orthoimage differs from a map in a manner of depiction of detail; on a map only selected detail is shown by conventional symbols whereas on an orthoimage all details appear just as in original aerial or satellite imagery.<\/SPAN><\/P><\/DIV><\/DIV><\/DIV>",
 "allowCopy": true,
 "copyrightText": "These datasets were provided by the U.S. Forest Service Eastern Region (R9) and are served by the U.S. Forest Service Geospatial Technology & Applications Center (GTAC), in cooperation with the U.S. Department of the Interior's Geospatial Platform (GeoPlatform), as part of the Interdepartmental Imagery Publication Platform (IIPP).",
 "mensurationCapabilities": "Basic",
 "ownershipBasedAccessControlForRasters": null
}
