View In:
ArcGIS JavaScript
ArcGIS Enterprise Map Viewer
ArcGIS Earth
Service Description: This data product contains raster data depicting the spatial distribution of forest ownership types in the conterminous United States circa 2020. The data are a modeled representation of forest land by ownership type, and include three types of public ownership: federal, state, and local, as well as three types of private: family (includes individuals and families), corporate, and other private (includes conservation and natural resource organizations, unincorporated partnerships and associations, and Native American tribal lands).
Name: Lands_Realty/USFS_EDW_ForestOwnership_CONUS
Description: This data product contains raster data depicting the spatial distribution of forest ownership types in the conterminous United States circa 2020. The data are a modeled representation of forest land by ownership type, and include three types of public ownership: federal, state, and local, as well as three types of private: family (includes individuals and families), corporate, and other private (includes conservation and natural resource organizations, unincorporated partnerships and associations, and Native American tribal lands).
Data are from "Forest ownership in the conterminous United States circa 2017: distribution of eight ownership types - geospatial dataset” (RDS-2020-0044)
Single Fused Map Cache: false
Extent:
XMin: -1.44683446775E7
YMin: 2480613.786799997
XMax: -7115704.6775
YMax: 6865623.786799997
Spatial Reference: 102100
(3857)
LatestVCSWkid(0)
Initial Extent:
XMin: -1.44683446775E7
YMin: 2480613.786799997
XMax: -7115704.6775
YMax: 6865623.786799997
Spatial Reference: 102100
(3857)
LatestVCSWkid(0)
Full Extent:
XMin: -1.44683446775E7
YMin: 2480613.786799997
XMax: -7115704.6775
YMax: 6865623.786799997
Spatial Reference: 102100
(3857)
LatestVCSWkid(0)
Pixel Size X: 30.0
Pixel Size Y: 30.0
Band Count: 1
Pixel Type: U4
RasterFunction Infos: {"rasterFunctionInfos": [
{
"help": "",
"name": "CONUS",
"description": "A raster function template."
},
{
"help": "",
"name": "None",
"description": "Make a Raster or Raster Dataset into a Function Raster Dataset."
},
{
"help": "",
"name": "Alabama",
"description": "A raster function template."
},
{
"help": "",
"name": "Arizona",
"description": "A raster function template."
},
{
"help": "",
"name": "Arkansas",
"description": "A raster function template."
},
{
"help": "",
"name": "California",
"description": "A raster function template."
},
{
"help": "",
"name": "Colorado",
"description": "A raster function template."
},
{
"help": "",
"name": "Connecticut",
"description": "A raster function template."
},
{
"help": "",
"name": "Delaware",
"description": "A raster function template."
},
{
"help": "",
"name": "District_Of_Columbia",
"description": "A raster function template."
},
{
"help": "",
"name": "Florida",
"description": "A raster function template."
},
{
"help": "",
"name": "Georgia",
"description": "A raster function template."
},
{
"help": "",
"name": "Idaho",
"description": "A raster function template."
},
{
"help": "",
"name": "Illinois",
"description": "A raster function template."
},
{
"help": "",
"name": "Indiana",
"description": "A raster function template."
},
{
"help": "",
"name": "Iowa",
"description": "A raster function template."
},
{
"help": "",
"name": "Kansas",
"description": "A raster function template."
},
{
"help": "",
"name": "Kentucky",
"description": "A raster function template."
},
{
"help": "",
"name": "Louisiana",
"description": "A raster function template."
},
{
"help": "",
"name": "Maine",
"description": "A raster function template."
},
{
"help": "",
"name": "Maryland",
"description": "A raster function template."
},
{
"help": "",
"name": "Massachusetts",
"description": "A raster function template."
},
{
"help": "",
"name": "Michigan",
"description": "A raster function template."
},
{
"help": "",
"name": "Minnesota",
"description": "A raster function template."
},
{
"help": "",
"name": "Mississippi",
"description": "A raster function template."
},
{
"help": "",
"name": "Missouri",
"description": "A raster function template."
},
{
"help": "",
"name": "Montana",
"description": "A raster function template."
},
{
"help": "",
"name": "Nebraska",
"description": "A raster function template."
},
{
"help": "",
"name": "Nevada",
"description": "A raster function template."
},
{
"help": "",
"name": "New_Hampshire",
"description": "A raster function template."
},
{
"help": "",
"name": "New_Jersey",
"description": "A raster function template."
},
{
"help": "",
"name": "New_Mexico",
"description": "A raster function template."
},
{
"help": "",
"name": "New_York",
"description": "A raster function template."
},
{
"help": "",
"name": "North_Carolina",
"description": "A raster function template."
},
{
"help": "",
"name": "North_Dakota",
"description": "A raster function template."
},
{
"help": "",
"name": "Ohio",
"description": "A raster function template."
},
{
"help": "",
"name": "Oklahoma",
"description": "A raster function template."
},
{
"help": "",
"name": "Oregon",
"description": "A raster function template."
},
{
"help": "",
"name": "Pennsylvania",
"description": "A raster function template."
},
{
"help": "",
"name": "Rhode_Island",
"description": "A raster function template."
},
{
"help": "",
"name": "South_Carolina",
"description": "A raster function template."
},
{
"help": "",
"name": "South_Dakota",
"description": "A raster function template."
},
{
"help": "",
"name": "Tennessee",
"description": "A raster function template."
},
{
"help": "",
"name": "Texas",
"description": "A raster function template."
},
{
"help": "",
"name": "Utah",
"description": "A raster function template."
},
{
"help": "",
"name": "Vermont",
"description": "A raster function template."
},
{
"help": "",
"name": "Virginia",
"description": "A raster function template."
},
{
"help": "",
"name": "Washington",
"description": "A raster function template."
},
{
"help": "",
"name": "West_Virginia",
"description": "A raster function template."
},
{
"help": "",
"name": "Wisconsin",
"description": "A raster function template."
},
{
"help": "",
"name": "Wyoming",
"description": "A raster function template."
}
]}
Mensuration Capabilities: Basic
Inspection Capabilities:
Has Histograms: true
Has Colormap: false
Has Multi Dimensions : false
Rendering Rule:
Min Scale: 0
Max Scale: 0
Copyright Text: Funding for this project provided by USDA Forest Service, Northern Research Station (NRS), Forest Inventory & Analysis as well as USDA Forest Service, State and Private Forestry Cooperative Forestry
Service Data Type: esriImageServiceDataTypeGeneric
Min Values: 1
Max Values: 8
Mean Values: 3.148924219041807
Standard Deviation Values: 2.1317999490107877
Object ID Field: objectid
Fields:
-
objectid
(
alias: objectid
, type: esriFieldTypeOID
)
-
name
(
length: 200
, alias: name
, type: esriFieldTypeString
)
-
minps
(
alias: minps
, type: esriFieldTypeDouble
)
-
maxps
(
alias: maxps
, type: esriFieldTypeDouble
)
-
lowps
(
alias: lowps
, type: esriFieldTypeDouble
)
-
highps
(
alias: highps
, type: esriFieldTypeDouble
)
-
category
(
alias: category
, type: esriFieldTypeInteger
, Coded Values:
[0: Unknown]
, [1: Primary]
, [2: Overview]
, ...6 more...
)
-
tag
(
length: 100
, alias: tag
, type: esriFieldTypeString
)
-
groupname
(
length: 100
, alias: groupname
, type: esriFieldTypeString
)
-
productname
(
length: 100
, alias: productname
, type: esriFieldTypeString
)
-
centerx
(
alias: centerx
, type: esriFieldTypeDouble
)
-
centery
(
alias: centery
, type: esriFieldTypeDouble
)
-
zorder
(
alias: zorder
, type: esriFieldTypeInteger
)
-
shape
(
alias: shape
, type: esriFieldTypeGeometry
)
Default Mosaic Method: Northwest
Allowed Mosaic Methods: NorthWest,Center,LockRaster,ByAttribute,Nadir,Viewpoint,Seamline,None
SortField:
SortValue: N/A
Mosaic Operator: First
Default Compression Quality: 75
Default Resampling Method: Nearest
Max Record Count: 1000
Max Image Height: 100000
Max Image Width: 100000
Max Download Image Count: 20
Max Mosaic Image Count: 100
Allow Raster Function: true
Allow Copy: true
Allow Analysis: true
Allow Compute TiePoints: false
Supports Statistics: true
Supports Advanced Queries: true
Use StandardizedQueries: true
Raster Type Infos:
Name: Raster Dataset
Description: Supports all ArcGIS Raster Datasets
Help:
Has Raster Attribute Table: false
Edit Fields Info: N/A
Ownership Based AccessControl For Rasters: N/A
Child Resources:
Info
Histograms
Statistics
Key Properties
Legend
Raster Function Infos
Supported Operations:
Export Image
Query
Identify
Measure
Compute Histograms
Compute Statistics Histograms
Get Samples
Compute Class Statistics
Query GPS Info
Find Images
Image to Map
Map to Image
Measure from Image
Image to Map Multiray
Query Boundary
Compute Pixel Location
Compute Angles
Validate
Project