{ "extent": { "ymin": 2480613.7867999971, "xmin": -14468344.6775, "ymax": 6865623.7867999971, "xmax": -7115704.6775000002, "spatialReference": { "latestWkid": 3857, "wkid": 102100 } }, "blockWidth": 2048, "mosaicOperator": "First", "serviceSourceType": "esriImageServiceSourceTypeMosaicDataset", "hasMultidimensions": false, "maxImageWidth": 100000, "maxRecordCount": 1000, "meanValues": [3.148924219041807], "hasColormap": false, "compressionType": "None", "defaultCompressionQuality": 75, "maxValues": [8], "hasHistograms": true, "datasetFormat": "AMD", "maxImageHeight": 100000, "sortField": "", "bandNames": ["Band_1"], "spatialReference": { "latestWkid": 3857, "wkid": 102100 }, "fullExtent": { "ymin": 2480613.7867999971, "xmin": -14468344.6775, "ymax": 6865623.7867999971, "xmax": -7115704.6775000002, "spatialReference": { "latestWkid": 3857, "wkid": 102100 } }, "bandCount": 1, "rasterFunctionInfos": [ { "help": "", "name": "CONUS", "description": "A raster function template." }, { "help": "", "name": "None", "description": "Make a Raster or Raster Dataset into a Function Raster Dataset." }, { "help": "", "name": "Alabama", "description": "A raster function template." }, { "help": "", "name": "Arizona", "description": "A raster function template." }, { "help": "", "name": "Arkansas", "description": "A raster function template." }, { "help": "", "name": "California", "description": "A raster function template." }, { "help": "", "name": "Colorado", "description": "A raster function template." }, { "help": "", "name": "Connecticut", "description": "A raster function template." }, { "help": "", "name": "Delaware", "description": "A raster function template." }, { "help": "", "name": "District_Of_Columbia", "description": "A raster function template." }, { "help": "", "name": "Florida", "description": "A raster function template." }, { "help": "", "name": "Georgia", "description": "A raster function template." }, { "help": "", "name": "Idaho", "description": "A raster function template." }, { "help": "", "name": "Illinois", "description": "A raster function template." }, { "help": "", "name": "Indiana", "description": "A raster function template." }, { "help": "", "name": "Iowa", "description": "A raster function template." }, { "help": "", "name": "Kansas", "description": "A raster function template." }, { "help": "", "name": "Kentucky", "description": "A raster function template." }, { "help": "", "name": "Louisiana", "description": "A raster function template." }, { "help": "", "name": "Maine", "description": "A raster function template." }, { "help": "", "name": "Maryland", "description": "A raster function template." }, { "help": "", "name": "Massachusetts", "description": "A raster function template." }, { "help": "", "name": "Michigan", "description": "A raster function template." }, { "help": "", "name": "Minnesota", "description": "A raster function template." }, { "help": "", "name": "Mississippi", "description": "A raster function template." }, { "help": "", "name": "Missouri", "description": "A raster function template." }, { "help": "", "name": "Montana", "description": "A raster function template." }, { "help": "", "name": "Nebraska", "description": "A raster function template." }, { "help": "", "name": "Nevada", "description": "A raster function template." }, { "help": "", "name": "New_Hampshire", "description": "A raster function template." }, { "help": "", "name": "New_Jersey", "description": "A raster function template." }, { "help": "", "name": "New_Mexico", "description": "A raster function template." }, { "help": "", "name": "New_York", "description": "A raster function template." }, { "help": "", "name": "North_Carolina", "description": "A raster function template." }, { "help": "", "name": "North_Dakota", "description": "A raster function template." }, { "help": "", "name": "Ohio", "description": "A raster function template." }, { "help": "", "name": "Oklahoma", "description": "A raster function template." }, { "help": "", "name": "Oregon", "description": "A raster function template." }, { "help": "", "name": "Pennsylvania", "description": "A raster function template." }, { "help": "", "name": "Rhode_Island", "description": "A raster function template." }, { "help": "", "name": "South_Carolina", "description": "A raster function template." }, { "help": "", "name": "South_Dakota", "description": "A raster function template." }, { "help": "", "name": "Tennessee", "description": "A raster function template." }, { "help": "", "name": "Texas", "description": "A raster function template." }, { "help": "", "name": "Utah", "description": "A raster function template." }, { "help": "", "name": "Vermont", "description": "A raster function template." }, { "help": "", "name": "Virginia", "description": "A raster function template." }, { "help": "", "name": "Washington", "description": "A raster function template." }, { "help": "", "name": "West_Virginia", "description": "A raster function template." }, { "help": "", "name": "Wisconsin", "description": "A raster function template." }, { "help": "", "name": "Wyoming", "description": "A raster function template." } ], "supportsStatistics": true, "sortableFields": "minps,maxps,lowps,highps,centerx,centery,zorder,st_area(shape),st_perimeter(shape)", "minValues": [1], "allowRasterFunction": true, "allowComputeTiePoints": false, "serviceDataType": "esriImageServiceDataTypeGeneric", "supportsAdvancedQueries": true, "maxDownloadSizeLimit": 2048, "currentVersion": 12, "sortValue": null, "objectIdField": "objectid", "blockHeight": 256, "initialExtent": { "ymin": 2480613.7867999971, "xmin": -14468344.6775, "ymax": 6865623.7867999971, "xmax": -7115704.6775000002, "spatialReference": { "latestWkid": 3857, "wkid": 102100 } }, "pixelSizeX": 30, "pixelSizeY": 30, "defaultMosaicMethod": "Northwest", "name": "Lands_Realty/USFS_EDW_ForestOwnership_CONUS", "allowedMosaicMethods": "NorthWest,Center,LockRaster,ByAttribute,Nadir,Viewpoint,Seamline,None", "maxDownloadImageCount": 20, "fields": [ { "domain": null, "name": "objectid", "alias": "objectid", "type": "esriFieldTypeOID" }, { "domain": null, "name": "name", "length": 200, "alias": "name", "type": "esriFieldTypeString" }, { "domain": null, "name": "minps", "alias": "minps", "type": "esriFieldTypeDouble" }, { "domain": null, "name": "maxps", "alias": "maxps", "type": "esriFieldTypeDouble" }, { "domain": null, "name": "lowps", "alias": "lowps", "type": "esriFieldTypeDouble" }, { "domain": null, "name": "highps", "alias": "highps", "type": "esriFieldTypeDouble" }, { "domain": { "splitPolicy": "esriSPTDefaultValue", "name": "MosaicCatalogItemCategoryDomain", "description": "Catalog item categories.", "type": "codedValue", "codedValues": [ { "code": 0, "name": "Unknown" }, { "code": 1, "name": "Primary" }, { "code": 2, "name": "Overview" }, { "code": 3, "name": "Unprocessed Overview" }, { "code": 4, "name": "Partial Overview" }, { "code": 5, "name": "Inactive" }, { "code": 253, "name": "Uploaded" }, { "code": 254, "name": "Incomplete" }, { "code": 255, "name": "Custom" } ], "mergePolicy": "esriMPTDefaultValue" }, "name": "category", "alias": "category", "type": "esriFieldTypeInteger" }, { "domain": null, "name": "tag", "length": 100, "alias": "tag", "type": "esriFieldTypeString" }, { "domain": null, "name": "groupname", "length": 100, "alias": "groupname", "type": "esriFieldTypeString" }, { "domain": null, "name": "productname", "length": 100, "alias": "productname", "type": "esriFieldTypeString" }, { "domain": null, "name": "centerx", "alias": "centerx", "type": "esriFieldTypeDouble" }, { "domain": null, "name": "centery", "alias": "centery", "type": "esriFieldTypeDouble" }, { "domain": null, "name": "zorder", "alias": "zorder", "type": "esriFieldTypeInteger" }, { "domain": null, "name": "shape", "alias": "shape", "type": "esriFieldTypeGeometry" } ], "allowAnalysis": true, "hasRasterAttributeTable": false, "useStandardizedQueries": true, "description": "

This data product contains raster data depicting the spatial distribution of forest ownership types in the conterminous United States circa 2020. The data are a modeled representation of forest land by ownership type, and include three types of public ownership: federal, state, and local, as well as three types of private: family (includes individuals and families), corporate, and other private (includes conservation and natural resource organizations, unincorporated partnerships and associations, and Native American tribal lands).<\/SPAN><\/P>
Data are from \"<\/SPAN>Forest ownership in the conterminous United States circa 2017: distribution of eight ownership types - geospatial dataset\u201d (<\/SPAN>RDS-2020-0044<\/SPAN><\/A>)<\/SPAN><\/P>
<\/P><\/DIV><\/DIV><\/DIV>", "pixelType": "U4", "meanPixelSize": 30, "exportTilesAllowed": false, "editFieldsInfo": null, "rasterTypeInfos": [{ "help": "", "name": "Raster Dataset", "description": "Supports all ArcGIS Raster Datasets" }], "defaultResamplingMethod": "Nearest", "itemAccess": false, "minScale": 0, "serviceProperties": "NorthWest<\/MosaicMethod>First<\/MosaicOperator>true<\/SortAscending><\/LockImageID>name<\/TileOrderField>0<\/TileOrderBase>600.000000<\/AvgImageSpacingX>300.000000<\/AvgImageSpacingY>0.0<\/ViewPointX>0.0<\/ViewPointY>0.0<\/ViewPointDefShiftX>0.0<\/ViewPointDefShiftY>None<\/CompressionMethod>75<\/CompressionQuality>0.010000<\/CompressionTolerance>Nearest<\/SamplingMethod><\/ImageServiceProperties><\/ImageServer>", "advancedQueryCapabilities": { "supportsStatistics": true, "supportsSqlExpression": true, "supportsOrderBy": true, "useStandardizedQueries": true, "supportsPagination": true, "supportsDistinct": true }, "serviceItemId": "6eddd3dfb01b4b1d8789565cf68a1f26", "capabilities": "Image,Metadata,Mensuration,Catalog", "maxScale": 0, "stdvValues": [2.1317999490107877], "allowedFields": "name,minps,maxps,lowps,highps,tag,groupname,productname,centerx,centery,zorder", "minPixelSize": 0, "sortAscending": true, "maxMosaicImageCount": 100, "inspectionCapabilities": "", "maxPixelSize": 0, "uncompressedSize": 17911888848, "serviceDescription": "

This data product contains raster data depicting the spatial distribution of forest ownership types in the conterminous United States circa 2020. The data are a modeled representation of forest land by ownership type, and include three types of public ownership: federal, state, and local, as well as three types of private: family (includes individuals and families), corporate, and other private (includes conservation and natural resource organizations, unincorporated partnerships and associations, and Native American tribal lands).<\/SPAN><\/P><\/DIV><\/DIV><\/DIV>", "allowCopy": true, "copyrightText": "Funding for this project provided by USDA Forest Service, Northern Research Station (NRS), Forest Inventory & Analysis as well as USDA Forest Service, State and Private Forestry Cooperative Forestry", "mensurationCapabilities": "Basic", "ownershipBasedAccessControlForRasters": null }