Potential Control Location Suitability (PCL) is an estimate of fire control likelihood or probability developed by relating observations of fire control and lack of control with landscape predictor variables thought to influence control likelihood (O’Connor et al. 2017). Observations of fire control success come from the perimeters of historical fires during the period 2002-2021 and observations of control failure come from the same fire interiors. PCL is modeled using the boosted regression tree method, which iteratively fits regression trees to random subsets of the data to minimize model deviance from the training data. Boosted regression is ideal for this application because the models can capture non-linear effects and variable interactions. Landscape predictor variables include road influence, barrier influence, cost distance, resistance to control, flat topography influence, valley topography influence, ridge topography influence, steep topography influence, Suppression Difficulty Index, modeled fire rate of spread, and prior burning extent and timing. PCL models were developed for 29 discrete ecoregions and then mosaicked into a single West-wide layer by averaging values among adjacent models in a 1-km width buffer zone along the ecoregion boundaries. See the full methods report for more details.PCL was modeled using 2026 capable fuels data.
Name: Fire_Aviation/USFS_RMA_Potential_Control_Location
Description: Potential Control Location Suitability (PCL) is an estimate of fire control likelihood or probability developed by relating observations of fire control and lack of control with landscape predictor variables thought to influence control likelihood (O’Connor et al. 2017). Observations of fire control success come from the perimeters of historical fires during the period 2002-2021 and observations of control failure come from the same fire interiors. PCL is modeled using the boosted regression tree method, which iteratively fits regression trees to random subsets of the data to minimize model deviance from the training data. Boosted regression is ideal for this application because the models can capture non-linear effects and variable interactions. Landscape predictor variables include road influence, barrier influence, cost distance, resistance to control, flat topography influence, valley topography influence, ridge topography influence, steep topography influence, Suppression Difficulty Index, modeled fire rate of spread, and prior burning extent and timing. PCL models were developed for 29 discrete ecoregions and then mosaicked into a single West-wide layer by averaging values among adjacent models in a 1-km width buffer zone along the ecoregion boundaries. See the full methods report for more details.PCL was modeled using 2026 capable fuels data.
Single Fused Map Cache: false
Extent:
XMin: -1.42335665012E7
YMin: 3062930.042000003
XMax: -1.07398265012E7
YMax: 6719360.042000003
Spatial Reference: 102100
(3857)
LatestVCSWkid(0)
Initial Extent:
XMin: -1.42335665012E7
YMin: 3062930.042000003
XMax: -1.07398265012E7
YMax: 6719360.042000003
Spatial Reference: 102100
(3857)
LatestVCSWkid(0)
Full Extent:
XMin: -1.42335665012E7
YMin: 3062930.042000003
XMax: -1.07398265012E7
YMax: 6719360.042000003
Spatial Reference: 102100
(3857)
LatestVCSWkid(0)
Pixel Size X: 30.0
Pixel Size Y: 30.0
Band Count: 1
Pixel Type: S8
RasterFunction Infos: {"rasterFunctionInfos": [
{
"help": "",
"name": "PCL",
"description": "PCL"
},
{
"help": "",
"name": "None",
"description": "Make a Raster or Raster Dataset into a Function Raster Dataset."
}
]}
Mensuration Capabilities: Basic
Inspection Capabilities:
Has Histograms: true
Has Colormap: false
Has Multi Dimensions : false
Rendering Rule:
Min Scale: 0
Max Scale: 0
Copyright Text: USDA - GEO; USDA - USFS – GTAC
Service Data Type: esriImageServiceDataTypeGeneric
Min Values: -128
Max Values: 127
Mean Values: 23.969403638468158
Standard Deviation Values: 16.339077350435172
Object ID Field: objectid
Fields:
-
objectid
(
alias: objectid
, type: esriFieldTypeOID
)
-
name
(
length: 200
, alias: name
, type: esriFieldTypeString
)
-
minps
(
alias: minps
, type: esriFieldTypeDouble
)
-
maxps
(
alias: maxps
, type: esriFieldTypeDouble
)
-
lowps
(
alias: lowps
, type: esriFieldTypeDouble
)
-
highps
(
alias: highps
, type: esriFieldTypeDouble
)
-
category
(
alias: category
, type: esriFieldTypeInteger
, Coded Values:
[0: Unknown]
, [1: Primary]
, [2: Overview]
, ...6 more...
)
-
tag
(
length: 100
, alias: tag
, type: esriFieldTypeString
)
-
groupname
(
length: 100
, alias: groupname
, type: esriFieldTypeString
)
-
productname
(
length: 100
, alias: productname
, type: esriFieldTypeString
)
-
centerx
(
alias: centerx
, type: esriFieldTypeDouble
)
-
centery
(
alias: centery
, type: esriFieldTypeDouble
)
-
zorder
(
alias: zorder
, type: esriFieldTypeInteger
)
-
shape
(
alias: shape
, type: esriFieldTypeGeometry
)
Default Mosaic Method: Northwest
Allowed Mosaic Methods: NorthWest,Center,LockRaster,ByAttribute,Nadir,Viewpoint,Seamline,None
SortField:
SortValue: N/A
Mosaic Operator: First
Default Compression Quality: 75
Default Resampling Method: Nearest
Max Record Count: 1000
Max Image Height: 100000
Max Image Width: 100000
Max Download Image Count: 20
Max Mosaic Image Count: 20
Allow Raster Function: true
Allow Copy: true
Allow Analysis: true
Allow Compute TiePoints: false
Supports Statistics: true
Supports Advanced Queries: true
Use StandardizedQueries: true
Raster Type Infos:
Name: Raster Dataset
Description: Supports all ArcGIS Raster Datasets
Help:
Has Raster Attribute Table: false
Edit Fields Info: N/A
Ownership Based AccessControl For Rasters: N/A
Child Resources:
Info
Histograms
Statistics
Key Properties
Legend
Raster Function Infos
Supported Operations:
Export Image
Query
Identify
Measure
Compute Histograms
Compute Statistics Histograms
Get Samples
Compute Class Statistics
Query GPS Info
Find Images
Image to Map
Map to Image
Measure from Image
Image to Map Multiray
Query Boundary
Compute Pixel Location
Compute Angles
Validate
Project