{ "extent": { "ymin": 3062930.0420000032, "xmin": -14233566.5012, "ymax": 6719360.0420000032, "xmax": -10739826.5012, "spatialReference": { "latestWkid": 3857, "wkid": 102100 } }, "blockWidth": 2048, "mosaicOperator": "First", "serviceSourceType": "esriImageServiceSourceTypeMosaicDataset", "hasMultidimensions": false, "maxImageWidth": 100000, "maxRecordCount": 1000, "meanValues": [23.969403638468158], "hasColormap": false, "compressionType": "None", "defaultCompressionQuality": 75, "maxValues": [127], "hasHistograms": true, "datasetFormat": "AMD", "maxImageHeight": 100000, "sortField": "", "bandNames": ["Band_1"], "spatialReference": { "latestWkid": 3857, "wkid": 102100 }, "fullExtent": { "ymin": 3062930.0420000032, "xmin": -14233566.5012, "ymax": 6719360.0420000032, "xmax": -10739826.5012, "spatialReference": { "latestWkid": 3857, "wkid": 102100 } }, "bandCount": 1, "rasterFunctionInfos": [ { "help": "", "name": "PCL", "description": "PCL" }, { "help": "", "name": "None", "description": "Make a Raster or Raster Dataset into a Function Raster Dataset." } ], "supportsStatistics": true, "sortableFields": "minps,maxps,lowps,highps,centerx,centery,zorder", "minValues": [-128], "allowRasterFunction": true, "allowComputeTiePoints": false, "serviceDataType": "esriImageServiceDataTypeGeneric", "supportsAdvancedQueries": true, "maxDownloadSizeLimit": 2048, "currentVersion": 12, "sortValue": null, "objectIdField": "objectid", "blockHeight": 256, "initialExtent": { "ymin": 3062930.0420000032, "xmin": -14233566.5012, "ymax": 6719360.0420000032, "xmax": -10739826.5012, "spatialReference": { "latestWkid": 3857, "wkid": 102100 } }, "pixelSizeX": 30, "pixelSizeY": 30, "defaultMosaicMethod": "Northwest", "name": "Fire_Aviation/USFS_RMA_Potential_Control_Location", "allowedMosaicMethods": "NorthWest,Center,LockRaster,ByAttribute,Nadir,Viewpoint,Seamline,None", "maxDownloadImageCount": 20, "fields": [ { "domain": null, "name": "objectid", "alias": "objectid", "type": "esriFieldTypeOID" }, { "domain": null, "name": "name", "length": 200, "alias": "name", "type": "esriFieldTypeString" }, { "domain": null, "name": "minps", "alias": "minps", "type": "esriFieldTypeDouble" }, { "domain": null, "name": "maxps", "alias": "maxps", "type": "esriFieldTypeDouble" }, { "domain": null, "name": "lowps", "alias": "lowps", "type": "esriFieldTypeDouble" }, { "domain": null, "name": "highps", "alias": "highps", "type": "esriFieldTypeDouble" }, { "domain": { "splitPolicy": "esriSPTDefaultValue", "name": "MosaicCatalogItemCategoryDomain", "description": "Catalog item categories.", "type": "codedValue", "codedValues": [ { "code": 0, "name": "Unknown" }, { "code": 1, "name": "Primary" }, { "code": 2, "name": "Overview" }, { "code": 3, "name": "Unprocessed Overview" }, { "code": 4, "name": "Partial Overview" }, { "code": 5, "name": "Inactive" }, { "code": 253, "name": "Uploaded" }, { "code": 254, "name": "Incomplete" }, { "code": 255, "name": "Custom" } ], "mergePolicy": "esriMPTDefaultValue" }, "name": "category", "alias": "category", "type": "esriFieldTypeInteger" }, { "domain": null, "name": "tag", "length": 100, "alias": "tag", "type": "esriFieldTypeString" }, { "domain": null, "name": "groupname", "length": 100, "alias": "groupname", "type": "esriFieldTypeString" }, { "domain": null, "name": "productname", "length": 100, "alias": "productname", "type": "esriFieldTypeString" }, { "domain": null, "name": "centerx", "alias": "centerx", "type": "esriFieldTypeDouble" }, { "domain": null, "name": "centery", "alias": "centery", "type": "esriFieldTypeDouble" }, { "domain": null, "name": "zorder", "alias": "zorder", "type": "esriFieldTypeInteger" }, { "domain": null, "name": "shape", "alias": "shape", "type": "esriFieldTypeGeometry" } ], "allowAnalysis": true, "hasRasterAttributeTable": false, "useStandardizedQueries": true, "description": "
Potential Control Location Suitability (PCL) is an estimate of fire control likelihood or probability developed by relating observations of fire control and lack of control with landscape predictor variables thought to influence control likelihood (O\u2019Connor et al. 2017). Observations of fire control success come from the perimeters of historical fires during the period 2002-2021 and observations of control failure come from the same fire interiors. PCL is modeled using the boosted regression tree method, which iteratively fits regression trees to random subsets of the data to minimize model deviance from the training data. Boosted regression is ideal for this application because the models can capture non-linear effects and variable interactions. Landscape predictor variables include road influence, barrier influence, cost distance, resistance to control, flat topography influence, valley topography influence, ridge topography influence, steep topography influence, Suppression Difficulty Index, modeled fire rate of spread, and prior burning extent and timing. PCL models were developed for 29 discrete ecoregions and then mosaicked into a single West-wide layer by averaging values among adjacent models in a 1-km width buffer zone along the ecoregion boundaries. See the full methods report for more details. PCL was modeled using 2026 capable fuels data.",
"pixelType": "S8",
"meanPixelSize": 30,
"exportTilesAllowed": false,
"editFieldsInfo": null,
"rasterTypeInfos": [{
"help": "",
"name": "Raster Dataset",
"description": "Supports all ArcGIS Raster Datasets"
}],
"defaultResamplingMethod": "Nearest",
"itemAccess": false,
"minScale": 0,
"serviceProperties": " Potential Control Location Suitability (PCL) is an estimate of fire control likelihood or probability developed by relating observations of fire control and lack of control with landscape predictor variables thought to influence control likelihood (O\u2019Connor et al. 2017). Observations of fire control success come from the perimeters of historical fires during the period 2002-2021 and observations of control failure come from the same fire interiors. PCL is modeled using the boosted regression tree method, which iteratively fits regression trees to random subsets of the data to minimize model deviance from the training data. Boosted regression is ideal for this application because the models can capture non-linear effects and variable interactions. Landscape predictor variables include road influence, barrier influence, cost distance, resistance to control, flat topography influence, valley topography influence, ridge topography influence, steep topography influence, Suppression Difficulty Index, modeled fire rate of spread, and prior burning extent and timing. PCL models were developed for 29 discrete ecoregions and then mosaicked into a single West-wide layer by averaging values among adjacent models in a 1-km width buffer zone along the ecoregion boundaries. See the full methods report for more details. PCL was modeled using 2026 capable fuels data.",
"allowCopy": true,
"copyrightText": "USDA - GEO; USDA - USFS \u2013 GTAC",
"mensurationCapabilities": "Basic",
"ownershipBasedAccessControlForRasters": null
}