View In:
ArcGIS JavaScript
ArcGIS Enterprise Map Viewer
ArcGIS Earth
Service Description: Wildfire hazard was modeled using 2025 capable fuels data. Burn probability represents the annual likelihood of burning in a large (>= 100-ha) wildfire based on current landscape fuels, historical ignition patterns, topography, local climate, and historical large fire frequency and size. Potential wildfire burn probability was estimated for the 11 Western States by running the USDA Forest Service FSim Model (Finney et al. 2011) at 120-m resolution with post-processing to upsample results to 30-m resolution and estimate burn probability in non-burnable areas adjacent to wildland fuels. Wildfire burn probability for the remainder of CONUS came from the Wildfire Risk to Communities Project (Scott et al. 2024) or the Southern Wildfire Risk Assessment (SouthWRA 2024) modeled with FSim using similar methods.
Name: Fire_Aviation/USFS_QWRA_BurnProbability_CONUS
Description: Wildfire hazard was modeled using 2025 capable fuels data. Burn probability represents the annual likelihood of burning in a large (>= 100-ha) wildfire based on current landscape fuels, historical ignition patterns, topography, local climate, and historical large fire frequency and size. Potential wildfire burn probability was estimated for the 11 Western States by running the USDA Forest Service FSim Model (Finney et al. 2011) at 120-m resolution with post-processing to upsample results to 30-m resolution and estimate burn probability in non-burnable areas adjacent to wildland fuels. Wildfire burn probability for the remainder of CONUS came from the Wildfire Risk to Communities Project (Scott et al. 2024) or the Southern Wildfire Risk Assessment (SouthWRA 2024) modeled with FSim using similar methods.
Single Fused Map Cache: false
Extent:
XMin: -1.42919667048E7
YMin: 2563037.3960999995
XMax: -7130456.7048
YMax: 6886967.3961
Spatial Reference: 102100
(3857)
LatestVCSWkid(0)
Initial Extent:
XMin: -1.42919667048E7
YMin: 2563037.3960999995
XMax: -7130456.7048
YMax: 6886967.3961
Spatial Reference: 102100
(3857)
LatestVCSWkid(0)
Full Extent:
XMin: -1.42919667048E7
YMin: 2563037.3960999995
XMax: -7130456.7048
YMax: 6886967.3961
Spatial Reference: 102100
(3857)
LatestVCSWkid(0)
Pixel Size X: 30.0
Pixel Size Y: 30.0
Band Count: 1
Pixel Type: U8
RasterFunction Infos: {"rasterFunctionInfos": [
{
"help": "",
"name": "NaturalBurnProb (1)",
"description": "NaturalBurnProb"
},
{
"help": "",
"name": "None",
"description": "Make a Raster or Raster Dataset into a Function Raster Dataset."
},
{
"help": "",
"name": "NaturalBurnProb",
"description": "NaturalBurnProb"
}
]}
Mensuration Capabilities: Basic
Inspection Capabilities:
Has Histograms: true
Has Colormap: false
Has Multi Dimensions : false
Rendering Rule:
Min Scale: 0
Max Scale: 0
Copyright Text: USDA - GEO; USDA - USFS – GTAC
Service Data Type: esriImageServiceDataTypeGeneric
Min Values: 0
Max Values: 12
Mean Values: 8.2798616439100297
Standard Deviation Values: 2.669957342636982
Object ID Field: objectid
Fields:
-
objectid
(
alias: objectid
, type: esriFieldTypeOID
)
-
name
(
length: 200
, alias: name
, type: esriFieldTypeString
)
-
minps
(
alias: minps
, type: esriFieldTypeDouble
)
-
maxps
(
alias: maxps
, type: esriFieldTypeDouble
)
-
lowps
(
alias: lowps
, type: esriFieldTypeDouble
)
-
highps
(
alias: highps
, type: esriFieldTypeDouble
)
-
category
(
alias: category
, type: esriFieldTypeInteger
, Coded Values:
[0: Unknown]
, [1: Primary]
, [2: Overview]
, ...6 more...
)
-
tag
(
length: 100
, alias: tag
, type: esriFieldTypeString
)
-
groupname
(
length: 100
, alias: groupname
, type: esriFieldTypeString
)
-
productname
(
length: 100
, alias: productname
, type: esriFieldTypeString
)
-
centerx
(
alias: centerx
, type: esriFieldTypeDouble
)
-
centery
(
alias: centery
, type: esriFieldTypeDouble
)
-
zorder
(
alias: zorder
, type: esriFieldTypeInteger
)
-
shape
(
alias: shape
, type: esriFieldTypeGeometry
)
Default Mosaic Method: Northwest
Allowed Mosaic Methods: NorthWest,Center,LockRaster,ByAttribute,Nadir,Viewpoint,Seamline,None
SortField:
SortValue: N/A
Mosaic Operator: First
Default Compression Quality: 75
Default Resampling Method: Nearest
Max Record Count: 1000
Max Image Height: 100000
Max Image Width: 100000
Max Download Image Count: 20
Max Mosaic Image Count: 20
Allow Raster Function: true
Allow Copy: true
Allow Analysis: true
Allow Compute TiePoints: false
Supports Statistics: true
Supports Advanced Queries: true
Use StandardizedQueries: true
Raster Type Infos:
Name: Raster Dataset
Description: Supports all ArcGIS Raster Datasets
Help:
Has Raster Attribute Table: false
Edit Fields Info: N/A
Ownership Based AccessControl For Rasters: N/A
Child Resources:
Info
Histograms
Statistics
Key Properties
Legend
Raster Function Infos
Supported Operations:
Export Image
Query
Identify
Measure
Compute Histograms
Compute Statistics Histograms
Get Samples
Compute Class Statistics
Query GPS Info
Find Images
Image to Map
Map to Image
Measure from Image
Image to Map Multiray
Query Boundary
Compute Pixel Location
Compute Angles
Validate
Project