{ "extent": { "ymin": 2563037.3960999995, "xmin": -14291966.7048, "ymax": 6886967.3960999995, "xmax": -7130456.7048000004, "spatialReference": { "latestWkid": 3857, "wkid": 102100 } }, "blockWidth": 2048, "mosaicOperator": "First", "serviceSourceType": "esriImageServiceSourceTypeMosaicDataset", "hasMultidimensions": false, "maxImageWidth": 100000, "maxRecordCount": 1000, "meanValues": [8.2798616439100297], "hasColormap": false, "compressionType": "None", "defaultCompressionQuality": 75, "maxValues": [12], "hasHistograms": true, "datasetFormat": "AMD", "maxImageHeight": 100000, "sortField": "", "bandNames": ["Band_1"], "spatialReference": { "latestWkid": 3857, "wkid": 102100 }, "fullExtent": { "ymin": 2563037.3960999995, "xmin": -14291966.7048, "ymax": 6886967.3960999995, "xmax": -7130456.7048000004, "spatialReference": { "latestWkid": 3857, "wkid": 102100 } }, "bandCount": 1, "rasterFunctionInfos": [ { "help": "", "name": "NaturalBurnProb (1)", "description": "NaturalBurnProb" }, { "help": "", "name": "None", "description": "Make a Raster or Raster Dataset into a Function Raster Dataset." }, { "help": "", "name": "NaturalBurnProb", "description": "NaturalBurnProb" } ], "supportsStatistics": true, "sortableFields": "minps,maxps,lowps,highps,centerx,centery,zorder", "minValues": [0], "allowRasterFunction": true, "allowComputeTiePoints": false, "serviceDataType": "esriImageServiceDataTypeGeneric", "supportsAdvancedQueries": true, "maxDownloadSizeLimit": 2048, "currentVersion": 12, "sortValue": null, "objectIdField": "objectid", "blockHeight": 256, "initialExtent": { "ymin": 2563037.3960999995, "xmin": -14291966.7048, "ymax": 6886967.3960999995, "xmax": -7130456.7048000004, "spatialReference": { "latestWkid": 3857, "wkid": 102100 } }, "pixelSizeX": 30, "pixelSizeY": 30, "defaultMosaicMethod": "Northwest", "name": "Fire_Aviation/USFS_QWRA_BurnProbability_CONUS", "allowedMosaicMethods": "NorthWest,Center,LockRaster,ByAttribute,Nadir,Viewpoint,Seamline,None", "maxDownloadImageCount": 20, "fields": [ { "domain": null, "name": "objectid", "alias": "objectid", "type": "esriFieldTypeOID" }, { "domain": null, "name": "name", "length": 200, "alias": "name", "type": "esriFieldTypeString" }, { "domain": null, "name": "minps", "alias": "minps", "type": "esriFieldTypeDouble" }, { "domain": null, "name": "maxps", "alias": "maxps", "type": "esriFieldTypeDouble" }, { "domain": null, "name": "lowps", "alias": "lowps", "type": "esriFieldTypeDouble" }, { "domain": null, "name": "highps", "alias": "highps", "type": "esriFieldTypeDouble" }, { "domain": { "splitPolicy": "esriSPTDefaultValue", "name": "MosaicCatalogItemCategoryDomain", "description": "Catalog item categories.", "type": "codedValue", "codedValues": [ { "code": 0, "name": "Unknown" }, { "code": 1, "name": "Primary" }, { "code": 2, "name": "Overview" }, { "code": 3, "name": "Unprocessed Overview" }, { "code": 4, "name": "Partial Overview" }, { "code": 5, "name": "Inactive" }, { "code": 253, "name": "Uploaded" }, { "code": 254, "name": "Incomplete" }, { "code": 255, "name": "Custom" } ], "mergePolicy": "esriMPTDefaultValue" }, "name": "category", "alias": "category", "type": "esriFieldTypeInteger" }, { "domain": null, "name": "tag", "length": 100, "alias": "tag", "type": "esriFieldTypeString" }, { "domain": null, "name": "groupname", "length": 100, "alias": "groupname", "type": "esriFieldTypeString" }, { "domain": null, "name": "productname", "length": 100, "alias": "productname", "type": "esriFieldTypeString" }, { "domain": null, "name": "centerx", "alias": "centerx", "type": "esriFieldTypeDouble" }, { "domain": null, "name": "centery", "alias": "centery", "type": "esriFieldTypeDouble" }, { "domain": null, "name": "zorder", "alias": "zorder", "type": "esriFieldTypeInteger" }, { "domain": null, "name": "shape", "alias": "shape", "type": "esriFieldTypeGeometry" } ], "allowAnalysis": true, "hasRasterAttributeTable": false, "useStandardizedQueries": true, "description": "
Wildfire hazard was modeled using 2025 capable fuels data. Burn probability represents the annual likelihood of burning in a large (>= 100-ha) wildfire based on current landscape fuels, historical ignition patterns, topography, local climate, and historical large fire frequency and size. Potential wildfire burn probability was estimated for the 11 Western States by running the USDA Forest Service FSim Model (Finney et al. 2011) at 120-m resolution with post-processing to upsample results to 30-m resolution and estimate burn probability in non-burnable areas adjacent to wildland fuels. Wildfire burn probability for the remainder of CONUS came from the Wildfire Risk to Communities Project (Scott et al. 2024) or the Southern Wildfire Risk Assessment (SouthWRA 2024) modeled with FSim using similar methods.<\/span><\/p><\/div><\/div><\/div>",
"pixelType": "U8",
"meanPixelSize": 30,
"exportTilesAllowed": false,
"editFieldsInfo": null,
"rasterTypeInfos": [{
"help": "",
"name": "Raster Dataset",
"description": "Supports all ArcGIS Raster Datasets"
}],
"defaultResamplingMethod": "Nearest",
"itemAccess": false,
"minScale": 0,
"serviceProperties": " Wildfire hazard was modeled using 2025 capable fuels data. Burn probability represents the annual likelihood of burning in a large (>= 100-ha) wildfire based on current landscape fuels, historical ignition patterns, topography, local climate, and historical large fire frequency and size. Potential wildfire burn probability was estimated for the 11 Western States by running the USDA Forest Service FSim Model (Finney et al. 2011) at 120-m resolution with post-processing to upsample results to 30-m resolution and estimate burn probability in non-burnable areas adjacent to wildland fuels. Wildfire burn probability for the remainder of CONUS came from the Wildfire Risk to Communities Project (Scott et al. 2024) or the Southern Wildfire Risk Assessment (SouthWRA 2024) modeled with FSim using similar methods.<\/SPAN><\/P><\/DIV><\/DIV><\/DIV>",
"allowCopy": true,
"copyrightText": "USDA - GEO; USDA - USFS \u2013 GTAC",
"mensurationCapabilities": "Basic",
"ownershipBasedAccessControlForRasters": null
}