View In:
ArcGIS JavaScript
ArcGIS Enterprise Map Viewer
ArcGIS Earth
Service Description: The estimated ground evacuation time layer is intended to provide a broad view of medical care accessibility to inform incident- and regional-level strategic risk assessment and mitigation planning. The estimated ground evacuation times account for hospital locations, driving speeds on the current road network, and off-road walking speeds influenced by topography, vegetation, slash/blowdown, and waterbodies. Evacuation times are binned into broad classes (0-1 hours, 1-2 hours, 2-4 hours, 4-6 hours, and & >6 hours) commensurate with the precision of the analysis. There are several limitations of this estimated ground evacuation time dataset that users should understand. The analysis assumes that the closest general acute care or critical access hospital will be the first stop to stabilize the patient. Incident level safety and medical planning may identify different preferred medical facilities based on their actual travel times and/or capabilities. These estimated evacuation times only account for the travel portion of an evacuation and should therefore be viewed as best-case estimates. Complicated injuries may require additional time for patient evaluation, care, packaging for transport, and/or transfer to a vehicle. Travel times are calculated under the assumptions that the litter crew can travel at the median pedestrian rate (influenced by landscape factors) and that the ambulance or other transport vehicle can travel at the designated road speed limits. Users of this dataset should be thoughtful of factors not accounted for in this analysis that could slow evacuations such as additional landscape characteristics, crew condition, or dynamic factors like weather, traffic, or road closures.
Name: Fire_Aviation/USFS_EDW_SAB_FirefighterEstimatedGroundEvacuation
Description: The estimated ground evacuation time layer is intended to provide a broad view of medical care accessibility to inform incident- and regional-level strategic risk assessment and mitigation planning. The estimated ground evacuation times account for hospital locations, driving speeds on the current road network, and off-road walking speeds influenced by topography, vegetation, slash/blowdown, and waterbodies. Evacuation times are binned into broad classes (0-1 hours, 1-2 hours, 2-4 hours, 4-6 hours, and & >6 hours) commensurate with the precision of the analysis. There are several limitations of this estimated ground evacuation time dataset that users should understand. The analysis assumes that the closest general acute care or critical access hospital will be the first stop to stabilize the patient. Incident level safety and medical planning may identify different preferred medical facilities based on their actual travel times and/or capabilities. These estimated evacuation times only account for the travel portion of an evacuation and should therefore be viewed as best-case estimates. Complicated injuries may require additional time for patient evaluation, care, packaging for transport, and/or transfer to a vehicle. Travel times are calculated under the assumptions that the litter crew can travel at the median pedestrian rate (influenced by landscape factors) and that the ambulance or other transport vehicle can travel at the designated road speed limits. Users of this dataset should be thoughtful of factors not accounted for in this analysis that could slow evacuations such as additional landscape characteristics, crew condition, or dynamic factors like weather, traffic, or road closures.
Single Fused Map Cache: false
Extent:
XMin: -1.4246360529564038E7
YMin: 2596581.01385427
XMax: -7264130.529564038
YMax: 6737031.01385427
Spatial Reference: 102100
(3857)
LatestVCSWkid(0)
Initial Extent:
XMin: -1.4246360529564038E7
YMin: 2596581.01385427
XMax: -7264130.529564038
YMax: 6737031.01385427
Spatial Reference: 102100
(3857)
LatestVCSWkid(0)
Full Extent:
XMin: -1.4246360529564038E7
YMin: 2596581.01385427
XMax: -7264130.529564038
YMax: 6737031.01385427
Spatial Reference: 102100
(3857)
LatestVCSWkid(0)
Pixel Size X: 30.0
Pixel Size Y: 30.0
Band Count: 1
Pixel Type: U16
RasterFunction Infos: {"rasterFunctionInfos": [
{
"help": "",
"name": "FirefighterEstGroundEvac_01",
"description": "RFT for Firefighter Estimated Ground Evacuation Time"
},
{
"help": "",
"name": "None",
"description": "Make a Raster or Raster Dataset into a Function Raster Dataset."
}
]}
Mensuration Capabilities: Basic
Inspection Capabilities:
Has Histograms: true
Has Colormap: false
Has Multi Dimensions : false
Rendering Rule:
Min Scale: 0
Max Scale: 0
Copyright Text: USFS Geospatial Office (GO), EDW
Service Data Type: esriImageServiceDataTypeGeneric
Min Values: 1
Max Values: 5
Mean Values: 1.4540369276146512
Standard Deviation Values: 0.81214716580553725
Object ID Field: objectid
Fields:
-
objectid
(
alias: objectid
, type: esriFieldTypeOID
)
-
name
(
length: 200
, alias: name
, type: esriFieldTypeString
)
-
minps
(
alias: minps
, type: esriFieldTypeDouble
)
-
maxps
(
alias: maxps
, type: esriFieldTypeDouble
)
-
lowps
(
alias: lowps
, type: esriFieldTypeDouble
)
-
highps
(
alias: highps
, type: esriFieldTypeDouble
)
-
category
(
alias: category
, type: esriFieldTypeInteger
, Coded Values:
[0: Unknown]
, [1: Primary]
, [2: Overview]
, ...6 more...
)
-
tag
(
length: 100
, alias: tag
, type: esriFieldTypeString
)
-
groupname
(
length: 100
, alias: groupname
, type: esriFieldTypeString
)
-
productname
(
length: 100
, alias: productname
, type: esriFieldTypeString
)
-
centerx
(
alias: centerx
, type: esriFieldTypeDouble
)
-
centery
(
alias: centery
, type: esriFieldTypeDouble
)
-
zorder
(
alias: zorder
, type: esriFieldTypeInteger
)
-
shape
(
alias: shape
, type: esriFieldTypeGeometry
)
Default Mosaic Method: Northwest
Allowed Mosaic Methods: NorthWest,Center,LockRaster,ByAttribute,Nadir,Viewpoint,Seamline,None
SortField:
SortValue: N/A
Mosaic Operator: First
Default Compression Quality: 75
Default Resampling Method: Bilinear
Max Record Count: 1000
Max Image Height: 4100
Max Image Width: 15000
Max Download Image Count: 20
Max Mosaic Image Count: 20
Allow Raster Function: true
Allow Copy: true
Allow Analysis: true
Allow Compute TiePoints: false
Supports Statistics: true
Supports Advanced Queries: true
Use StandardizedQueries: true
Raster Type Infos:
Name: Raster Dataset
Description: Supports all ArcGIS Raster Datasets
Help:
Has Raster Attribute Table: false
Edit Fields Info: N/A
Ownership Based AccessControl For Rasters: N/A
Child Resources:
Info
Histograms
Statistics
Key Properties
Legend
Raster Function Infos
Supported Operations:
Export Image
Query
Identify
Measure
Compute Histograms
Compute Statistics Histograms
Get Samples
Compute Class Statistics
Query GPS Info
Find Images
Image to Map
Map to Image
Measure from Image
Image to Map Multiray
Query Boundary
Compute Pixel Location
Compute Angles
Validate
Project