{ "extent": { "ymin": 2596581.0138542699, "xmin": -14246360.529564038, "ymax": 6737031.0138542699, "xmax": -7264130.5295640379, "spatialReference": { "latestWkid": 3857, "wkid": 102100 } }, "blockWidth": 2048, "mosaicOperator": "First", "serviceSourceType": "esriImageServiceSourceTypeMosaicDataset", "hasMultidimensions": false, "maxImageWidth": 15000, "maxRecordCount": 1000, "meanValues": [1.4540369276146512], "hasColormap": false, "compressionType": "None", "defaultCompressionQuality": 75, "maxValues": [5], "hasHistograms": true, "datasetFormat": "AMD", "maxImageHeight": 4100, "sortField": "", "bandNames": ["Band_1"], "spatialReference": { "latestWkid": 3857, "wkid": 102100 }, "fullExtent": { "ymin": 2596581.0138542699, "xmin": -14246360.529564038, "ymax": 6737031.0138542699, "xmax": -7264130.5295640379, "spatialReference": { "latestWkid": 3857, "wkid": 102100 } }, "bandCount": 1, "rasterFunctionInfos": [ { "help": "", "name": "FirefighterEstGroundEvac_01", "description": "RFT for Firefighter Estimated Ground Evacuation Time" }, { "help": "", "name": "None", "description": "Make a Raster or Raster Dataset into a Function Raster Dataset." } ], "supportsStatistics": true, "sortableFields": "minps,maxps,lowps,highps,centerx,centery,zorder,st_area(shape),st_perimeter(shape)", "minValues": [1], "allowRasterFunction": true, "allowComputeTiePoints": false, "serviceDataType": "esriImageServiceDataTypeGeneric", "supportsAdvancedQueries": true, "maxDownloadSizeLimit": 2048, "currentVersion": 12, "sortValue": null, "objectIdField": "objectid", "blockHeight": 256, "initialExtent": { "ymin": 2596581.0138542699, "xmin": -14246360.529564038, "ymax": 6737031.0138542699, "xmax": -7264130.5295640379, "spatialReference": { "latestWkid": 3857, "wkid": 102100 } }, "pixelSizeX": 30, "pixelSizeY": 30, "defaultMosaicMethod": "Northwest", "name": "Fire_Aviation/USFS_EDW_SAB_FirefighterEstimatedGroundEvacuation", "allowedMosaicMethods": "NorthWest,Center,LockRaster,ByAttribute,Nadir,Viewpoint,Seamline,None", "maxDownloadImageCount": 20, "fields": [ { "domain": null, "name": "objectid", "alias": "objectid", "type": "esriFieldTypeOID" }, { "domain": null, "name": "name", "length": 200, "alias": "name", "type": "esriFieldTypeString" }, { "domain": null, "name": "minps", "alias": "minps", "type": "esriFieldTypeDouble" }, { "domain": null, "name": "maxps", "alias": "maxps", "type": "esriFieldTypeDouble" }, { "domain": null, "name": "lowps", "alias": "lowps", "type": "esriFieldTypeDouble" }, { "domain": null, "name": "highps", "alias": "highps", "type": "esriFieldTypeDouble" }, { "domain": { "splitPolicy": "esriSPTDefaultValue", "name": "MosaicCatalogItemCategoryDomain", "description": "Catalog item categories.", "type": "codedValue", "codedValues": [ { "code": 0, "name": "Unknown" }, { "code": 1, "name": "Primary" }, { "code": 2, "name": "Overview" }, { "code": 3, "name": "Unprocessed Overview" }, { "code": 4, "name": "Partial Overview" }, { "code": 5, "name": "Inactive" }, { "code": 253, "name": "Uploaded" }, { "code": 254, "name": "Incomplete" }, { "code": 255, "name": "Custom" } ], "mergePolicy": "esriMPTDefaultValue" }, "name": "category", "alias": "category", "type": "esriFieldTypeInteger" }, { "domain": null, "name": "tag", "length": 100, "alias": "tag", "type": "esriFieldTypeString" }, { "domain": null, "name": "groupname", "length": 100, "alias": "groupname", "type": "esriFieldTypeString" }, { "domain": null, "name": "productname", "length": 100, "alias": "productname", "type": "esriFieldTypeString" }, { "domain": null, "name": "centerx", "alias": "centerx", "type": "esriFieldTypeDouble" }, { "domain": null, "name": "centery", "alias": "centery", "type": "esriFieldTypeDouble" }, { "domain": null, "name": "zorder", "alias": "zorder", "type": "esriFieldTypeInteger" }, { "domain": null, "name": "shape", "alias": "shape", "type": "esriFieldTypeGeometry" } ], "allowAnalysis": true, "hasRasterAttributeTable": false, "useStandardizedQueries": true, "description": "
The estimated ground evacuation time layer is intended to provide a broad view of medical care accessibility to inform incident- and regional-level strategic risk assessment and mitigation planning. The estimated ground evacuation times account for hospital locations, driving speeds on the current road network, and off-road walking speeds influenced by topography, vegetation, slash/blowdown, and waterbodies. Evacuation times are binned into broad classes (0-1 hours, 1-2 hours, 2-4 hours, 4-6 hours, and & >6 hours) commensurate with the precision of the analysis. There are several limitations of this estimated ground evacuation time dataset that users should understand. The analysis assumes that the closest general acute care or critical access hospital will be the first stop to stabilize the patient. Incident level safety and medical planning may identify different preferred medical facilities based on their actual travel times and/or capabilities. These estimated evacuation times only account for the travel portion of an evacuation and should therefore be viewed as best-case estimates. Complicated injuries may require additional time for patient evaluation, care, packaging for transport, and/or transfer to a vehicle. Travel times are calculated under the assumptions that the litter crew can travel at the median pedestrian rate (influenced by landscape factors) and that the ambulance or other transport vehicle can travel at the designated road speed limits. Users of this dataset should be thoughtful of factors not accounted for in this analysis that could slow evacuations such as additional landscape characteristics, crew condition, or dynamic factors like weather, traffic, or road closures.<\/span><\/p><\/div><\/div><\/div>",
"pixelType": "U16",
"meanPixelSize": 30,
"exportTilesAllowed": false,
"editFieldsInfo": null,
"rasterTypeInfos": [{
"help": "",
"name": "Raster Dataset",
"description": "Supports all ArcGIS Raster Datasets"
}],
"defaultResamplingMethod": "Bilinear",
"itemAccess": false,
"minScale": 0,
"serviceProperties": " The estimated ground evacuation time layer is intended to provide a broad view of medical care accessibility to inform incident- and regional-level strategic risk assessment and mitigation planning. The estimated ground evacuation times account for hospital locations, driving speeds on the current road network, and off-road walking speeds influenced by topography, vegetation, slash/blowdown, and waterbodies. Evacuation times are binned into broad classes (0-1 hours, 1-2 hours, 2-4 hours, 4-6 hours, and & >6 hours) commensurate with the precision of the analysis. There are several limitations of this estimated ground evacuation time dataset that users should understand. The analysis assumes that the closest general acute care or critical access hospital will be the first stop to stabilize the patient. Incident level safety and medical planning may identify different preferred medical facilities based on their actual travel times and/or capabilities. These estimated evacuation times only account for the travel portion of an evacuation and should therefore be viewed as best-case estimates. Complicated injuries may require additional time for patient evaluation, care, packaging for transport, and/or transfer to a vehicle. Travel times are calculated under the assumptions that the litter crew can travel at the median pedestrian rate (influenced by landscape factors) and that the ambulance or other transport vehicle can travel at the designated road speed limits. Users of this dataset should be thoughtful of factors not accounted for in this analysis that could slow evacuations such as additional landscape characteristics, crew condition, or dynamic factors like weather, traffic, or road closures.<\/SPAN><\/P><\/DIV><\/DIV><\/DIV>",
"allowCopy": true,
"copyrightText": "USFS Geospatial Office (GO), EDW",
"mensurationCapabilities": "Basic",
"ownershipBasedAccessControlForRasters": null
}