View In:
ArcGIS JavaScript
ArcGIS Enterprise Map Viewer
ArcGIS Earth
Service Description: This dataset is the 2023 version of wildfire hazard potential (WHP) for the United States. The files included in this data publication represent an update to any previous versions of WHP or wildland fire potential (WFP) published by the USDA Forest Service. WHP is an index that quantifies the relative potential for high-intensity wildfire that may be difficult to manage, used as a measure to help prioritize where fuel treatments may be needed. This 2023 version of WHP was created from updated national wildfire hazard datasets of annual burn probability and fire intensity generated by the USDA Forest Service, Rocky Mountain Research Station with the large fire simulation system (FSim). Vegetation and wildland fuels data from LANDFIRE 2020 (version 2.2.0) were the primary inputs to the updated FSim modeling work and therefore form the foundation for this version of the WHP. As such, the data presented here reflect landscape conditions as of the end of 2020. LANDFIRE 2020 vegetation and fuels data were also used directly in the WHP mapping process, along with updated point locations of fire occurrence ca. 1992-2020. With these datasets as inputs, we produced an index of WHP for all of the conterminous United States at 270-meter resolution. We present the final WHP map in two forms: 1) continuous integer values, and 2) five WHP classes of very low, low, moderate, high, and very high. On its own, WHP is not an explicit map of wildfire threat or risk, but when paired with spatial data depicting highly valued resources and assets such as structures or powerlines, it can approximate relative wildfire risk to those specific resources and assets. WHP is also not a forecast or wildfire outlook for any particular season, as it does not include any information on current or forecasted weather or fuel moisture conditions. It is instead intended for long-term strategic fuels management.
These new data represent an update to all previous versions of WHP or WFP published by the USDA Forest Service. On 07/17/2024 this data package was updated to correct a data processing error that caused a very small number of pixels to be Nodata in the initial classified version that should have been Very High WHP. This update also included the addition of summaries tables by management jurisdictions. To check for the latest version of the WHP geospatial data and map graphics, as well as documentation on the mapping process, see: https://www.firelab.org/project/wildfire-hazard- potential. Details about the Wildfire Hazard Potential mapping process can be found in Dillon et al. (2015). Steps described in this paper about weighting for crown fire potential were dropped in the 2018 and subsequent versions due to changes to the FSim modeling products used as the primary inputs to WHP mapping.
Name: Fire_Aviation/USFS_EDW_RMRS_WildfireHazardPotentialContinuous
Description:
Single Fused Map Cache: false
Extent:
XMin: -2.00375070672E7
YMin: 2135965.179399997
XMax: -7130157.067200001
YMax: 1.1597575179399997E7
Spatial Reference: 102100
(3857)
LatestVCSWkid(0)
Initial Extent:
XMin: -2.00375070672E7
YMin: 2135965.179399997
XMax: -7130157.067200001
YMax: 1.1597575179399997E7
Spatial Reference: 102100
(3857)
LatestVCSWkid(0)
Full Extent:
XMin: -2.00375070672E7
YMin: 2135965.179399997
XMax: -7130157.067200001
YMax: 1.1597575179399997E7
Spatial Reference: 102100
(3857)
LatestVCSWkid(0)
Pixel Size X: 270.0
Pixel Size Y: 270.0
Band Count: 1
Pixel Type: S32
RasterFunction Infos: {"rasterFunctionInfos": [
{
"help": "",
"name": "None",
"description": "Make a Raster or Raster Dataset into a Function Raster Dataset."
},
{
"help": "",
"name": "BurnProbability_32Bitsigned_RFt",
"description": "raster function template"
}
]}
Mensuration Capabilities: Basic
Inspection Capabilities:
Has Histograms: true
Has Colormap: false
Has Multi Dimensions : false
Rendering Rule:
Min Scale: 0
Max Scale: 0
Copyright Text: Funding for this project provided by USDA Forest Service, Fire Modeling Institute, which is part of the Rocky Mountain Research Station, Fire, Fuel and Smoke Science Program. Funding also provided by USDA Forest Service, Fire and Aviation Management. Pyrologix, LLC provided fire modeling support under contract with the USDA Forest Service, Fire Modeling Institute. Author Information: Gregory K. Dillon, USDA Forest Service, Rocky Mountain Research.
Service Data Type: esriImageServiceDataTypeThematic
Min Values: 0
Max Values: 144153
Mean Values: 653.08607377252042
Standard Deviation Values: 2719.7192499048306
Object ID Field: objectid
Fields:
-
objectid
(
alias: objectid
, type: esriFieldTypeOID
)
-
name
(
length: 200
, alias: name
, type: esriFieldTypeString
)
-
minps
(
alias: minps
, type: esriFieldTypeDouble
)
-
maxps
(
alias: maxps
, type: esriFieldTypeDouble
)
-
lowps
(
alias: lowps
, type: esriFieldTypeDouble
)
-
highps
(
alias: highps
, type: esriFieldTypeDouble
)
-
category
(
alias: category
, type: esriFieldTypeInteger
, Coded Values:
[0: Unknown]
, [1: Primary]
, [2: Overview]
, ...6 more...
)
-
tag
(
length: 100
, alias: tag
, type: esriFieldTypeString
)
-
groupname
(
length: 100
, alias: groupname
, type: esriFieldTypeString
)
-
productname
(
length: 100
, alias: productname
, type: esriFieldTypeString
)
-
centerx
(
alias: centerx
, type: esriFieldTypeDouble
)
-
centery
(
alias: centery
, type: esriFieldTypeDouble
)
-
zorder
(
alias: zorder
, type: esriFieldTypeInteger
)
-
shape
(
alias: shape
, type: esriFieldTypeGeometry
)
Default Mosaic Method: Northwest
Allowed Mosaic Methods: NorthWest,Center,LockRaster,ByAttribute,Nadir,Viewpoint,Seamline,None
SortField:
SortValue: N/A
Mosaic Operator: Max
Default Compression Quality: 75
Default Resampling Method: Nearest
Max Record Count: 1000
Max Image Height: 100000
Max Image Width: 100000
Max Download Image Count: 20
Max Mosaic Image Count: 100
Allow Raster Function: true
Allow Copy: true
Allow Analysis: true
Allow Compute TiePoints: false
Supports Statistics: true
Supports Advanced Queries: true
Use StandardizedQueries: true
Raster Type Infos:
Name: Raster Dataset
Description: Supports all ArcGIS Raster Datasets
Help:
Has Raster Attribute Table: false
Edit Fields Info: N/A
Ownership Based AccessControl For Rasters: N/A
Child Resources:
Info
Histograms
Statistics
Key Properties
Legend
Raster Function Infos
Supported Operations:
Export Image
Query
Identify
Measure
Compute Histograms
Compute Statistics Histograms
Get Samples
Compute Class Statistics
Query GPS Info
Find Images
Image to Map
Map to Image
Measure from Image
Image to Map Multiray
Query Boundary
Compute Pixel Location
Compute Angles
Validate
Project