{ "extent": { "ymin": 2135965.179399997, "xmin": -20037507.067200001, "ymax": 11597575.179399997, "xmax": -7130157.0672000013, "spatialReference": { "latestWkid": 3857, "wkid": 102100 } }, "blockWidth": 2048, "mosaicOperator": "First", "serviceSourceType": "esriImageServiceSourceTypeMosaicDataset", "hasMultidimensions": false, "maxImageWidth": 100000, "maxRecordCount": 1000, "meanValues": [653.08607377252042], "hasColormap": false, "compressionType": "None", "defaultCompressionQuality": 75, "maxValues": [144153], "hasHistograms": true, "datasetFormat": "AMD", "maxImageHeight": 100000, "sortField": "", "bandNames": ["Band_1"], "spatialReference": { "latestWkid": 3857, "wkid": 102100 }, "fullExtent": { "ymin": 2135965.179399997, "xmin": -20037507.067200001, "ymax": 11597575.179399997, "xmax": -7130157.0672000013, "spatialReference": { "latestWkid": 3857, "wkid": 102100 } }, "bandCount": 1, "rasterFunctionInfos": [ { "help": "", "name": "None", "description": "Make a Raster or Raster Dataset into a Function Raster Dataset." }, { "help": "", "name": "BurnProbability_32Bitsigned_RFt", "description": "raster function template" } ], "supportsStatistics": true, "sortableFields": "minps,maxps,lowps,highps,centerx,centery,zorder,st_area(shape),st_perimeter(shape)", "minValues": [0], "allowRasterFunction": true, "allowComputeTiePoints": false, "serviceDataType": "esriImageServiceDataTypeThematic", "supportsAdvancedQueries": true, "maxDownloadSizeLimit": 2048, "currentVersion": 12, "sortValue": null, "objectIdField": "objectid", "blockHeight": 256, "initialExtent": { "ymin": 2135965.179399997, "xmin": -20037507.067200001, "ymax": 11597575.179399997, "xmax": -7130157.0672000013, "spatialReference": { "latestWkid": 3857, "wkid": 102100 } }, "pixelSizeX": 270, "pixelSizeY": 270, "defaultMosaicMethod": "Northwest", "name": "Fire_Aviation/USFS_EDW_RMRS_WildfireHazardPotentialContinuous", "allowedMosaicMethods": "NorthWest,Center,LockRaster,ByAttribute,Nadir,Viewpoint,Seamline,None", "maxDownloadImageCount": 20, "fields": [ { "domain": null, "name": "objectid", "alias": "objectid", "type": "esriFieldTypeOID" }, { "domain": null, "name": "name", "length": 200, "alias": "name", "type": "esriFieldTypeString" }, { "domain": null, "name": "minps", "alias": "minps", "type": "esriFieldTypeDouble" }, { "domain": null, "name": "maxps", "alias": "maxps", "type": "esriFieldTypeDouble" }, { "domain": null, "name": "lowps", "alias": "lowps", "type": "esriFieldTypeDouble" }, { "domain": null, "name": "highps", "alias": "highps", "type": "esriFieldTypeDouble" }, { "domain": { "splitPolicy": "esriSPTDefaultValue", "name": "MosaicCatalogItemCategoryDomain", "description": "Catalog item categories.", "type": "codedValue", "codedValues": [ { "code": 0, "name": "Unknown" }, { "code": 1, "name": "Primary" }, { "code": 2, "name": "Overview" }, { "code": 3, "name": "Unprocessed Overview" }, { "code": 4, "name": "Partial Overview" }, { "code": 5, "name": "Inactive" }, { "code": 253, "name": "Uploaded" }, { "code": 254, "name": "Incomplete" }, { "code": 255, "name": "Custom" } ], "mergePolicy": "esriMPTDefaultValue" }, "name": "category", "alias": "category", "type": "esriFieldTypeInteger" }, { "domain": null, "name": "tag", "length": 100, "alias": "tag", "type": "esriFieldTypeString" }, { "domain": null, "name": "groupname", "length": 100, "alias": "groupname", "type": "esriFieldTypeString" }, { "domain": null, "name": "productname", "length": 100, "alias": "productname", "type": "esriFieldTypeString" }, { "domain": null, "name": "centerx", "alias": "centerx", "type": "esriFieldTypeDouble" }, { "domain": null, "name": "centery", "alias": "centery", "type": "esriFieldTypeDouble" }, { "domain": null, "name": "zorder", "alias": "zorder", "type": "esriFieldTypeInteger" }, { "domain": null, "name": "shape", "alias": "shape", "type": "esriFieldTypeGeometry" } ], "allowAnalysis": true, "hasRasterAttributeTable": false, "useStandardizedQueries": true, "description": "", "pixelType": "S32", "meanPixelSize": 270, "exportTilesAllowed": false, "editFieldsInfo": null, "rasterTypeInfos": [{ "help": "", "name": "Raster Dataset", "description": "Supports all ArcGIS Raster Datasets" }], "defaultResamplingMethod": "Nearest", "itemAccess": false, "minScale": 0, "serviceProperties": "NorthWest<\/MosaicMethod>First<\/MosaicOperator>true<\/SortAscending><\/LockImageID>name<\/TileOrderField>0<\/TileOrderBase>600.000000<\/AvgImageSpacingX>300.000000<\/AvgImageSpacingY>0.0<\/ViewPointX>0.0<\/ViewPointY>0.0<\/ViewPointDefShiftX>0.0<\/ViewPointDefShiftY>None<\/CompressionMethod>75<\/CompressionQuality>0.010000<\/CompressionTolerance>Nearest<\/SamplingMethod><\/ImageServiceProperties><\/ImageServer>", "advancedQueryCapabilities": { "supportsStatistics": true, "supportsSqlExpression": true, "supportsOrderBy": true, "useStandardizedQueries": true, "supportsPagination": true, "supportsDistinct": true }, "serviceItemId": "129b48a823d34b73ac6b68bf8b24174e", "capabilities": "Image,Metadata,Catalog,Mensuration", "maxScale": 0, "stdvValues": [2719.7192499048306], "allowedFields": "name,minps,maxps,lowps,highps,tag,groupname,productname,centerx,centery,zorder", "minPixelSize": 0, "noDataValues": [-2147483648], "sortAscending": true, "maxMosaicImageCount": 100, "inspectionCapabilities": "", "maxPixelSize": 0, "noDataValue": -2147483648, "uncompressedSize": 6700922460, "serviceDescription": "

This dataset is the 2023 version of wildfire hazard potential (WHP) for the United States. The files included in this data publication represent an update to any previous versions of WHP or wildland fire potential (WFP) published by the USDA Forest Service. WHP is an index that quantifies the relative potential for high-intensity wildfire that may be difficult to manage, used as a measure to help prioritize where fuel treatments may be needed. This 2023 version of WHP was created from updated national wildfire hazard datasets of annual burn probability and fire intensity generated by the USDA Forest Service, Rocky Mountain Research Station with the large fire simulation system (FSim). Vegetation and wildland fuels data from LANDFIRE 2020 (version 2.2.0) were the primary inputs to the updated FSim modeling work and therefore form the foundation for this version of the WHP. As such, the data presented here reflect landscape conditions as of the end of 2020. LANDFIRE 2020 vegetation and fuels data were also used directly in the WHP mapping process, along with updated point locations of fire occurrence ca. 1992-2020. With these datasets as inputs, we produced an index of WHP for all of the conterminous United States at 270-meter resolution. We present the final WHP map in two forms: 1) continuous integer values, and 2) five WHP classes of very low, low, moderate, high, and very high. On its own, WHP is not an explicit map of wildfire threat or risk, but when paired with spatial data depicting highly valued resources and assets such as structures or powerlines, it can approximate relative wildfire risk to those specific resources and assets. WHP is also not a forecast or wildfire outlook for any particular season, as it does not include any information on current or forecasted weather or fuel moisture conditions. It is instead intended for long-term strategic fuels management.<\/span><\/p>
These new data represent an update to all previous versions of WHP or WFP published by the USDA Forest Service. On 07/17/2024 this data package was updated to correct a data processing error that caused a very small number of pixels to be Nodata in the initial classified version that should have been Very High WHP. This update also included the addition of summaries tables by management jurisdictions. To check for the latest version of the WHP geospatial data and map graphics, as well as documentation on the mapping process, see: https://www.firelab.org/project/wildfire-hazard- potential. Details about the Wildfire Hazard Potential mapping process can be found in Dillon et al. (2015). Steps described in this paper about weighting for crown fire potential were dropped in the 2018 and subsequent versions due to changes to the FSim modeling products used as the primary inputs to WHP mapping.<\/span><\/p>
<\/div><\/div><\/div><\/p>", "allowCopy": true, "copyrightText": "Funding for this project provided by USDA Forest Service, Fire Modeling Institute, which is part of the Rocky Mountain Research Station, Fire, Fuel and Smoke Science Program. Funding also provided by USDA Forest Service, Fire and Aviation Management. Pyrologix, LLC provided fire modeling support under contract with the USDA Forest Service, Fire Modeling Institute. Author Information: Gregory K. Dillon, USDA Forest Service, Rocky Mountain Research.", "mensurationCapabilities": "Basic", "ownershipBasedAccessControlForRasters": null }