View In:
ArcGIS JavaScript
ArcGIS Enterprise Map Viewer
ArcGIS Earth
Service Description: Habitat suitability models were created for 85 pest species that negatively impact tree species across the USA and Canada. Each model was produced as an ensemble of species distribution models that associated the occurrence of pest species with climate factors, topographical characteristics, host tree abundance, and, for non-native pest species, a dispersal metric capturing their spatiotemporal spread from their origin site in North America. Pest species occurrences from 1991-2025 were gathered from multiple online sources, including the USDA Forest Service, Forest Inventory and Analysis program; USDA Forest Service Forest, Insect and Disease Survey database; Global Biodiversity Information Facility; Canadian Forest Service Forest Invasive Alien Species; and numerous regional surveys. This data publication includes raster and image files of current projected distributions (1991-2020) of 85 pest species, as well as projected distributions that incorporate future climate scenarios (2070-2100) corresponding to high and low greenhouse gas emissions and future tree distribution scenarios in which trees do or do not migrate in response to future climate change. Each map is presented as both a probability surface (ranging from 0 to 1000) and a binary classification (0 and 1).
Name: Ecosystems/USFS_ForestPestDistributions_NorthAmerica
Description:
Single Fused Map Cache: false
Extent:
XMin: -2.00375070672E7
YMin: 300971.4584000036
XMax: 2.0037507842788246E7
YMax: 3.024097145838615E7
Spatial Reference: 102100
(3857)
LatestVCSWkid(0)
Initial Extent:
XMin: -2.00375070672E7
YMin: 300971.4584000036
XMax: 2.0037507842788246E7
YMax: 3.024097145838615E7
Spatial Reference: 102100
(3857)
LatestVCSWkid(0)
Full Extent:
XMin: -2.00375070672E7
YMin: 300971.4584000036
XMax: 2.0037507842788246E7
YMax: 3.024097145838615E7
Spatial Reference: 102100
(3857)
LatestVCSWkid(0)
Pixel Size X: 19997.512430133855
Pixel Size Y: 19999.999999990745
Band Count: 1
Pixel Type: F32
RasterFunction Infos: {"rasterFunctionInfos": [
{
"help": "",
"name": "None",
"description": "Make a Raster or Raster Dataset into a Function Raster Dataset."
},
{
"help": "",
"name": "Adelges_abietis",
"description": "A raster function template."
},
{
"help": "",
"name": "Adelges_piceae",
"description": "A raster function template."
},
{
"help": "",
"name": "Adelges_tsugae",
"description": "A raster function template."
},
{
"help": "",
"name": "Agrilus_planipennis",
"description": "A raster function template."
},
{
"help": "",
"name": "Anisota_virginiensis",
"description": "A raster function template."
},
{
"help": "",
"name": "Apiosporina_morbosa",
"description": "A raster function template."
},
{
"help": "",
"name": "Arceuthobium_americanum",
"description": "A raster function template."
},
{
"help": "",
"name": "Arceuthobium_campylopodum",
"description": "A raster function template."
},
{
"help": "",
"name": "Arceuthobium_divaricatum",
"description": "A raster function template."
},
{
"help": "",
"name": "Arceuthobium_douglasii",
"description": "A raster function template."
},
{
"help": "",
"name": "Arceuthobium_pusillum",
"description": "A raster function template."
},
{
"help": "",
"name": "Archips_goyerana",
"description": "A raster function template."
},
{
"help": "",
"name": "Argyrotaenia_quercifoliana",
"description": "A raster function template."
},
{
"help": "",
"name": "Asterocampa_celtis",
"description": "A raster function template."
},
{
"help": "",
"name": "Ceratomia_catalpae",
"description": "A raster function template."
},
{
"help": "",
"name": "Coleophora_laricella",
"description": "A raster function template."
},
{
"help": "",
"name": "Coloradia_pandora",
"description": "A raster function template."
},
{
"help": "",
"name": "Coniferiporia_weirii",
"description": "A raster function template."
},
{
"help": "",
"name": "Cossula_magnifica",
"description": "A raster function template."
},
{
"help": "",
"name": "Cronartium_ribicola",
"description": "A raster function template."
},
{
"help": "",
"name": "Cryphonectria_parasitica",
"description": "A raster function template."
},
{
"help": "",
"name": "Cryptococcus_fagisuga",
"description": "A raster function template."
},
{
"help": "",
"name": "Cyrtepistomus_castaneus",
"description": "A raster function template."
},
{
"help": "",
"name": "Datana_integerrima",
"description": "A raster function template."
},
{
"help": "",
"name": "Dendroctonus_barberi",
"description": "A raster function template."
},
{
"help": "",
"name": "Dendroctonus_brevicomis",
"description": "A raster function template."
},
{
"help": "",
"name": "Dendroctonus_frontalis",
"description": "A raster function template."
},
{
"help": "",
"name": "Dendroctonus_jeffreyi",
"description": "A raster function template."
},
{
"help": "",
"name": "Dendroctonus_ponderosae",
"description": "A raster function template."
},
{
"help": "",
"name": "Dendroctonus_pseudotsugae",
"description": "A raster function template."
},
{
"help": "",
"name": "Dendroctonus_terebrans",
"description": "A raster function template."
},
{
"help": "",
"name": "Diapheromera_femorata",
"description": "A raster function template."
},
{
"help": "",
"name": "Diprion_similis",
"description": "A raster function template."
},
{
"help": "",
"name": "Dryocampa_rubicunda",
"description": "A raster function template."
},
{
"help": "",
"name": "Dryocoetes_confusus",
"description": "A raster function template."
},
{
"help": "",
"name": "Elatobium_abietinum",
"description": "A raster function template."
},
{
"help": "",
"name": "Euproctis_chrysorrhoea",
"description": "A raster function template."
},
{
"help": "",
"name": "Fiorinia_externa",
"description": "A raster function template."
},
{
"help": "",
"name": "Ganoderma_zonatum",
"description": "A raster function template."
},
{
"help": "",
"name": "Hericium_erinaceus",
"description": "A raster function template."
},
{
"help": "",
"name": "Hyphantria_cunea",
"description": "A raster function template."
},
{
"help": "",
"name": "Hypodermella_laricis",
"description": "A raster function template."
},
{
"help": "",
"name": "Ips_confusus",
"description": "A raster function template."
},
{
"help": "",
"name": "Laetiporus_sulphureus",
"description": "A raster function template."
},
{
"help": "",
"name": "Lambdina_fiscellaria",
"description": "A raster function template."
},
{
"help": "",
"name": "Leucoma_salicis",
"description": "A raster function template."
},
{
"help": "",
"name": "Litylenchus_crenatae",
"description": "A raster function template."
},
{
"help": "",
"name": "Lochmaeus_manteo",
"description": "A raster function template."
},
{
"help": "",
"name": "Lophocampa_caryae",
"description": "A raster function template."
},
{
"help": "",
"name": "Lycorma_delicatula",
"description": "A raster function template."
},
{
"help": "",
"name": "Lymantria_dispar",
"description": "A raster function template."
},
{
"help": "",
"name": "Macaria_pustularia",
"description": "A raster function template."
},
{
"help": "",
"name": "Malacosoma_americana",
"description": "A raster function template."
},
{
"help": "",
"name": "Malacosoma_californica",
"description": "A raster function template."
},
{
"help": "",
"name": "Malacosoma_disstria",
"description": "A raster function template."
},
{
"help": "",
"name": "Matsucoccus_acalyptus",
"description": "A raster function template."
},
{
"help": "",
"name": "Matsucoccus_resinosae",
"description": "A raster function template."
},
{
"help": "",
"name": "Matsucoccus_vexillorum",
"description": "A raster function template."
},
{
"help": "",
"name": "Megacyllene_robiniae",
"description": "A raster function template."
},
{
"help": "",
"name": "Melampsora_occidentalis",
"description": "A raster function template."
},
{
"help": "",
"name": "Melanolophia_imitata",
"description": "A raster function template."
},
{
"help": "",
"name": "Monochamus_scutellatus",
"description": "A raster function template."
},
{
"help": "",
"name": "Monochamus_titillator",
"description": "A raster function template."
},
{
"help": "",
"name": "Neoclytus_acuminatus",
"description": "A raster function template."
},
{
"help": "",
"name": "Neophasia_menapia",
"description": "A raster function template."
},
{
"help": "",
"name": "Odontota_dorsalis",
"description": "A raster function template."
},
{
"help": "",
"name": "Operophtera_brumata",
"description": "A raster function template."
},
{
"help": "",
"name": "Orgyia_leucostigma",
"description": "A raster function template."
},
{
"help": "",
"name": "Orgyia_pseudotsugata",
"description": "A raster function template."
},
{
"help": "",
"name": "Otiorhynchus_sulcatus",
"description": "A raster function template."
},
{
"help": "",
"name": "Palpita_magniferalis",
"description": "A raster function template."
},
{
"help": "",
"name": "Phoberia_atomaris",
"description": "A raster function template."
},
{
"help": "",
"name": "Phoradendron_bolleanum",
"description": "A raster function template."
},
{
"help": "",
"name": "Phoradendron_californicum",
"description": "A raster function template."
},
{
"help": "",
"name": "Phoradendron_juniperinum",
"description": "A raster function template."
},
{
"help": "",
"name": "Phoradendron_leucarpum",
"description": "A raster function template."
},
{
"help": "",
"name": "Phryganidia_californica",
"description": "A raster function template."
},
{
"help": "",
"name": "Phyllobius_oblongus",
"description": "A raster function template."
},
{
"help": "",
"name": "Phytophthora_lateralis",
"description": "A raster function template."
},
{
"help": "",
"name": "Phytophthora_ramorum",
"description": "A raster function template."
},
{
"help": "",
"name": "Polydrusus_formosus",
"description": "A raster function template."
},
{
"help": "",
"name": "Popillia_japonica",
"description": "A raster function template."
},
{
"help": "",
"name": "Scolytus_ventralis",
"description": "A raster function template."
},
{
"help": "",
"name": "Thyridopteryx_ephemeraeformis",
"description": "A raster function template."
},
{
"help": "",
"name": "Trametes_versicolor",
"description": "A raster function template."
}
]}
Mensuration Capabilities: None
Inspection Capabilities:
Has Histograms: true
Has Colormap: false
Has Multi Dimensions : true
Rendering Rule:
Min Scale: 0
Max Scale: 0
Copyright Text: This project was funded by the USDA Forest Service, Northern Research Station.
Author Information:
Hannah L. Clipp
USDA Forest Service, Northern Research Station (former ORISE postdoctoral researcher)
https://orcid.org/0000-0002-8555-7398
Anantha M. Prasad
USDA Forest Service, Northern Research Station (former employee)
https://orcid.org/0000-0002-4645-6260
Matthew P. Peters
USDA Forest Service, Northern Research Station
https://orcid.org/0000-0002-4793-0075
Stephen N. Matthews
USDA Forest Service, Northern Research Station
https://orcid.org/0000-0001-9175-7778
Andrew V. Gougherty
USDA Forest Service, Northern Research Station
https://orcid.org/0000-0002-3905-8539
Service Data Type: esriImageServiceDataTypeGeneric
Min Values: 1
Max Values: 84
Mean Values: 18.323720259552985
Standard Deviation Values: 23.586975651556301
Object ID Field: objectid
Fields:
-
objectid
(
alias: objectid
, type: esriFieldTypeOID
)
-
name
(
length: 200
, alias: name
, type: esriFieldTypeString
)
-
minps
(
alias: minps
, type: esriFieldTypeDouble
)
-
maxps
(
alias: maxps
, type: esriFieldTypeDouble
)
-
lowps
(
alias: lowps
, type: esriFieldTypeDouble
)
-
highps
(
alias: highps
, type: esriFieldTypeDouble
)
-
category
(
alias: category
, type: esriFieldTypeInteger
, Coded Values:
[0: Unknown]
, [1: Primary]
, [2: Overview]
, ...6 more...
)
-
tag
(
length: 100
, alias: tag
, type: esriFieldTypeString
)
-
groupname
(
length: 100
, alias: groupname
, type: esriFieldTypeString
)
-
productname
(
length: 100
, alias: productname
, type: esriFieldTypeString
)
-
centerx
(
alias: centerx
, type: esriFieldTypeDouble
)
-
centery
(
alias: centery
, type: esriFieldTypeDouble
)
-
zorder
(
alias: zorder
, type: esriFieldTypeInteger
)
-
shape
(
alias: shape
, type: esriFieldTypeGeometry
)
-
variable
(
length: 50
, alias: variable
, type: esriFieldTypeString
)
-
dimensions
(
length: 255
, alias: Dimensions
, type: esriFieldTypeString
)
-
model_scenario
(
alias: model_scenario
, type: esriFieldTypeSmallInteger
)
Default Mosaic Method: Northwest
Allowed Mosaic Methods: NorthWest,Center,LockRaster,ByAttribute,Nadir,Viewpoint,Seamline,None
SortField:
SortValue: N/A
Mosaic Operator: First
Default Compression Quality: 75
Default Resampling Method: Nearest
Max Record Count: 1000
Max Image Height: 100000
Max Image Width: 100000
Max Download Image Count: 20
Max Mosaic Image Count: 100
Allow Raster Function: true
Allow Copy: true
Allow Analysis: true
Allow Compute TiePoints: false
Supports Statistics: true
Supports Advanced Queries: true
Use StandardizedQueries: true
Raster Type Infos:
Name: Raster Dataset
Description: Supports all ArcGIS Raster Datasets
Help:
Has Raster Attribute Table: false
Edit Fields Info: N/A
Ownership Based AccessControl For Rasters: N/A
Child Resources:
Info
Histograms
Statistics
Key Properties
Legend
Raster Function Infos
Multidimensional Info
Slices
Supported Operations:
Export Image
Query
Identify
Compute Histograms
Compute Statistics Histograms
Get Samples
Compute Class Statistics
Query GPS Info
Find Images
Image to Map
Map to Image
Measure from Image
Image to Map Multiray
Query Boundary
Compute Pixel Location
Compute Angles
Validate
Project