{
 "extent": {
  "ymin": 300971.45840000361,
  "xmin": -20037507.067200001,
  "ymax": 30240971.458386149,
  "xmax": 20037507.842788246,
  "spatialReference": {
   "latestWkid": 3857,
   "wkid": 102100
  }
 },
 "blockWidth": 2048,
 "mosaicOperator": "First",
 "serviceSourceType": "esriImageServiceSourceTypeMosaicDataset",
 "hasMultidimensions": true,
 "maxImageWidth": 100000,
 "maxRecordCount": 1000,
 "meanValues": [
  18.323720259552985
 ],
 "hasColormap": false,
 "compressionType": "None",
 "defaultCompressionQuality": 75,
 "maxValues": [
  84
 ],
 "hasHistograms": true,
 "datasetFormat": "AMD",
 "maxImageHeight": 100000,
 "sortField": "",
 "bandNames": [
  "Band_1"
 ],
 "spatialReference": {
  "latestWkid": 3857,
  "wkid": 102100
 },
 "fullExtent": {
  "ymin": 300971.45840000361,
  "xmin": -20037507.067200001,
  "ymax": 30240971.458386149,
  "xmax": 20037507.842788246,
  "spatialReference": {
   "latestWkid": 3857,
   "wkid": 102100
  }
 },
 "bandCount": 1,
 "rasterFunctionInfos": [
  {
   "help": "",
   "name": "None",
   "description": "Make a Raster or Raster Dataset into a Function Raster Dataset."
  },
  {
   "help": "",
   "name": "Adelges_abietis",
   "description": "A raster function template."
  },
  {
   "help": "",
   "name": "Adelges_piceae",
   "description": "A raster function template."
  },
  {
   "help": "",
   "name": "Adelges_tsugae",
   "description": "A raster function template."
  },
  {
   "help": "",
   "name": "Agrilus_planipennis",
   "description": "A raster function template."
  },
  {
   "help": "",
   "name": "Anisota_virginiensis",
   "description": "A raster function template."
  },
  {
   "help": "",
   "name": "Apiosporina_morbosa",
   "description": "A raster function template."
  },
  {
   "help": "",
   "name": "Arceuthobium_americanum",
   "description": "A raster function template."
  },
  {
   "help": "",
   "name": "Arceuthobium_campylopodum",
   "description": "A raster function template."
  },
  {
   "help": "",
   "name": "Arceuthobium_divaricatum",
   "description": "A raster function template."
  },
  {
   "help": "",
   "name": "Arceuthobium_douglasii",
   "description": "A raster function template."
  },
  {
   "help": "",
   "name": "Arceuthobium_pusillum",
   "description": "A raster function template."
  },
  {
   "help": "",
   "name": "Archips_goyerana",
   "description": "A raster function template."
  },
  {
   "help": "",
   "name": "Argyrotaenia_quercifoliana",
   "description": "A raster function template."
  },
  {
   "help": "",
   "name": "Asterocampa_celtis",
   "description": "A raster function template."
  },
  {
   "help": "",
   "name": "Ceratomia_catalpae",
   "description": "A raster function template."
  },
  {
   "help": "",
   "name": "Coleophora_laricella",
   "description": "A raster function template."
  },
  {
   "help": "",
   "name": "Coloradia_pandora",
   "description": "A raster function template."
  },
  {
   "help": "",
   "name": "Coniferiporia_weirii",
   "description": "A raster function template."
  },
  {
   "help": "",
   "name": "Cossula_magnifica",
   "description": "A raster function template."
  },
  {
   "help": "",
   "name": "Cronartium_ribicola",
   "description": "A raster function template."
  },
  {
   "help": "",
   "name": "Cryphonectria_parasitica",
   "description": "A raster function template."
  },
  {
   "help": "",
   "name": "Cryptococcus_fagisuga",
   "description": "A raster function template."
  },
  {
   "help": "",
   "name": "Cyrtepistomus_castaneus",
   "description": "A raster function template."
  },
  {
   "help": "",
   "name": "Datana_integerrima",
   "description": "A raster function template."
  },
  {
   "help": "",
   "name": "Dendroctonus_barberi",
   "description": "A raster function template."
  },
  {
   "help": "",
   "name": "Dendroctonus_brevicomis",
   "description": "A raster function template."
  },
  {
   "help": "",
   "name": "Dendroctonus_frontalis",
   "description": "A raster function template."
  },
  {
   "help": "",
   "name": "Dendroctonus_jeffreyi",
   "description": "A raster function template."
  },
  {
   "help": "",
   "name": "Dendroctonus_ponderosae",
   "description": "A raster function template."
  },
  {
   "help": "",
   "name": "Dendroctonus_pseudotsugae",
   "description": "A raster function template."
  },
  {
   "help": "",
   "name": "Dendroctonus_terebrans",
   "description": "A raster function template."
  },
  {
   "help": "",
   "name": "Diapheromera_femorata",
   "description": "A raster function template."
  },
  {
   "help": "",
   "name": "Diprion_similis",
   "description": "A raster function template."
  },
  {
   "help": "",
   "name": "Dryocampa_rubicunda",
   "description": "A raster function template."
  },
  {
   "help": "",
   "name": "Dryocoetes_confusus",
   "description": "A raster function template."
  },
  {
   "help": "",
   "name": "Elatobium_abietinum",
   "description": "A raster function template."
  },
  {
   "help": "",
   "name": "Euproctis_chrysorrhoea",
   "description": "A raster function template."
  },
  {
   "help": "",
   "name": "Fiorinia_externa",
   "description": "A raster function template."
  },
  {
   "help": "",
   "name": "Ganoderma_zonatum",
   "description": "A raster function template."
  },
  {
   "help": "",
   "name": "Hericium_erinaceus",
   "description": "A raster function template."
  },
  {
   "help": "",
   "name": "Hyphantria_cunea",
   "description": "A raster function template."
  },
  {
   "help": "",
   "name": "Hypodermella_laricis",
   "description": "A raster function template."
  },
  {
   "help": "",
   "name": "Ips_confusus",
   "description": "A raster function template."
  },
  {
   "help": "",
   "name": "Laetiporus_sulphureus",
   "description": "A raster function template."
  },
  {
   "help": "",
   "name": "Lambdina_fiscellaria",
   "description": "A raster function template."
  },
  {
   "help": "",
   "name": "Leucoma_salicis",
   "description": "A raster function template."
  },
  {
   "help": "",
   "name": "Litylenchus_crenatae",
   "description": "A raster function template."
  },
  {
   "help": "",
   "name": "Lochmaeus_manteo",
   "description": "A raster function template."
  },
  {
   "help": "",
   "name": "Lophocampa_caryae",
   "description": "A raster function template."
  },
  {
   "help": "",
   "name": "Lycorma_delicatula",
   "description": "A raster function template."
  },
  {
   "help": "",
   "name": "Lymantria_dispar",
   "description": "A raster function template."
  },
  {
   "help": "",
   "name": "Macaria_pustularia",
   "description": "A raster function template."
  },
  {
   "help": "",
   "name": "Malacosoma_americana",
   "description": "A raster function template."
  },
  {
   "help": "",
   "name": "Malacosoma_californica",
   "description": "A raster function template."
  },
  {
   "help": "",
   "name": "Malacosoma_disstria",
   "description": "A raster function template."
  },
  {
   "help": "",
   "name": "Matsucoccus_acalyptus",
   "description": "A raster function template."
  },
  {
   "help": "",
   "name": "Matsucoccus_resinosae",
   "description": "A raster function template."
  },
  {
   "help": "",
   "name": "Matsucoccus_vexillorum",
   "description": "A raster function template."
  },
  {
   "help": "",
   "name": "Megacyllene_robiniae",
   "description": "A raster function template."
  },
  {
   "help": "",
   "name": "Melampsora_occidentalis",
   "description": "A raster function template."
  },
  {
   "help": "",
   "name": "Melanolophia_imitata",
   "description": "A raster function template."
  },
  {
   "help": "",
   "name": "Monochamus_scutellatus",
   "description": "A raster function template."
  },
  {
   "help": "",
   "name": "Monochamus_titillator",
   "description": "A raster function template."
  },
  {
   "help": "",
   "name": "Neoclytus_acuminatus",
   "description": "A raster function template."
  },
  {
   "help": "",
   "name": "Neophasia_menapia",
   "description": "A raster function template."
  },
  {
   "help": "",
   "name": "Odontota_dorsalis",
   "description": "A raster function template."
  },
  {
   "help": "",
   "name": "Operophtera_brumata",
   "description": "A raster function template."
  },
  {
   "help": "",
   "name": "Orgyia_leucostigma",
   "description": "A raster function template."
  },
  {
   "help": "",
   "name": "Orgyia_pseudotsugata",
   "description": "A raster function template."
  },
  {
   "help": "",
   "name": "Otiorhynchus_sulcatus",
   "description": "A raster function template."
  },
  {
   "help": "",
   "name": "Palpita_magniferalis",
   "description": "A raster function template."
  },
  {
   "help": "",
   "name": "Phoberia_atomaris",
   "description": "A raster function template."
  },
  {
   "help": "",
   "name": "Phoradendron_bolleanum",
   "description": "A raster function template."
  },
  {
   "help": "",
   "name": "Phoradendron_californicum",
   "description": "A raster function template."
  },
  {
   "help": "",
   "name": "Phoradendron_juniperinum",
   "description": "A raster function template."
  },
  {
   "help": "",
   "name": "Phoradendron_leucarpum",
   "description": "A raster function template."
  },
  {
   "help": "",
   "name": "Phryganidia_californica",
   "description": "A raster function template."
  },
  {
   "help": "",
   "name": "Phyllobius_oblongus",
   "description": "A raster function template."
  },
  {
   "help": "",
   "name": "Phytophthora_lateralis",
   "description": "A raster function template."
  },
  {
   "help": "",
   "name": "Phytophthora_ramorum",
   "description": "A raster function template."
  },
  {
   "help": "",
   "name": "Polydrusus_formosus",
   "description": "A raster function template."
  },
  {
   "help": "",
   "name": "Popillia_japonica",
   "description": "A raster function template."
  },
  {
   "help": "",
   "name": "Scolytus_ventralis",
   "description": "A raster function template."
  },
  {
   "help": "",
   "name": "Thyridopteryx_ephemeraeformis",
   "description": "A raster function template."
  },
  {
   "help": "",
   "name": "Trametes_versicolor",
   "description": "A raster function template."
  }
 ],
 "supportsStatistics": true,
 "sortableFields": "minps,maxps,lowps,highps,centerx,centery,zorder,model_scenario",
 "minValues": [
  1
 ],
 "allowRasterFunction": true,
 "allowComputeTiePoints": false,
 "serviceDataType": "esriImageServiceDataTypeGeneric",
 "supportsAdvancedQueries": true,
 "maxDownloadSizeLimit": 2048,
 "currentVersion": 12,
 "sortValue": null,
 "objectIdField": "objectid",
 "blockHeight": 256,
 "initialExtent": {
  "ymin": 300971.45840000361,
  "xmin": -20037507.067200001,
  "ymax": 30240971.458386149,
  "xmax": 20037507.842788246,
  "spatialReference": {
   "latestWkid": 3857,
   "wkid": 102100
  }
 },
 "pixelSizeX": 19997.512430133855,
 "pixelSizeY": 19999.999999990745,
 "defaultMosaicMethod": "Northwest",
 "name": "Ecosystems/USFS_ForestPestDistributions_NorthAmerica",
 "allowedMosaicMethods": "NorthWest,Center,LockRaster,ByAttribute,Nadir,Viewpoint,Seamline,None",
 "maxDownloadImageCount": 20,
 "fields": [
  {
   "domain": null,
   "name": "objectid",
   "alias": "objectid",
   "type": "esriFieldTypeOID"
  },
  {
   "domain": null,
   "name": "name",
   "length": 200,
   "alias": "name",
   "type": "esriFieldTypeString"
  },
  {
   "domain": null,
   "name": "minps",
   "alias": "minps",
   "type": "esriFieldTypeDouble"
  },
  {
   "domain": null,
   "name": "maxps",
   "alias": "maxps",
   "type": "esriFieldTypeDouble"
  },
  {
   "domain": null,
   "name": "lowps",
   "alias": "lowps",
   "type": "esriFieldTypeDouble"
  },
  {
   "domain": null,
   "name": "highps",
   "alias": "highps",
   "type": "esriFieldTypeDouble"
  },
  {
   "domain": {
    "splitPolicy": "esriSPTDefaultValue",
    "name": "MosaicCatalogItemCategoryDomain",
    "description": "Catalog item categories.",
    "type": "codedValue",
    "codedValues": [
     {
      "code": 0,
      "name": "Unknown"
     },
     {
      "code": 1,
      "name": "Primary"
     },
     {
      "code": 2,
      "name": "Overview"
     },
     {
      "code": 3,
      "name": "Unprocessed Overview"
     },
     {
      "code": 4,
      "name": "Partial Overview"
     },
     {
      "code": 5,
      "name": "Inactive"
     },
     {
      "code": 253,
      "name": "Uploaded"
     },
     {
      "code": 254,
      "name": "Incomplete"
     },
     {
      "code": 255,
      "name": "Custom"
     }
    ],
    "mergePolicy": "esriMPTDefaultValue"
   },
   "name": "category",
   "alias": "category",
   "type": "esriFieldTypeInteger"
  },
  {
   "domain": null,
   "name": "tag",
   "length": 100,
   "alias": "tag",
   "type": "esriFieldTypeString"
  },
  {
   "domain": null,
   "name": "groupname",
   "length": 100,
   "alias": "groupname",
   "type": "esriFieldTypeString"
  },
  {
   "domain": null,
   "name": "productname",
   "length": 100,
   "alias": "productname",
   "type": "esriFieldTypeString"
  },
  {
   "domain": null,
   "name": "centerx",
   "alias": "centerx",
   "type": "esriFieldTypeDouble"
  },
  {
   "domain": null,
   "name": "centery",
   "alias": "centery",
   "type": "esriFieldTypeDouble"
  },
  {
   "domain": null,
   "name": "zorder",
   "alias": "zorder",
   "type": "esriFieldTypeInteger"
  },
  {
   "domain": null,
   "name": "shape",
   "alias": "shape",
   "type": "esriFieldTypeGeometry"
  },
  {
   "domain": null,
   "name": "variable",
   "length": 50,
   "alias": "variable",
   "type": "esriFieldTypeString"
  },
  {
   "domain": null,
   "name": "dimensions",
   "length": 255,
   "alias": "Dimensions",
   "type": "esriFieldTypeString"
  },
  {
   "domain": null,
   "name": "model_scenario",
   "alias": "model_scenario",
   "type": "esriFieldTypeSmallInteger"
  }
 ],
 "defaultVariable": "",
 "allowAnalysis": true,
 "hasRasterAttributeTable": false,
 "useStandardizedQueries": true,
 "description": "",
 "pixelType": "F32",
 "meanPixelSize": 19998.756215062298,
 "exportTilesAllowed": false,
 "editFieldsInfo": null,
 "rasterTypeInfos": [
  {
   "help": "",
   "name": "Raster Dataset",
   "description": "Supports all ArcGIS Raster Datasets"
  }
 ],
 "defaultResamplingMethod": "Nearest",
 "itemAccess": false,
 "minScale": 0,
 "serviceProperties": "NorthWest<\/MosaicMethod>First<\/MosaicOperator>true<\/SortAscending><\/LockImageID>name<\/TileOrderField>0<\/TileOrderBase>600.000000<\/AvgImageSpacingX>300.000000<\/AvgImageSpacingY>0.0<\/ViewPointX>0.0<\/ViewPointY>0.0<\/ViewPointDefShiftX>0.0<\/ViewPointDefShiftY>None<\/CompressionMethod>75<\/CompressionQuality>0.010000<\/CompressionTolerance>Nearest<\/SamplingMethod><\/ImageServiceProperties><\/ImageServer>",
 "advancedQueryCapabilities": {
  "supportsStatistics": true,
  "supportsSqlExpression": true,
  "supportsOrderBy": true,
  "useStandardizedQueries": true,
  "supportsPagination": true,
  "supportsDistinct": true
 },
 "serviceItemId": "b3ef25b97359422bba3afd017fb50ae1",
 "capabilities": "Image,Metadata,Catalog",
 "maxScale": 0,
 "stdvValues": [
  23.586975651556301
 ],
 "allowedFields": "name,minps,maxps,lowps,highps,tag,groupname,productname,centerx,centery,zorder,variable,Dimensions,model_scenario",
 "minPixelSize": 0,
 "sortAscending": true,
 "maxMosaicImageCount": 100,
 "inspectionCapabilities": "",
 "maxPixelSize": 0,
 "uncompressedSize": 11999952,
 "serviceDescription": " Habitat suitability models were created for 85 pest species that negatively impact tree species across the USA and Canada. Each model was produced as an ensemble of species distribution models that associated the occurrence of pest species with climate factors, topographical characteristics, host tree abundance, and, for non-native pest species, a dispersal metric capturing their spatiotemporal spread from their origin site in North America. Pest species occurrences from 1991-2025 were gathered from multiple online sources, including the USDA Forest Service, Forest Inventory and Analysis program; USDA Forest Service Forest, Insect and Disease Survey database; Global Biodiversity Information Facility; Canadian Forest Service Forest Invasive Alien Species; and numerous regional surveys. This data publication includes raster and image files of current projected distributions (1991-2020) of 85 pest species, as well as projected distributions that incorporate future climate scenarios (2070-2100) corresponding to high and low greenhouse gas emissions and future tree distribution scenarios in which trees do or do not migrate in response to future climate change. Each map is presented as both a probability surface (ranging from 0 to 1000) and a binary classification (0 and 1).<\/SPAN><\/P><\/DIV><\/DIV><\/DIV>",
 "allowCopy": true,
 "copyrightText": "This project was funded by the USDA Forest Service, Northern Research Station.\n\n\nAuthor Information:\n\nHannah L. Clipp\nUSDA Forest Service, Northern Research Station (former ORISE postdoctoral researcher)\nhttps://orcid.org/0000-0002-8555-7398\n\nAnantha M. Prasad\nUSDA Forest Service, Northern Research Station (former employee)\nhttps://orcid.org/0000-0002-4645-6260\n\nMatthew P. Peters\nUSDA Forest Service, Northern Research Station\nhttps://orcid.org/0000-0002-4793-0075\n\nStephen N. Matthews\nUSDA Forest Service, Northern Research Station\nhttps://orcid.org/0000-0001-9175-7778\n\nAndrew V. Gougherty\nUSDA Forest Service, Northern Research Station\nhttps://orcid.org/0000-0002-3905-8539",
 "mensurationCapabilities": "None",
 "ownershipBasedAccessControlForRasters": null
}
