View In:
ArcGIS JavaScript
ArcGIS Enterprise Map Viewer
ArcGIS Earth
Service Description: Direct Download (Raster Data Gateway)
Objective: The TCA Uncharacteristic Disturbance Indicator identifies locations that have had recent catastrophic disturbance including uncharacteristically severe wildfires resulting in needs for reforestation, revegetation or other restoration work.
Data: The LANDFIRE Historical Percent of Mixed Severity raster dataset for Alaska (AK_120_PMS) was combined with the Monitoring Trends in Burn Severity (MTBS) data (1984-most recent) and Composite Burn Index (Parks et al. 2018) data for the year prior to the assessment year derived from NIFC Fire Perimeters (>1000 ac) to identify areas that have experienced unnaturally severe wildfires in the recent past, since 1984. There is a 2-year lag between the most recent MTBS data and the TCA Assessment year (i.e. in the 2024 TCA Assessment, available MTBS data were from 1984-2022). To reduce this lag to 1 year, we compute the Composite Burn Index (CBI) for the year prior to the current assessment year using fire perimeters from National Interagency Fire Center (NIFC) with methods adapted from Parks et al. 2019. The CBI methods were added for the 2021 assessment. The “Moderate severity” metric (layer) represents areas mapped with a dominant condition of mixed severity fire (based on PMS) but had a high severity MTBS fire in that location.
Data Format: Raster data are binary: (1) “unnaturally severe fire” or (0) other
Spatial Resolution: 30m
Source data: MTBS fire severity, expected fire severity , CBI methods, National Interagency Fire Center Perimeters (for CBI)
Additional Resources:
Details on Method Changes and Source Data Versions
Overview of the Terrestrial Condition Assessment: TCA Hubsite or Landfire Office Hour Presentation
Explore the results of the most recent assessment: TCA Interactive Data Viewer
Learn more about the TCA KPI: TCA Dashboard
*if you have trouble viewing the Dashboard, please submit a Tableau Viewer Access Request
Name: Ecosystems/USFS_EDW_TCA_AK_UncharacteristicFireSeverityModerate
Description:
Single Fused Map Cache: false
Extent:
XMin: -2.00244218703E7
YMin: 6378592.547700003
XMax: -1.3479561870299999E7
YMax: 1.1691622547700003E7
Spatial Reference: 102100
(3857)
LatestVCSWkid(0)
Initial Extent:
XMin: -2.00244218703E7
YMin: 6378592.547700003
XMax: -1.3479561870299999E7
YMax: 1.1691622547700003E7
Spatial Reference: 102100
(3857)
LatestVCSWkid(0)
Full Extent:
XMin: -2.00244218703E7
YMin: 6378592.547700003
XMax: -1.3479561870299999E7
YMax: 1.1691622547700003E7
Spatial Reference: 102100
(3857)
LatestVCSWkid(0)
Time Info:
Start Time Field: StdTime
End Time Field: StdTime
Time Extent:
[2020/01/01 00:00:00 UTC, 2025/01/01 00:00:00 UTC]
Time Reference:
N/A
Pixel Size X: 30.0
Pixel Size Y: 30.0
Band Count: 1
Pixel Type: U4
RasterFunction Infos: {"rasterFunctionInfos": [
{
"help": "",
"name": "TCA_Ind06_ModSeverity",
"description": "TCA_Ind06_ModSeverity - Orange palette"
},
{
"help": "",
"name": "None",
"description": "Make a Raster or Raster Dataset into a Function Raster Dataset."
},
{
"help": "",
"name": "Moderate",
"description": "A raster function template."
}
]}
Mensuration Capabilities: Basic
Inspection Capabilities:
Has Histograms: true
Has Colormap: false
Has Multi Dimensions : true
Rendering Rule:
Min Scale: 0
Max Scale: 0
Copyright Text: USDA - GEO; USDA - USFS – Geospatial Office (GO)
Service Data Type: esriImageServiceDataTypeGeneric
Min Values: 1
Max Values: 1
Mean Values: 1
Standard Deviation Values: 0
Object ID Field: objectid
Fields:
-
objectid
(
alias: objectid
, type: esriFieldTypeOID
)
-
name
(
length: 200
, alias: name
, type: esriFieldTypeString
)
-
minps
(
alias: minps
, type: esriFieldTypeDouble
)
-
maxps
(
alias: maxps
, type: esriFieldTypeDouble
)
-
lowps
(
alias: lowps
, type: esriFieldTypeDouble
)
-
highps
(
alias: highps
, type: esriFieldTypeDouble
)
-
category
(
alias: category
, type: esriFieldTypeInteger
, Coded Values:
[0: Unknown]
, [1: Primary]
, [2: Overview]
, ...6 more...
)
-
shape
(
alias: shape
, type: esriFieldTypeGeometry
)
-
potential
(
length: 24
, alias: potential
, type: esriFieldTypeString
)
-
year
(
length: 8
, alias: year
, type: esriFieldTypeDate
)
-
stdtime
(
length: 8
, alias: Standard Time
, type: esriFieldTypeDate
)
-
dimensions
(
length: 50
, alias: Dimensions
, type: esriFieldTypeString
)
-
variable
(
length: 50
, alias: Variable
, type: esriFieldTypeString
)
Default Mosaic Method: ByAttribute
Allowed Mosaic Methods: ByAttribute,NorthWest,Center,LockRaster,Nadir,Viewpoint,Seamline,None
SortField: StdTime
SortValue: 0
Mosaic Operator: First
Default Compression Quality: 75
Default Resampling Method: Nearest
Max Record Count: 1000
Max Image Height: 100000
Max Image Width: 100000
Max Download Image Count: 20
Max Mosaic Image Count: 20
Allow Raster Function: true
Allow Copy: true
Allow Analysis: true
Allow Compute TiePoints: false
Supports Statistics: true
Supports Advanced Queries: true
Use StandardizedQueries: true
Raster Type Infos:
Name: Raster Dataset
Description: Supports all ArcGIS Raster Datasets
Help:
Has Raster Attribute Table: false
Edit Fields Info: N/A
Ownership Based AccessControl For Rasters: N/A
Child Resources:
Info
Histograms
Statistics
Key Properties
Legend
Raster Function Infos
Multidimensional Info
Slices
Supported Operations:
Export Image
Query
Identify
Measure
Compute Histograms
Compute Statistics Histograms
Get Samples
Compute Class Statistics
Query GPS Info
Find Images
Image to Map
Map to Image
Measure from Image
Image to Map Multiray
Query Boundary
Compute Pixel Location
Compute Angles
Validate
Project