{ "extent": { "ymin": 6378592.5477000028, "xmin": -20024421.870299999, "ymax": 11691622.547700003, "xmax": -13479561.870299999, "spatialReference": { "latestWkid": 3857, "wkid": 102100 } }, "blockWidth": 2048, "mosaicOperator": "First", "serviceSourceType": "esriImageServiceSourceTypeMosaicDataset", "hasMultidimensions": true, "maxImageWidth": 100000, "maxRecordCount": 1000, "meanValues": [1], "hasColormap": false, "compressionType": "None", "defaultCompressionQuality": 75, "maxValues": [1], "hasHistograms": true, "datasetFormat": "AMD", "maxImageHeight": 100000, "sortField": "StdTime", "bandNames": ["Band_1"], "spatialReference": { "latestWkid": 3857, "wkid": 102100 }, "fullExtent": { "ymin": 6378592.5477000028, "xmin": -20024421.870299999, "ymax": 11691622.547700003, "xmax": -13479561.870299999, "spatialReference": { "latestWkid": 3857, "wkid": 102100 } }, "bandCount": 1, "rasterFunctionInfos": [ { "help": "", "name": "TCA_Ind06_ModSeverity", "description": "TCA_Ind06_ModSeverity - Orange palette" }, { "help": "", "name": "None", "description": "Make a Raster or Raster Dataset into a Function Raster Dataset." }, { "help": "", "name": "Moderate", "description": "A raster function template." } ], "supportsStatistics": true, "sortableFields": "minps,maxps,lowps,highps,centerx,centery,zorder,year,stdtime,st_area(shape),st_perimeter(shape)", "minValues": [1], "allowRasterFunction": true, "allowComputeTiePoints": false, "serviceDataType": "esriImageServiceDataTypeGeneric", "supportsAdvancedQueries": true, "maxDownloadSizeLimit": 2048, "currentVersion": 12, "sortValue": "0", "timeInfo": { "startTimeField": "StdTime", "endTimeField": "StdTime", "defaultTimeIntervalUnits": "esriTimeUnitsDays", "timeExtent": [ 1577836800000, 1735689600000 ], "timeReference": null, "defaultTimeInterval": 365 }, "objectIdField": "objectid", "blockHeight": 256, "initialExtent": { "ymin": 6378592.5477000028, "xmin": -20024421.870299999, "ymax": 11691622.547700003, "xmax": -13479561.870299999, "spatialReference": { "latestWkid": 3857, "wkid": 102100 } }, "pixelSizeX": 30, "pixelSizeY": 30, "defaultMosaicMethod": "ByAttribute", "name": "Ecosystems/USFS_EDW_TCA_AK_UncharacteristicFireSeverityModerate", "allowedMosaicMethods": "ByAttribute,NorthWest,Center,LockRaster,Nadir,Viewpoint,Seamline,None", "maxDownloadImageCount": 20, "fields": [ { "domain": null, "name": "objectid", "alias": "objectid", "type": "esriFieldTypeOID" }, { "domain": null, "name": "name", "length": 200, "alias": "name", "type": "esriFieldTypeString" }, { "domain": null, "name": "minps", "alias": "minps", "type": "esriFieldTypeDouble" }, { "domain": null, "name": "maxps", "alias": "maxps", "type": "esriFieldTypeDouble" }, { "domain": null, "name": "lowps", "alias": "lowps", "type": "esriFieldTypeDouble" }, { "domain": null, "name": "highps", "alias": "highps", "type": "esriFieldTypeDouble" }, { "domain": { "splitPolicy": "esriSPTDefaultValue", "name": "MosaicCatalogItemCategoryDomain", "description": "Catalog item categories.", "type": "codedValue", "codedValues": [ { "code": 0, "name": "Unknown" }, { "code": 1, "name": "Primary" }, { "code": 2, "name": "Overview" }, { "code": 3, "name": "Unprocessed Overview" }, { "code": 4, "name": "Partial Overview" }, { "code": 5, "name": "Inactive" }, { "code": 253, "name": "Uploaded" }, { "code": 254, "name": "Incomplete" }, { "code": 255, "name": "Custom" } ], "mergePolicy": "esriMPTDefaultValue" }, "name": "category", "alias": "category", "type": "esriFieldTypeInteger" }, { "domain": null, "name": "shape", "alias": "shape", "type": "esriFieldTypeGeometry" }, { "domain": null, "name": "potential", "length": 24, "alias": "potential", "type": "esriFieldTypeString" }, { "domain": null, "name": "year", "length": 8, "alias": "year", "type": "esriFieldTypeDate" }, { "domain": null, "name": "stdtime", "length": 8, "alias": "Standard Time", "type": "esriFieldTypeDate" }, { "domain": null, "name": "dimensions", "length": 50, "alias": "Dimensions", "type": "esriFieldTypeString" }, { "domain": null, "name": "variable", "length": 50, "alias": "Variable", "type": "esriFieldTypeString" } ], "defaultVariable": "", "allowAnalysis": true, "hasRasterAttributeTable": false, "useStandardizedQueries": true, "description": "", "pixelType": "U4", "meanPixelSize": 30, "exportTilesAllowed": false, "editFieldsInfo": null, "rasterTypeInfos": [{ "help": "", "name": "Raster Dataset", "description": "Supports all ArcGIS Raster Datasets" }], "defaultResamplingMethod": "Nearest", "itemAccess": false, "minScale": 0, "serviceProperties": "ByAttribute<\/MosaicMethod>First<\/MosaicOperator>false<\/SortAscending><\/LockImageID>StdTime<\/TileOrderField>0<\/TileOrderBase>600.000000<\/AvgImageSpacingX>300.000000<\/AvgImageSpacingY>0.0<\/ViewPointX>0.0<\/ViewPointY>0.0<\/ViewPointDefShiftX>0.0<\/ViewPointDefShiftY>None<\/CompressionMethod>75<\/CompressionQuality>0.010000<\/CompressionTolerance>Nearest<\/SamplingMethod><\/ImageServiceProperties><\/ImageServer>", "advancedQueryCapabilities": { "supportsStatistics": true, "supportsSqlExpression": true, "supportsOrderBy": true, "useStandardizedQueries": true, "supportsPagination": true, "supportsDistinct": true }, "serviceItemId": "cedda68b8f914795b1037978e810e937", "capabilities": "Image,Metadata,Catalog,Mensuration", "maxScale": 0, "stdvValues": [0], "allowedFields": "name,minps,maxps,lowps,highps,potential,year,stdtime,dimensions,variable", "minPixelSize": 0, "sortAscending": false, "maxMosaicImageCount": 20, "inspectionCapabilities": "", "maxPixelSize": 0, "uncompressedSize": 19318354181, "serviceDescription": "

Direct Download (Raster Data Gateway)<\/SPAN><\/SPAN><\/A> <\/SPAN><\/SPAN><\/P>
Objective:<\/SPAN><\/SPAN> The TCA Uncharacteristic Disturbance Indicator identifies locations that have had recent catastrophic disturbance including uncharacteristically severe wildfires resulting in needs for reforestation, revegetation or other restoration work.<\/SPAN><\/SPAN><\/P>
Data:<\/SPAN><\/SPAN> The LANDFIRE Historical Percent of Mixed Severity raster dataset for Alaska (AK_120_PMS) was combined with the Monitoring Trends in Burn Severity (MTBS) data (1984-most recent) and Composite Burn Index (Parks et al. 2018) data for the year prior to the assessment year derived from NIFC Fire Perimeters (>1000 ac) to identify areas that have experienced unnaturally severe wildfires in the recent past, since 1984. There is a 2-year lag between the most recent MTBS data and the TCA Assessment year (i.e. in the 2024 TCA Assessment, available MTBS data were from 1984-2022). To reduce this lag to 1 year, we compute the Composite Burn Index (CBI) for the year prior to the current assessment year using fire perimeters from National Interagency Fire Center (NIFC) with methods adapted from Parks et al. 2019. The CBI methods were added for the 2021 assessment. The \u201cModerate severity\u201d metric (layer) represents areas mapped with a dominant condition of mixed severity fire (based on PMS) but had a high severity MTBS fire in that location. <\/SPAN><\/SPAN><\/P>
Data Format:<\/SPAN><\/SPAN> Raster data are binary: (1) \u201cunnaturally severe fire\u201d or (0) other<\/SPAN><\/SPAN><\/P>
Spatial Resolution:<\/SPAN><\/SPAN> 30m<\/SPAN><\/SPAN><\/P>
Source data: <\/SPAN><\/SPAN>MTBS <\/SPAN><\/SPAN>fire severity<\/SPAN><\/SPAN><\/A>, <\/SPAN><\/SPAN>expected fire severity<\/SPAN><\/SPAN><\/A> , <\/SPAN><\/SPAN>CBI methods<\/SPAN><\/SPAN><\/A>, <\/SPAN><\/SPAN>National Interagency Fire Center Perimeters<\/SPAN><\/SPAN><\/A> (for CBI)<\/SPAN><\/SPAN><\/P>
Additional Resources:<\/SPAN><\/SPAN><\/P>
Details on <\/SPAN><\/SPAN>Method Changes and Source Data Versions<\/SPAN><\/SPAN><\/A><\/P>
Overview of the Terrestrial Condition Assessment: <\/SPAN><\/SPAN>TCA Hubsite<\/SPAN><\/SPAN><\/A> or <\/SPAN><\/SPAN>Landfire Office Hour Presentation<\/SPAN><\/SPAN><\/A><\/P>
Explore the results of the most recent assessment: <\/SPAN><\/SPAN>TCA Interactive Data Viewer<\/SPAN><\/SPAN><\/A><\/P>
Learn more about the TCA KPI: <\/SPAN><\/SPAN>TCA Dashboard<\/SPAN><\/SPAN><\/A><\/P>
*if you have trouble viewing the Dashboard, please submit a <\/SPAN><\/SPAN>Tableau Viewer Access Request<\/SPAN><\/SPAN><\/A><\/P><\/DIV><\/DIV><\/DIV>", "allowCopy": true, "copyrightText": "USDA - GEO; USDA - USFS \u2013 Geospatial Office (GO)", "mensurationCapabilities": "Basic", "ownershipBasedAccessControlForRasters": null }