View In:
ArcGIS JavaScript
ArcGIS Enterprise Map Viewer
ArcGIS Earth
Service Description: This dataset uses human modification ( Theobald 2020 - https://essd.copernicus.org/articles/12/1953/2020/ ) and forest cover data to identify key areas of importance for forest landscape connectivity across North America. This dataset uses a 700-meter search radius to evaluate landscape connectivity. In large, unfragmented areas with intact forest cover, forest dependent species may move freely across the landscape. These areas may provide options for maintaining ecological connections. In highly developed and altered landscapes, where forest cover is largely absent, species movement is impeded and restricted, reflecting the difficulty species may experience in moving through these human-modified landscapes. In areas with adjacent natural and modified lands, where forest cover is limited in distribution, species movement is concentrated in areas (pinch points or bottlenecks) where few alternative movement pathways exist. These concentrated movement areas may be particularly important for maintaining or restoring ecological connectivity for forest-dependent species and processes. Areas with the top 30% of connectivity scores are identified, representing areas where very highly, highly, and concentrated forest connectivity occurs. - (Belote et al. unpublished; Belote et al. 2022 - https://academic.oup.com/bioscience/article/70/2/122/5680447)
Spatial Extent: CONUS
Units: Categories of connectivity (diffuse - very highly concentrated)
Name: Ecosystems/USFS_CRV_Biodiversity_ForestConnectivity
Description:
Single Fused Map Cache: false
Extent:
XMin: -1.4374550207906257E7
YMin: 2424419.0078734932
XMax: -7031550.207906257
YMax: 7023419.007873493
Spatial Reference: 102100
(3857)
LatestVCSWkid(0)
Initial Extent:
XMin: -1.4374550207906257E7
YMin: 2424419.0078734932
XMax: -7031550.207906257
YMax: 7023419.007873493
Spatial Reference: 102100
(3857)
LatestVCSWkid(0)
Full Extent:
XMin: -1.4374550207906257E7
YMin: 2424419.0078734932
XMax: -7031550.207906257
YMax: 7023419.007873493
Spatial Reference: 102100
(3857)
LatestVCSWkid(0)
Pixel Size X: 1000.0
Pixel Size Y: 1000.0
Band Count: 1
Pixel Type: F32
RasterFunction Infos: {"rasterFunctionInfos": [
{
"help": "",
"name": "None",
"description": "Make a Raster or Raster Dataset into a Function Raster Dataset."
},
{
"help": "",
"name": "None",
"description": "Make a Raster or Raster Dataset into a Function Raster Dataset."
}
]}
Mensuration Capabilities: Basic
Inspection Capabilities:
Has Histograms: true
Has Colormap: false
Has Multi Dimensions : false
Rendering Rule:
Min Scale: 0
Max Scale: 0
Copyright Text: The Wilderness Society
Service Data Type: esriImageServiceDataTypeGeneric
Min Values: 0
Max Values: 17.672014236450195
Mean Values: 0.88590098177311838
Standard Deviation Values: 0.52108079008481545
Object ID Field: objectid
Fields:
-
objectid
(
alias: objectid
, type: esriFieldTypeOID
)
-
name
(
length: 200
, alias: name
, type: esriFieldTypeString
)
-
minps
(
alias: minps
, type: esriFieldTypeDouble
)
-
maxps
(
alias: maxps
, type: esriFieldTypeDouble
)
-
lowps
(
alias: lowps
, type: esriFieldTypeDouble
)
-
highps
(
alias: highps
, type: esriFieldTypeDouble
)
-
category
(
alias: category
, type: esriFieldTypeInteger
, Coded Values:
[0: Unknown]
, [1: Primary]
, [2: Overview]
, ...6 more...
)
-
tag
(
length: 100
, alias: tag
, type: esriFieldTypeString
)
-
groupname
(
length: 100
, alias: groupname
, type: esriFieldTypeString
)
-
productname
(
length: 100
, alias: productname
, type: esriFieldTypeString
)
-
centerx
(
alias: centerx
, type: esriFieldTypeDouble
)
-
centery
(
alias: centery
, type: esriFieldTypeDouble
)
-
zorder
(
alias: zorder
, type: esriFieldTypeInteger
)
-
shape
(
alias: shape
, type: esriFieldTypeGeometry
)
Default Mosaic Method: Northwest
Allowed Mosaic Methods: NorthWest,Center,LockRaster,ByAttribute,Nadir,Viewpoint,Seamline,None
SortField:
SortValue: N/A
Mosaic Operator: First
Default Compression Quality: 75
Default Resampling Method: Bilinear
Max Record Count: 1000
Max Image Height: 100000
Max Image Width: 100000
Max Download Image Count: 20
Max Mosaic Image Count: 100
Allow Raster Function: true
Allow Copy: true
Allow Analysis: true
Allow Compute TiePoints: false
Supports Statistics: true
Supports Advanced Queries: true
Use StandardizedQueries: true
Raster Type Infos:
Name: Raster Dataset
Description: Supports all ArcGIS Raster Datasets
Help:
Has Raster Attribute Table: false
Edit Fields Info: N/A
Ownership Based AccessControl For Rasters: N/A
Child Resources:
Info
Histograms
Statistics
Key Properties
Legend
Raster Function Infos
Supported Operations:
Export Image
Query
Identify
Measure
Compute Histograms
Compute Statistics Histograms
Get Samples
Compute Class Statistics
Query GPS Info
Find Images
Image to Map
Map to Image
Measure from Image
Image to Map Multiray
Query Boundary
Compute Pixel Location
Compute Angles
Validate
Project