{ "extent": { "ymin": 2424419.0078734932, "xmin": -14374550.207906257, "ymax": 7023419.0078734932, "xmax": -7031550.2079062574, "spatialReference": { "latestWkid": 3857, "wkid": 102100 } }, "blockWidth": 2048, "mosaicOperator": "First", "serviceSourceType": "esriImageServiceSourceTypeMosaicDataset", "hasMultidimensions": false, "maxImageWidth": 100000, "maxRecordCount": 1000, "meanValues": [0.88590098177311838], "hasColormap": false, "compressionType": "None", "defaultCompressionQuality": 75, "maxValues": [17.672014236450195], "hasHistograms": true, "datasetFormat": "AMD", "maxImageHeight": 100000, "sortField": "", "bandNames": ["Band_1"], "spatialReference": { "latestWkid": 3857, "wkid": 102100 }, "fullExtent": { "ymin": 2424419.0078734932, "xmin": -14374550.207906257, "ymax": 7023419.0078734932, "xmax": -7031550.2079062574, "spatialReference": { "latestWkid": 3857, "wkid": 102100 } }, "bandCount": 1, "rasterFunctionInfos": [ { "help": "", "name": "None", "description": "Make a Raster or Raster Dataset into a Function Raster Dataset." }, { "help": "", "name": "None", "description": "Make a Raster or Raster Dataset into a Function Raster Dataset." } ], "supportsStatistics": true, "sortableFields": "minps,maxps,lowps,highps,centerx,centery,zorder", "minValues": [0], "allowRasterFunction": true, "allowComputeTiePoints": false, "serviceDataType": "esriImageServiceDataTypeGeneric", "supportsAdvancedQueries": true, "maxDownloadSizeLimit": 2048, "currentVersion": 12, "sortValue": null, "objectIdField": "objectid", "blockHeight": 256, "initialExtent": { "ymin": 2424419.0078734932, "xmin": -14374550.207906257, "ymax": 7023419.0078734932, "xmax": -7031550.2079062574, "spatialReference": { "latestWkid": 3857, "wkid": 102100 } }, "pixelSizeX": 1000, "pixelSizeY": 1000, "defaultMosaicMethod": "Northwest", "name": "Ecosystems/USFS_CRV_Biodiversity_ForestConnectivity", "allowedMosaicMethods": "NorthWest,Center,LockRaster,ByAttribute,Nadir,Viewpoint,Seamline,None", "maxDownloadImageCount": 20, "fields": [ { "domain": null, "name": "objectid", "alias": "objectid", "type": "esriFieldTypeOID" }, { "domain": null, "name": "name", "length": 200, "alias": "name", "type": "esriFieldTypeString" }, { "domain": null, "name": "minps", "alias": "minps", "type": "esriFieldTypeDouble" }, { "domain": null, "name": "maxps", "alias": "maxps", "type": "esriFieldTypeDouble" }, { "domain": null, "name": "lowps", "alias": "lowps", "type": "esriFieldTypeDouble" }, { "domain": null, "name": "highps", "alias": "highps", "type": "esriFieldTypeDouble" }, { "domain": { "splitPolicy": "esriSPTDefaultValue", "name": "MosaicCatalogItemCategoryDomain", "description": "Catalog item categories.", "type": "codedValue", "codedValues": [ { "code": 0, "name": "Unknown" }, { "code": 1, "name": "Primary" }, { "code": 2, "name": "Overview" }, { "code": 3, "name": "Unprocessed Overview" }, { "code": 4, "name": "Partial Overview" }, { "code": 5, "name": "Inactive" }, { "code": 253, "name": "Uploaded" }, { "code": 254, "name": "Incomplete" }, { "code": 255, "name": "Custom" } ], "mergePolicy": "esriMPTDefaultValue" }, "name": "category", "alias": "category", "type": "esriFieldTypeInteger" }, { "domain": null, "name": "tag", "length": 100, "alias": "tag", "type": "esriFieldTypeString" }, { "domain": null, "name": "groupname", "length": 100, "alias": "groupname", "type": "esriFieldTypeString" }, { "domain": null, "name": "productname", "length": 100, "alias": "productname", "type": "esriFieldTypeString" }, { "domain": null, "name": "centerx", "alias": "centerx", "type": "esriFieldTypeDouble" }, { "domain": null, "name": "centery", "alias": "centery", "type": "esriFieldTypeDouble" }, { "domain": null, "name": "zorder", "alias": "zorder", "type": "esriFieldTypeInteger" }, { "domain": null, "name": "shape", "alias": "shape", "type": "esriFieldTypeGeometry" } ], "allowAnalysis": true, "hasRasterAttributeTable": false, "useStandardizedQueries": true, "description": "", "pixelType": "F32", "meanPixelSize": 1000, "exportTilesAllowed": false, "editFieldsInfo": null, "rasterTypeInfos": [{ "help": "", "name": "Raster Dataset", "description": "Supports all ArcGIS Raster Datasets" }], "defaultResamplingMethod": "Bilinear", "itemAccess": false, "minScale": 0, "serviceProperties": "NorthWest<\/MosaicMethod>First<\/MosaicOperator>true<\/SortAscending><\/LockImageID>name<\/TileOrderField>0<\/TileOrderBase>600.000000<\/AvgImageSpacingX>300.000000<\/AvgImageSpacingY>0.0<\/ViewPointX>0.0<\/ViewPointY>0.0<\/ViewPointDefShiftX>0.0<\/ViewPointDefShiftY>None<\/CompressionMethod>75<\/CompressionQuality>0.010000<\/CompressionTolerance>Bilinear<\/SamplingMethod><\/ImageServiceProperties><\/ImageServer>", "advancedQueryCapabilities": { "supportsStatistics": true, "supportsSqlExpression": true, "supportsOrderBy": true, "useStandardizedQueries": true, "supportsPagination": true, "supportsDistinct": true }, "serviceItemId": "5ef1ee7631d84704a3d2bca955df6a4e", "capabilities": "Image,Metadata,Catalog,Mensuration", "maxScale": 0, "stdvValues": [0.52108079008481545], "allowedFields": "name,minps,maxps,lowps,highps,tag,groupname,productname,centerx,centery,zorder", "minPixelSize": 0, "sortAscending": true, "maxMosaicImageCount": 100, "inspectionCapabilities": "", "maxPixelSize": 0, "uncompressedSize": 135081828, "serviceDescription": "

This dataset uses human modification ( Theobald 2020 - https://essd.copernicus.org/articles/12/1953/2020/ ) and forest cover data to identify key areas of importance for forest landscape connectivity across North America. This dataset uses a 700-meter search radius to evaluate landscape connectivity. In large, unfragmented areas with intact forest cover, forest dependent species may move freely across the landscape. These areas may provide options for maintaining ecological connections. In highly developed and altered landscapes, where forest cover is largely absent, species movement is impeded and restricted, reflecting the difficulty species may experience in moving through these human-modified landscapes. In areas with adjacent natural and modified lands, where forest cover is limited in distribution, species movement is concentrated in areas (pinch points or bottlenecks) where few alternative movement pathways exist. These concentrated movement areas may be particularly important for maintaining or restoring ecological connectivity for forest-dependent species and processes. Areas with the top 30% of connectivity scores are identified, representing areas where very highly, highly, and concentrated forest connectivity occurs. - (Belote et al. unpublished; Belote et al. 2022 - https://academic.oup.com/bioscience/article/70/2/122/5680447) <\/SPAN><\/P>
<\/P>
Spatial Extent: CONUS<\/SPAN><\/P>
Units: Categories of connectivity (diffuse - very highly concentrated)<\/SPAN><\/P><\/DIV><\/DIV><\/DIV>", "allowCopy": true, "copyrightText": "The Wilderness Society", "mensurationCapabilities": "Basic", "ownershipBasedAccessControlForRasters": null }