View In:
ArcGIS JavaScript
ArcGIS Enterprise Map Viewer
ArcGIS Earth
Service Description: This dataset shows the results of an assessment of trends for 500 terrestrial ecosystems in the U.S.. The assessment considered trends in different indicators to gauge the probability of ecosystem collapse using four criteria : 1) ecosystem extent, 2) the degree to which ecosystem distribution is restricted, 3) the extent and relative severity of environmental degradation, and 4) the extent and relative severity of disruption of biotic processes. Ecosystems are categorized according to the IUCN framework for risk assessment based on their level of risk and probability of range-wide collapse; (e.g., collapsed (CO), critically endangered (CR), endangered (EN), vulnerable (VU), near threatened (NT), least concern (LC), data deficient (DD), or not evaluated (NE). More info is available here - https://www.natureserve.org/publications/documenting-risk-status-terrestrial-ecosystems-temperate-and-tropical-north-america.
Spatial Extent: Temperate and tropical North America, encompassing CONUS and Caribbean
Units: Categories of IUCN Red List of Ecosystems (RLE)
Name: Ecosystems/USFS_CRV_Biodiversity_AtRiskTerrestrialEcosystems
Description:
Single Fused Map Cache: false
Extent:
XMin: -1.5354184756837178E7
YMin: 128275.49477791227
XMax: -3748504.756837178
YMax: 9674125.494777912
Spatial Reference: 102100
(3857)
LatestVCSWkid(0)
Initial Extent:
XMin: -1.5354184756837178E7
YMin: 128275.49477791227
XMax: -3748504.756837178
YMax: 9674125.494777912
Spatial Reference: 102100
(3857)
LatestVCSWkid(0)
Full Extent:
XMin: -1.5354184756837178E7
YMin: 128275.49477791227
XMax: -3748504.756837178
YMax: 9674125.494777912
Spatial Reference: 102100
(3857)
LatestVCSWkid(0)
Pixel Size X: 90.0
Pixel Size Y: 90.0
Band Count: 1
Pixel Type: U16
RasterFunction Infos: {"rasterFunctionInfos": [
{
"help": "",
"name": "atriskterrestrialecosystems_symbology",
"description": "at risk terrestrial ecosystems symbology"
},
{
"help": "",
"name": "None",
"description": "Make a Raster or Raster Dataset into a Function Raster Dataset."
}
]}
Mensuration Capabilities: Basic
Inspection Capabilities:
Has Histograms: true
Has Colormap: false
Has Multi Dimensions : false
Rendering Rule:
Min Scale: 0
Max Scale: 0
Copyright Text: NatureServe (Comer et al 2022)
Service Data Type: esriImageServiceDataTypeGeneric
Min Values: 0
Max Values: 12010
Mean Values: 1385.1767575370318
Standard Deviation Values: 2995.8598063072973
Object ID Field: objectid
Fields:
-
objectid
(
alias: objectid
, type: esriFieldTypeOID
)
-
name
(
length: 200
, alias: name
, type: esriFieldTypeString
)
-
minps
(
alias: minps
, type: esriFieldTypeDouble
)
-
maxps
(
alias: maxps
, type: esriFieldTypeDouble
)
-
lowps
(
alias: lowps
, type: esriFieldTypeDouble
)
-
highps
(
alias: highps
, type: esriFieldTypeDouble
)
-
category
(
alias: category
, type: esriFieldTypeInteger
, Coded Values:
[0: Unknown]
, [1: Primary]
, [2: Overview]
, ...6 more...
)
-
tag
(
length: 100
, alias: tag
, type: esriFieldTypeString
)
-
groupname
(
length: 100
, alias: groupname
, type: esriFieldTypeString
)
-
productname
(
length: 100
, alias: productname
, type: esriFieldTypeString
)
-
centerx
(
alias: centerx
, type: esriFieldTypeDouble
)
-
centery
(
alias: centery
, type: esriFieldTypeDouble
)
-
zorder
(
alias: zorder
, type: esriFieldTypeInteger
)
-
shape
(
alias: shape
, type: esriFieldTypeGeometry
)
Default Mosaic Method: Northwest
Allowed Mosaic Methods: NorthWest,Center,LockRaster,ByAttribute,Nadir,Viewpoint,Seamline,None
SortField:
SortValue: N/A
Mosaic Operator: First
Default Compression Quality: 75
Default Resampling Method: Nearest
Max Record Count: 1000
Max Image Height: 100000
Max Image Width: 100000
Max Download Image Count: 20
Max Mosaic Image Count: 100
Allow Raster Function: true
Allow Copy: true
Allow Analysis: true
Allow Compute TiePoints: false
Supports Statistics: true
Supports Advanced Queries: true
Use StandardizedQueries: true
Raster Type Infos:
Name: Raster Dataset
Description: Supports all ArcGIS Raster Datasets
Help:
Has Raster Attribute Table: false
Edit Fields Info: N/A
Ownership Based AccessControl For Rasters: N/A
Child Resources:
Info
Histograms
Statistics
Key Properties
Legend
Raster Function Infos
Supported Operations:
Export Image
Query
Identify
Measure
Compute Histograms
Compute Statistics Histograms
Get Samples
Compute Class Statistics
Query GPS Info
Find Images
Image to Map
Map to Image
Measure from Image
Image to Map Multiray
Query Boundary
Compute Pixel Location
Compute Angles
Validate
Project