{ "extent": { "ymin": 128275.49477791227, "xmin": -15354184.756837178, "ymax": 9674125.4947779123, "xmax": -3748504.756837178, "spatialReference": { "latestWkid": 3857, "wkid": 102100 } }, "blockWidth": 2048, "mosaicOperator": "First", "serviceSourceType": "esriImageServiceSourceTypeMosaicDataset", "hasMultidimensions": false, "maxImageWidth": 100000, "maxRecordCount": 1000, "meanValues": [1385.1767575370318], "hasColormap": false, "compressionType": "None", "defaultCompressionQuality": 75, "maxValues": [12010], "hasHistograms": true, "datasetFormat": "AMD", "maxImageHeight": 100000, "sortField": "", "bandNames": ["Band_1"], "spatialReference": { "latestWkid": 3857, "wkid": 102100 }, "fullExtent": { "ymin": 128275.49477791227, "xmin": -15354184.756837178, "ymax": 9674125.4947779123, "xmax": -3748504.756837178, "spatialReference": { "latestWkid": 3857, "wkid": 102100 } }, "bandCount": 1, "rasterFunctionInfos": [ { "help": "", "name": "atriskterrestrialecosystems_symbology", "description": "at risk terrestrial ecosystems symbology" }, { "help": "", "name": "None", "description": "Make a Raster or Raster Dataset into a Function Raster Dataset." } ], "supportsStatistics": true, "sortableFields": "minps,maxps,lowps,highps,centerx,centery,zorder", "minValues": [0], "allowRasterFunction": true, "allowComputeTiePoints": false, "serviceDataType": "esriImageServiceDataTypeGeneric", "supportsAdvancedQueries": true, "maxDownloadSizeLimit": 2048, "currentVersion": 12, "sortValue": null, "objectIdField": "objectid", "blockHeight": 256, "initialExtent": { "ymin": 128275.49477791227, "xmin": -15354184.756837178, "ymax": 9674125.4947779123, "xmax": -3748504.756837178, "spatialReference": { "latestWkid": 3857, "wkid": 102100 } }, "pixelSizeX": 90, "pixelSizeY": 90, "defaultMosaicMethod": "Northwest", "name": "Ecosystems/USFS_CRV_Biodiversity_AtRiskTerrestrialEcosystems", "allowedMosaicMethods": "NorthWest,Center,LockRaster,ByAttribute,Nadir,Viewpoint,Seamline,None", "maxDownloadImageCount": 20, "fields": [ { "domain": null, "name": "objectid", "alias": "objectid", "type": "esriFieldTypeOID" }, { "domain": null, "name": "name", "length": 200, "alias": "name", "type": "esriFieldTypeString" }, { "domain": null, "name": "minps", "alias": "minps", "type": "esriFieldTypeDouble" }, { "domain": null, "name": "maxps", "alias": "maxps", "type": "esriFieldTypeDouble" }, { "domain": null, "name": "lowps", "alias": "lowps", "type": "esriFieldTypeDouble" }, { "domain": null, "name": "highps", "alias": "highps", "type": "esriFieldTypeDouble" }, { "domain": { "splitPolicy": "esriSPTDefaultValue", "name": "MosaicCatalogItemCategoryDomain", "description": "Catalog item categories.", "type": "codedValue", "codedValues": [ { "code": 0, "name": "Unknown" }, { "code": 1, "name": "Primary" }, { "code": 2, "name": "Overview" }, { "code": 3, "name": "Unprocessed Overview" }, { "code": 4, "name": "Partial Overview" }, { "code": 5, "name": "Inactive" }, { "code": 253, "name": "Uploaded" }, { "code": 254, "name": "Incomplete" }, { "code": 255, "name": "Custom" } ], "mergePolicy": "esriMPTDefaultValue" }, "name": "category", "alias": "category", "type": "esriFieldTypeInteger" }, { "domain": null, "name": "tag", "length": 100, "alias": "tag", "type": "esriFieldTypeString" }, { "domain": null, "name": "groupname", "length": 100, "alias": "groupname", "type": "esriFieldTypeString" }, { "domain": null, "name": "productname", "length": 100, "alias": "productname", "type": "esriFieldTypeString" }, { "domain": null, "name": "centerx", "alias": "centerx", "type": "esriFieldTypeDouble" }, { "domain": null, "name": "centery", "alias": "centery", "type": "esriFieldTypeDouble" }, { "domain": null, "name": "zorder", "alias": "zorder", "type": "esriFieldTypeInteger" }, { "domain": null, "name": "shape", "alias": "shape", "type": "esriFieldTypeGeometry" } ], "allowAnalysis": true, "hasRasterAttributeTable": false, "useStandardizedQueries": true, "description": "", "pixelType": "U16", "meanPixelSize": 90, "exportTilesAllowed": false, "editFieldsInfo": null, "rasterTypeInfos": [{ "help": "", "name": "Raster Dataset", "description": "Supports all ArcGIS Raster Datasets" }], "defaultResamplingMethod": "Nearest", "itemAccess": false, "minScale": 0, "serviceProperties": "NorthWest<\/MosaicMethod>First<\/MosaicOperator>true<\/SortAscending><\/LockImageID>name<\/TileOrderField>0<\/TileOrderBase>600.000000<\/AvgImageSpacingX>300.000000<\/AvgImageSpacingY>0.0<\/ViewPointX>0.0<\/ViewPointY>0.0<\/ViewPointDefShiftX>0.0<\/ViewPointDefShiftY>None<\/CompressionMethod>75<\/CompressionQuality>0.010000<\/CompressionTolerance>Nearest<\/SamplingMethod><\/ImageServiceProperties><\/ImageServer>", "advancedQueryCapabilities": { "supportsStatistics": true, "supportsSqlExpression": true, "supportsOrderBy": true, "useStandardizedQueries": true, "supportsPagination": true, "supportsDistinct": true }, "serviceItemId": "1b661546ba5c49c59f87c683ce57a414", "capabilities": "Image,Metadata,Catalog,Mensuration", "maxScale": 0, "stdvValues": [2995.8598063072973], "allowedFields": "name,minps,maxps,lowps,highps,tag,groupname,productname,centerx,centery,zorder", "minPixelSize": 0, "sortAscending": true, "maxMosaicImageCount": 100, "inspectionCapabilities": "", "maxPixelSize": 0, "uncompressedSize": 27354587760, "serviceDescription": "

This dataset shows the results of an assessment of trends for 500 terrestrial ecosystems in the U.S.. The assessment considered trends in different indicators to gauge the probability of ecosystem collapse using four criteria : 1) ecosystem extent, 2) the degree to which ecosystem distribution is restricted, 3) the extent and relative severity of environmental degradation, and 4) the extent and relative severity of disruption of biotic processes. Ecosystems are categorized according to the IUCN framework for risk assessment based on their level of risk and probability of range-wide collapse; (e.g., collapsed (CO), critically endangered (CR), endangered (EN), vulnerable (VU), near threatened (NT), least concern (LC), data deficient (DD), or not evaluated (NE). More info is available here - https://www.natureserve.org/publications/documenting-risk-status-terrestrial-ecosystems-temperate-and-tropical-north-america. <\/SPAN><\/P>
Spatial Extent: Temperate and tropical North America, encompassing CONUS and Caribbean<\/SPAN><\/P>
Units: Categories of IUCN Red List of Ecosystems (RLE) <\/SPAN><\/P><\/DIV><\/DIV><\/DIV>", "allowCopy": true, "copyrightText": "NatureServe (Comer et al 2022)", "mensurationCapabilities": "Basic", "ownershipBasedAccessControlForRasters": null }