View In:
ArcGIS JavaScript
ArcGIS Enterprise Map Viewer
ArcGIS Earth
Service Description: Modeled habitat suitability for 125 tree species in the eastern United States under current (1981-2010) climate conditions and projected future conditions (2070-2099) created using a statistical modeling approach that correlates mean importance values to 45 environmental data layers. This data set includes 148 tree species represented by a hybrid lattice of 10 and 20 km grids that provides information on relative abundance (i.e., importance values), derived from tree basal area and number of stems, for the species according to USDA Forest Service Forest Inventory and Analysis data (2001-2016), and modeled for 125 species under current conditions and for eight future scenarios.
Name: Ecosystems/TreeHabitatSuitability_USFS_ForestEcosystemAtlas
Description: Modeled habitat suitability for 125 tree species in the eastern United States under current (1981-2010) climate conditions and projected future conditions (2070-2099) created using a statistical modeling approach that correlates mean importance values to 45 environmental data layers. This data set includes 148 tree species represented by a hybrid lattice of 10 and 20 km grids that provides information on relative abundance (i.e., importance values), derived from tree basal area and number of stems, for the species according to USDA Forest Service Forest Inventory and Analysis data (2001-2016), and modeled for 125 species under current conditions and for eight future scenarios.
Single Fused Map Cache: false
Extent:
XMin: -1.18152972008E7
YMin: 2674863.1274000034
XMax: -7295297.2008
YMax: 6514863.127400003
Spatial Reference: 102100
(3857)
LatestVCSWkid(0)
Initial Extent:
XMin: -1.18152972008E7
YMin: 2674863.1274000034
XMax: -7295297.2008
YMax: 6514863.127400003
Spatial Reference: 102100
(3857)
LatestVCSWkid(0)
Full Extent:
XMin: -1.18152972008E7
YMin: 2674863.1274000034
XMax: -7295297.2008
YMax: 6514863.127400003
Spatial Reference: 102100
(3857)
LatestVCSWkid(0)
Pixel Size X: 10000.0
Pixel Size Y: 10000.0
Band Count: 1
Pixel Type: U8
RasterFunction Infos: {"rasterFunctionInfos": [
{
"help": "",
"name": "None",
"description": "Make a Raster or Raster Dataset into a Function Raster Dataset."
},
{
"help": "",
"name": "Actual",
"description": "A raster function template."
},
{
"help": "",
"name": "CCSM4_RCP45",
"description": "A raster function template."
},
{
"help": "",
"name": "CCSM4_RCP85",
"description": "A raster function template."
},
{
"help": "",
"name": "Current",
"description": "A raster function template."
},
{
"help": "",
"name": "GCM_ensemble_RCP45",
"description": "A raster function template."
},
{
"help": "",
"name": "GCM_ensemble_RCP85",
"description": "A raster function template."
},
{
"help": "",
"name": "GFDL_CM3_RCP45",
"description": "A raster function template."
},
{
"help": "",
"name": "GFDL_CM3_RCP85",
"description": "A raster function template."
},
{
"help": "",
"name": "HadGEM2_ES_RCP45",
"description": "A raster function template."
},
{
"help": "",
"name": "HadGEM2_ES_RCP85",
"description": "A raster function template."
}
]}
Mensuration Capabilities: Basic
Inspection Capabilities:
Has Histograms: true
Has Colormap: false
Has Multi Dimensions : true
Rendering Rule:
Min Scale: 0
Max Scale: 0
Copyright Text: Details on the models were published in:
Peters et al. (2019) and Iverson et al. (2019).
Iverson, Louis R.; Peters, Matthew P.; Prasad, Anantha M.; Matthews, Stephen N. 2019. Analysis of Climate Change Impacts on Tree Species of the Eastern US: Results of DISTRIB-II Modeling. Forests. 10(4): 302. https://doi.org/10.3390/f10040302.
Peters, Matthew P.; Iverson, Louis R.; Prasad, Anantha M.; Matthews, Stephen N. 2019. Utilizing the density of inventory samples to define a hybrid lattice for species distribution models: DISTRIB II for 135 eastern U.S. trees. Ecology and Evolution . 9(15): 8876-8899. https://doi.org/10.1002/ece3.5445.
Service Data Type: esriImageServiceDataTypeThematic
Min Values: 0
Max Values: 163
Mean Values: 139.14507277159043
Standard Deviation Values: 42.57172097604797
Object ID Field: objectid
Fields:
-
objectid
(
alias: objectid
, type: esriFieldTypeOID
)
-
name
(
length: 200
, alias: name
, type: esriFieldTypeString
)
-
minps
(
alias: minps
, type: esriFieldTypeDouble
)
-
maxps
(
alias: maxps
, type: esriFieldTypeDouble
)
-
lowps
(
alias: lowps
, type: esriFieldTypeDouble
)
-
highps
(
alias: highps
, type: esriFieldTypeDouble
)
-
category
(
alias: category
, type: esriFieldTypeInteger
, Coded Values:
[0: Unknown]
, [1: Primary]
, [2: Overview]
, ...6 more...
)
-
tag
(
length: 100
, alias: tag
, type: esriFieldTypeString
)
-
groupname
(
length: 100
, alias: groupname
, type: esriFieldTypeString
)
-
productname
(
length: 100
, alias: productname
, type: esriFieldTypeString
)
-
centerx
(
alias: centerx
, type: esriFieldTypeDouble
)
-
centery
(
alias: centery
, type: esriFieldTypeDouble
)
-
zorder
(
alias: zorder
, type: esriFieldTypeInteger
)
-
shape
(
alias: shape
, type: esriFieldTypeGeometry
)
Default Mosaic Method: None
Allowed Mosaic Methods: None,NorthWest,Center,LockRaster,ByAttribute,Nadir,Viewpoint,Seamline
SortField: N/A
SortValue: N/A
Mosaic Operator: First
Default Compression Quality: 75
Default Resampling Method: Nearest
Max Record Count: 1000
Max Image Height: 100000
Max Image Width: 100000
Max Download Image Count: 20
Max Mosaic Image Count: 100
Allow Raster Function: true
Allow Copy: true
Allow Analysis: true
Allow Compute TiePoints: false
Supports Statistics: true
Supports Advanced Queries: true
Use StandardizedQueries: true
Raster Type Infos:
Name: Raster Dataset
Description: Supports all ArcGIS Raster Datasets
Help:
Has Raster Attribute Table: false
Edit Fields Info: N/A
Ownership Based AccessControl For Rasters: N/A
Child Resources:
Info
Histograms
Statistics
Key Properties
Legend
Raster Function Infos
Multidimensional Info
Slices
Supported Operations:
Export Image
Query
Identify
Measure
Compute Histograms
Compute Statistics Histograms
Get Samples
Compute Class Statistics
Query GPS Info
Find Images
Image to Map
Map to Image
Measure from Image
Image to Map Multiray
Query Boundary
Compute Pixel Location
Compute Angles
Validate
Project