{ "extent": { "ymin": 2674863.1274000034, "xmin": -11815297.2008, "ymax": 6514863.1274000034, "xmax": -7295297.2007999998, "spatialReference": { "latestWkid": 3857, "wkid": 102100 } }, "blockWidth": 2048, "mosaicOperator": "First", "serviceSourceType": "esriImageServiceSourceTypeMosaicDataset", "hasMultidimensions": true, "maxImageWidth": 100000, "maxRecordCount": 1000, "meanValues": [139.14507277159043], "hasColormap": false, "compressionType": "None", "defaultCompressionQuality": 75, "maxValues": [163], "hasHistograms": true, "datasetFormat": "AMD", "maxImageHeight": 100000, "bandNames": ["Band_1"], "spatialReference": { "latestWkid": 3857, "wkid": 102100 }, "fullExtent": { "ymin": 2674863.1274000034, "xmin": -11815297.2008, "ymax": 6514863.1274000034, "xmax": -7295297.2007999998, "spatialReference": { "latestWkid": 3857, "wkid": 102100 } }, "bandCount": 1, "rasterFunctionInfos": [ { "help": "", "name": "None", "description": "Make a Raster or Raster Dataset into a Function Raster Dataset." }, { "help": "", "name": "Actual", "description": "A raster function template." }, { "help": "", "name": "CCSM4_RCP45", "description": "A raster function template." }, { "help": "", "name": "CCSM4_RCP85", "description": "A raster function template." }, { "help": "", "name": "Current", "description": "A raster function template." }, { "help": "", "name": "GCM_ensemble_RCP45", "description": "A raster function template." }, { "help": "", "name": "GCM_ensemble_RCP85", "description": "A raster function template." }, { "help": "", "name": "GFDL_CM3_RCP45", "description": "A raster function template." }, { "help": "", "name": "GFDL_CM3_RCP85", "description": "A raster function template." }, { "help": "", "name": "HadGEM2_ES_RCP45", "description": "A raster function template." }, { "help": "", "name": "HadGEM2_ES_RCP85", "description": "A raster function template." } ], "supportsStatistics": true, "sortableFields": "minps,maxps,lowps,highps,centerx,centery,zorder,st_area(shape),st_perimeter(shape),tree_species_code", "minValues": [0], "allowRasterFunction": true, "allowComputeTiePoints": false, "serviceDataType": "esriImageServiceDataTypeThematic", "supportsAdvancedQueries": true, "maxDownloadSizeLimit": 2048, "currentVersion": 12, "objectIdField": "objectid", "blockHeight": 256, "initialExtent": { "ymin": 2674863.1274000034, "xmin": -11815297.2008, "ymax": 6514863.1274000034, "xmax": -7295297.2007999998, "spatialReference": { "latestWkid": 3857, "wkid": 102100 } }, "pixelSizeX": 10000, "pixelSizeY": 10000, "defaultMosaicMethod": "None", "name": "Ecosystems/TreeHabitatSuitability_USFS_ForestEcosystemAtlas", "allowedMosaicMethods": "None,NorthWest,Center,LockRaster,ByAttribute,Nadir,Viewpoint,Seamline", "maxDownloadImageCount": 20, "fields": [ { "domain": null, "name": "objectid", "alias": "objectid", "type": "esriFieldTypeOID" }, { "domain": null, "name": "name", "length": 200, "alias": "name", "type": "esriFieldTypeString" }, { "domain": null, "name": "minps", "alias": "minps", "type": "esriFieldTypeDouble" }, { "domain": null, "name": "maxps", "alias": "maxps", "type": "esriFieldTypeDouble" }, { "domain": null, "name": "lowps", "alias": "lowps", "type": "esriFieldTypeDouble" }, { "domain": null, "name": "highps", "alias": "highps", "type": "esriFieldTypeDouble" }, { "domain": { "splitPolicy": "esriSPTDefaultValue", "name": "MosaicCatalogItemCategoryDomain", "description": "Catalog item categories.", "type": "codedValue", "codedValues": [ { "code": 0, "name": "Unknown" }, { "code": 1, "name": "Primary" }, { "code": 2, "name": "Overview" }, { "code": 3, "name": "Unprocessed Overview" }, { "code": 4, "name": "Partial Overview" }, { "code": 5, "name": "Inactive" }, { "code": 253, "name": "Uploaded" }, { "code": 254, "name": "Incomplete" }, { "code": 255, "name": "Custom" } ], "mergePolicy": "esriMPTDefaultValue" }, "name": "category", "alias": "category", "type": "esriFieldTypeInteger" }, { "domain": null, "name": "tag", "length": 100, "alias": "tag", "type": "esriFieldTypeString" }, { "domain": null, "name": "groupname", "length": 100, "alias": "groupname", "type": "esriFieldTypeString" }, { "domain": null, "name": "productname", "length": 100, "alias": "productname", "type": "esriFieldTypeString" }, { "domain": null, "name": "centerx", "alias": "centerx", "type": "esriFieldTypeDouble" }, { "domain": null, "name": "centery", "alias": "centery", "type": "esriFieldTypeDouble" }, { "domain": null, "name": "zorder", "alias": "zorder", "type": "esriFieldTypeInteger" }, { "domain": null, "name": "shape", "alias": "shape", "type": "esriFieldTypeGeometry" } ], "defaultVariable": "", "allowAnalysis": true, "hasRasterAttributeTable": false, "useStandardizedQueries": true, "description": "
Modeled habitat suitability for 125 tree species in the eastern United States under current (1981-2010) climate conditions and projected future conditions (2070-2099) created using a statistical modeling approach that correlates mean importance values to 45 environmental data layers. This data set includes 148 tree species represented by a hybrid lattice of 10 and 20 km grids that provides information on relative abundance (i.e., importance values), derived from tree basal area and number of stems, for the species according to USDA Forest Service Forest Inventory and Analysis data (2001-2016), and modeled for 125 species under current conditions and for eight future scenarios.<\/span><\/p><\/div><\/div><\/div>",
"pixelType": "U8",
"meanPixelSize": 10000,
"exportTilesAllowed": false,
"editFieldsInfo": null,
"rasterTypeInfos": [{
"help": "",
"name": "Raster Dataset",
"description": "Supports all ArcGIS Raster Datasets"
}],
"defaultResamplingMethod": "Nearest",
"itemAccess": false,
"minScale": 0,
"serviceProperties": " Modeled habitat suitability for 125 tree species in the eastern United States under current (1981-2010) climate conditions and projected future conditions (2070-2099) created using a statistical modeling approach that correlates mean importance values to 45 environmental data layers. This data set includes 148 tree species represented by a hybrid lattice of 10 and 20 km grids that provides information on relative abundance (i.e., importance values), derived from tree basal area and number of stems, for the species according to USDA Forest Service Forest Inventory and Analysis data (2001-2016), and modeled for 125 species under current conditions and for eight future scenarios.<\/SPAN><\/P><\/DIV><\/DIV><\/DIV>",
"allowCopy": true,
"copyrightText": "Details on the models were published in:\n\n Peters et al. (2019) and Iverson et al. (2019).\nIverson, Louis R.; Peters, Matthew P.; Prasad, Anantha M.; Matthews, Stephen N. 2019. Analysis of Climate Change Impacts on Tree Species of the Eastern US: Results of DISTRIB-II Modeling. Forests. 10(4): 302. https://doi.org/10.3390/f10040302.\n\nPeters, Matthew P.; Iverson, Louis R.; Prasad, Anantha M.; Matthews, Stephen N. 2019. Utilizing the density of inventory samples to define a hybrid lattice for species distribution models: DISTRIB II for 135 eastern U.S. trees. Ecology and Evolution . 9(15): 8876-8899. https://doi.org/10.1002/ece3.5445.",
"mensurationCapabilities": "Basic",
"ownershipBasedAccessControlForRasters": null
}