View In:
ArcGIS JavaScript
ArcGIS Online Map Viewer
ArcGIS Earth
Service Description: Administrative_Boundaries/USFS_EDW_AvgAnnualPrecipPctChange_CONUS
Name: Administrative_Boundaries/USFS_EDW_AvgAnnualPrecipPctChange_CONUS
Description:
Single Fused Map Cache: false
Extent:
XMin: -1.38918928499E7
YMin: 2881072.294659661
XMax: -7463192.256589005
YMax: 6345891.445600003
Spatial Reference: 102100
(3857)
LatestVCSWkid(0)
Initial Extent:
XMin: -1.38918928499E7
YMin: 2881072.294659661
XMax: -7463192.256589005
YMax: 6345891.445600003
Spatial Reference: 102100
(3857)
LatestVCSWkid(0)
Full Extent:
XMin: -1.38918928499E7
YMin: 2881072.294659661
XMax: -7463192.256589005
YMax: 6345891.445600003
Spatial Reference: 102100
(3857)
LatestVCSWkid(0)
Pixel Size X: 4638.312116386
Pixel Size Y: 4638.312116386
Band Count: 1
Pixel Type: F32
RasterFunction Infos: {"rasterFunctionInfos": [
{
"help": "",
"name": "AvgAnnPrecPctChangeCO",
"description": "A raster function template."
},
{
"help": "",
"name": "None",
"description": "Make a Raster or Raster Dataset into a Function Raster Dataset."
}
]}
Mensuration Capabilities: Basic
Inspection Capabilities:
Has Histograms: true
Has Colormap: false
Has Multi Dimensions : false
Rendering Rule:
Min Scale: 0
Max Scale: 0
Copyright Text:
Service Data Type: esriImageServiceDataTypeGeneric
Min Values: -11.236313380300995
Max Values: 27.841621913015846
Mean Values: 5.6573455411051423
Standard Deviation Values: 5.8538238735648997
Object ID Field: objectid
Fields:
-
objectid
(
alias: objectid
, type: esriFieldTypeOID
, htmlEncoded: true
)
-
name
(
length: 200
, alias: name
, type: esriFieldTypeString
, htmlEncoded: true
)
-
minps
(
alias: minps
, type: esriFieldTypeDouble
, htmlEncoded: true
)
-
maxps
(
alias: maxps
, type: esriFieldTypeDouble
, htmlEncoded: true
)
-
lowps
(
alias: lowps
, type: esriFieldTypeDouble
, htmlEncoded: true
)
-
highps
(
alias: highps
, type: esriFieldTypeDouble
, htmlEncoded: true
)
-
category
(
alias: category
, type: esriFieldTypeInteger
, htmlEncoded: true
, Coded Values:
[0: Unknown]
, [1: Primary]
, [2: Overview]
, ...6 more...
)
-
tag
(
length: 100
, alias: tag
, type: esriFieldTypeString
, htmlEncoded: true
)
-
groupname
(
length: 100
, alias: groupname
, type: esriFieldTypeString
, htmlEncoded: true
)
-
productname
(
length: 100
, alias: productname
, type: esriFieldTypeString
, htmlEncoded: true
)
-
centerx
(
alias: centerx
, type: esriFieldTypeDouble
, htmlEncoded: true
)
-
centery
(
alias: centery
, type: esriFieldTypeDouble
, htmlEncoded: true
)
-
zorder
(
alias: zorder
, type: esriFieldTypeInteger
, htmlEncoded: true
)
-
shape
(
alias: shape
, type: esriFieldTypeGeometry
, htmlEncoded: true
)
-
st_area(shape)
(
alias: st_area(shape)
, type: esriFieldTypeDouble
, htmlEncoded: true
)
-
st_perimeter(shape)
(
alias: st_perimeter(shape)
, type: esriFieldTypeDouble
, htmlEncoded: true
)
Default Mosaic Method: Northwest
Allowed Mosaic Methods: NorthWest,Center,LockRaster,ByAttribute,Nadir,Viewpoint,Seamline,None
SortField:
SortValue: N/A
Mosaic Operator: First
Default Compression Quality: 75
Default Resampling Method: Nearest
Max Record Count: 1000
Max Image Height: 100000
Max Image Width: 100000
Max Download Image Count: 20
Max Mosaic Image Count: 20
Allow Raster Function: true
Allow Copy: true
Allow Analysis: true
Allow Compute TiePoints: false
Supports Statistics: true
Supports Advanced Queries: true
Use StandardizedQueries: true
Raster Type Infos:
Name: Raster Dataset
Description: Supports all ArcGIS Raster Datasets
Help:
Has Raster Attribute Table: false
Edit Fields Info: N/A
Ownership Based AccessControl For Rasters: N/A
Child Resources:
Info
Histograms
Statistics
Key Properties
Legend
Raster Function Infos
Supported Operations:
Export Image
Query
Identify
Measure
Compute Histograms
Compute Statistics Histograms
Get Samples
Compute Class Statistics
Query GPS Info
Find Images
Image to Map
Map to Image
Measure from Image
Image to Map Multiray
Query Boundary
Compute Pixel Location
Compute Angles
Validate
Project