{
 "extent": {
  "ymin": 2881072.2946596611,
  "xmin": -13891892.8499,
  "ymax": 6345891.445600003,
  "xmax": -7463192.2565890048,
  "spatialReference": {
   "latestWkid": 3857,
   "wkid": 102100
  }
 },
 "blockWidth": 2048,
 "mosaicOperator": "First",
 "serviceSourceType": "esriImageServiceSourceTypeMosaicDataset",
 "hasMultidimensions": false,
 "maxImageWidth": 100000,
 "maxRecordCount": 1000,
 "meanValues": [
  5.6573455411051423
 ],
 "hasColormap": false,
 "compressionType": "None",
 "defaultCompressionQuality": 75,
 "maxValues": [
  27.841621913015846
 ],
 "hasHistograms": true,
 "datasetFormat": "AMD",
 "maxImageHeight": 100000,
 "sortField": "",
 "bandNames": [
  "Band_1"
 ],
 "spatialReference": {
  "latestWkid": 3857,
  "wkid": 102100
 },
 "fullExtent": {
  "ymin": 2881072.2946596611,
  "xmin": -13891892.8499,
  "ymax": 6345891.445600003,
  "xmax": -7463192.2565890048,
  "spatialReference": {
   "latestWkid": 3857,
   "wkid": 102100,
   "htmlEncoded": true
  },
  "htmlEncoded": true
 },
 "bandCount": 1,
 "rasterFunctionInfos": [
  {
   "help": "",
   "name": "AvgAnnPrecPctChangeCO",
   "description": "A raster function template."
  },
  {
   "help": "",
   "name": "None",
   "description": "Make a Raster or Raster Dataset into a Function Raster Dataset."
  }
 ],
 "supportsStatistics": true,
 "sortableFields": "minps,maxps,lowps,highps,centerx,centery,zorder,st_area(shape),st_perimeter(shape)",
 "minValues": [
  -11.236313380300995
 ],
 "allowRasterFunction": true,
 "allowComputeTiePoints": false,
 "serviceDataType": "esriImageServiceDataTypeGeneric",
 "supportsAdvancedQueries": true,
 "maxDownloadSizeLimit": 2048,
 "currentVersion": 11.4,
 "sortValue": null,
 "objectIdField": "objectid",
 "blockHeight": 256,
 "initialExtent": {
  "ymin": 2881072.2946596611,
  "xmin": -13891892.8499,
  "ymax": 6345891.445600003,
  "xmax": -7463192.2565890048,
  "spatialReference": {
   "latestWkid": 3857,
   "wkid": 102100,
   "htmlEncoded": true
  },
  "htmlEncoded": true
 },
 "pixelSizeX": 4638.3121163859996,
 "pixelSizeY": 4638.3121163859996,
 "defaultMosaicMethod": "Northwest",
 "name": "Administrative_Boundaries/USFS_EDW_AvgAnnualPrecipPctChange_CONUS",
 "allowedMosaicMethods": "NorthWest,Center,LockRaster,ByAttribute,Nadir,Viewpoint,Seamline,None",
 "maxDownloadImageCount": 20,
 "fields": [
  {
   "domain": null,
   "name": "objectid",
   "alias": "objectid",
   "type": "esriFieldTypeOID",
   "htmlEncoded": true
  },
  {
   "domain": null,
   "name": "name",
   "length": 200,
   "alias": "name",
   "type": "esriFieldTypeString",
   "htmlEncoded": true
  },
  {
   "domain": null,
   "name": "minps",
   "alias": "minps",
   "type": "esriFieldTypeDouble",
   "htmlEncoded": true
  },
  {
   "domain": null,
   "name": "maxps",
   "alias": "maxps",
   "type": "esriFieldTypeDouble",
   "htmlEncoded": true
  },
  {
   "domain": null,
   "name": "lowps",
   "alias": "lowps",
   "type": "esriFieldTypeDouble",
   "htmlEncoded": true
  },
  {
   "domain": null,
   "name": "highps",
   "alias": "highps",
   "type": "esriFieldTypeDouble",
   "htmlEncoded": true
  },
  {
   "domain": {
    "splitPolicy": "esriSPTDefaultValue",
    "name": "MosaicCatalogItemCategoryDomain",
    "description": "Catalog item categories.",
    "type": "codedValue",
    "codedValues": [
     {
      "code": 0,
      "name": "Unknown",
      "htmlEncoded": true
     },
     {
      "code": 1,
      "name": "Primary",
      "htmlEncoded": true
     },
     {
      "code": 2,
      "name": "Overview",
      "htmlEncoded": true
     },
     {
      "code": 3,
      "name": "Unprocessed Overview",
      "htmlEncoded": true
     },
     {
      "code": 4,
      "name": "Partial Overview",
      "htmlEncoded": true
     },
     {
      "code": 5,
      "name": "Inactive",
      "htmlEncoded": true
     },
     {
      "code": 253,
      "name": "Uploaded",
      "htmlEncoded": true
     },
     {
      "code": 254,
      "name": "Incomplete",
      "htmlEncoded": true
     },
     {
      "code": 255,
      "name": "Custom",
      "htmlEncoded": true
     }
    ],
    "mergePolicy": "esriMPTDefaultValue",
    "htmlEncoded": true
   },
   "name": "category",
   "alias": "category",
   "type": "esriFieldTypeInteger",
   "htmlEncoded": true
  },
  {
   "domain": null,
   "name": "tag",
   "length": 100,
   "alias": "tag",
   "type": "esriFieldTypeString",
   "htmlEncoded": true
  },
  {
   "domain": null,
   "name": "groupname",
   "length": 100,
   "alias": "groupname",
   "type": "esriFieldTypeString",
   "htmlEncoded": true
  },
  {
   "domain": null,
   "name": "productname",
   "length": 100,
   "alias": "productname",
   "type": "esriFieldTypeString",
   "htmlEncoded": true
  },
  {
   "domain": null,
   "name": "centerx",
   "alias": "centerx",
   "type": "esriFieldTypeDouble",
   "htmlEncoded": true
  },
  {
   "domain": null,
   "name": "centery",
   "alias": "centery",
   "type": "esriFieldTypeDouble",
   "htmlEncoded": true
  },
  {
   "domain": null,
   "name": "zorder",
   "alias": "zorder",
   "type": "esriFieldTypeInteger",
   "htmlEncoded": true
  },
  {
   "domain": null,
   "name": "shape",
   "alias": "shape",
   "type": "esriFieldTypeGeometry",
   "htmlEncoded": true
  },
  {
   "domain": null,
   "name": "st_area(shape)",
   "alias": "st_area(shape)",
   "type": "esriFieldTypeDouble",
   "htmlEncoded": true
  },
  {
   "domain": null,
   "name": "st_perimeter(shape)",
   "alias": "st_perimeter(shape)",
   "type": "esriFieldTypeDouble",
   "htmlEncoded": true
  }
 ],
 "allowAnalysis": true,
 "hasRasterAttributeTable": false,
 "useStandardizedQueries": true,
 "description": "",
 "pixelType": "F32",
 "meanPixelSize": 4638.3121163859996,
 "exportTilesAllowed": false,
 "editFieldsInfo": null,
 "rasterTypeInfos": [
  {
   "help": "",
   "name": "Raster Dataset",
   "description": "Supports all ArcGIS Raster Datasets"
  }
 ],
 "defaultResamplingMethod": "Nearest",
 "itemAccess": false,
 "minScale": 0,
 "advancedQueryCapabilities": {
  "supportsStatistics": true,
  "supportsOrderBy": true,
  "useStandardizedQueries": true,
  "supportsPagination": true,
  "supportsDistinct": true
 },
 "capabilities": "Image,Metadata,Catalog,Mensuration",
 "maxScale": 0,
 "stdvValues": [
  5.8538238735648997
 ],
 "minPixelSize": 0,
 "sortAscending": true,
 "maxMosaicImageCount": 20,
 "inspectionCapabilities": "",
 "maxPixelSize": 0,
 "uncompressedSize": 4141368,
 "serviceDescription": "Administrative_Boundaries/USFS_EDW_AvgAnnualPrecipPctChange_CONUS",
 "allowCopy": true,
 "copyrightText": "",
 "mensurationCapabilities": "Basic",
 "ownershipBasedAccessControlForRasters": null
}
