The SnowResidenceTime_PctChange contains modeled percent changes in snow residence time (SRT) calculated using a spatial analog model. The model ingests mean winter average temperature and precipitation. For more information about the model, please see Luce et al., [2014] and Lute and Luce [2017]. Absolute changes in snow residence time are in units of days. The temperature and precipitation data are ensemble mean values across 20 global climate models from the CMIP5 experiment [Taylor et al., 2012], downscaled to a 4km grid. For more information on the downscaling method and to access the raw data used to create this dataset, please see Abatzoglou and Brown, [2012] and the Northwest Climate Science Center. We used the MACAv2-metdata monthly precipitation and minimum and maximum temperature datasets for the period 1975-2005 (historical) and 2071-2090 (RCP8.5, future). Average temperature was calculated as the arithmetic mean of minimum and maximum temperature datasets. Average temperature was averaged over the winter months (November through March) and precipitation was summed over the winter months. More information on the project associated with this dataset is available from the U.S. Forest Service Rocky Mountain Research Station.
Name: Weather_Climate/USFS_EDW_SnowResidenceTime_PctChange
Description:
Single Fused Map Cache: false
Extent:
XMin: -1.50184871125E7
YMin: 2401774.5449264226
XMax: -6334157.187062765
YMax: 6867468.623599999
Spatial Reference: 102100
(3857)
LatestVCSWkid(0)
Initial Extent:
XMin: -1.50184871125E7
YMin: 2401774.5449264226
XMax: -6334157.187062765
YMax: 6867468.623599999
Spatial Reference: 102100
(3857)
LatestVCSWkid(0)
Full Extent:
XMin: -1.50184871125E7
YMin: 2401774.5449264226
XMax: -6334157.187062765
YMax: 6867468.623599999
Spatial Reference: 102100
(3857)
LatestVCSWkid(0)
Pixel Size X: 4661.476073772
Pixel Size Y: 4661.476073772
Band Count: 1
Pixel Type: F64
RasterFunction Infos: {"rasterFunctionInfos": [
{
"help": "",
"name": "SRT_PctCh",
"description": "A raster function template."
},
{
"help": "",
"name": "None",
"description": "Make a Raster or Raster Dataset into a Function Raster Dataset."
}
]}
Mensuration Capabilities: Basic
Inspection Capabilities:
Has Histograms: true
Has Colormap: false
Has Multi Dimensions : false
Rendering Rule:
Min Scale: 0
Max Scale: 0
Copyright Text: U.S. Forest Service Rocky Mountain Research Station.
Service Data Type: esriImageServiceDataTypeThematic
Min Values: -100.00000000000003
Max Values: -6.0063000370136592
Mean Values: -73.026374458623806
Standard Deviation Values: 25.249350982008426
Object ID Field: objectid
Fields:
-
objectid
(
alias: objectid
, type: esriFieldTypeOID
)
-
name
(
length: 200
, alias: name
, type: esriFieldTypeString
)
-
minps
(
alias: minps
, type: esriFieldTypeDouble
)
-
maxps
(
alias: maxps
, type: esriFieldTypeDouble
)
-
lowps
(
alias: lowps
, type: esriFieldTypeDouble
)
-
highps
(
alias: highps
, type: esriFieldTypeDouble
)
-
category
(
alias: category
, type: esriFieldTypeInteger
, Coded Values:
[0: Unknown]
, [1: Primary]
, [2: Overview]
, ...6 more...
)
-
tag
(
length: 100
, alias: tag
, type: esriFieldTypeString
)
-
groupname
(
length: 100
, alias: groupname
, type: esriFieldTypeString
)
-
productname
(
length: 100
, alias: productname
, type: esriFieldTypeString
)
-
centerx
(
alias: centerx
, type: esriFieldTypeDouble
)
-
centery
(
alias: centery
, type: esriFieldTypeDouble
)
-
zorder
(
alias: zorder
, type: esriFieldTypeInteger
)
-
shape
(
alias: shape
, type: esriFieldTypeGeometry
)
Default Mosaic Method: Northwest
Allowed Mosaic Methods: NorthWest,Center,LockRaster,ByAttribute,Nadir,Viewpoint,Seamline,None
SortField:
SortValue: N/A
Mosaic Operator: Max
Default Compression Quality: 75
Default Resampling Method: Nearest
Max Record Count: 1000
Max Image Height: 100000
Max Image Width: 100000
Max Download Image Count: 20
Max Mosaic Image Count: 100
Allow Raster Function: true
Allow Copy: true
Allow Analysis: true
Allow Compute TiePoints: false
Supports Statistics: true
Supports Advanced Queries: true
Use StandardizedQueries: true
Raster Type Infos:
Name: Raster Dataset
Description: Supports all ArcGIS Raster Datasets
Help:
Has Raster Attribute Table: false
Edit Fields Info: N/A
Ownership Based AccessControl For Rasters: N/A
Child Resources:
Info
Histograms
Statistics
Key Properties
Legend
Raster Function Infos
Supported Operations:
Export Image
Query
Identify
Measure
Compute Histograms
Compute Statistics Histograms
Get Samples
Compute Class Statistics
Query GPS Info
Find Images
Image to Map
Map to Image
Measure from Image
Image to Map Multiray
Query Boundary
Compute Pixel Location
Compute Angles
Validate
Project