View In:
ArcGIS JavaScript
ArcGIS Enterprise Map Viewer
ArcGIS Earth
Service Description: Forests to Faucets 2.0. Important Areas for Surface Water By Watershed (percentiles). Forests to Faucets 2.0 builds upon the national Forests to Faucets (2011) by updating its base data and adding new and forecasted threats (e.g., climate change). The purpose of this project is to quantify, rank, and illustrate the geographic connection between forests and other natural cover (private and public), surface drinking water supplies, and the populations that depend on them–the ecosystem service of water supply. The Forests to Faucets 2.0 project also evaluates a watersheds’ natural ability to produce clean water and quantifies the threats to watersheds from land use change, wildfire, invasive pests, and future stresses such as climate change induced changes in hydrologic systems. Using data from a variety of existing sources and maps generated through GIS analyses, the project uses maps and statistics to describe the relative importance of private forests and National Forest System lands to surface drinking water supplies across the United States. The data produced by this assessment provides information needed to identify opportunities for water market approaches or schemes based upon payments for environmental services (PES). Methods and further information are available here - https://storymaps.arcgis.com/collections/4e450a6c7ed24f0cbae4abc1c07843b7?item=4.
Name: Weather_Climate/USFS_CRV_Water_ImportantAreasForSurfaceWaterByWatershed
Description:
Single Fused Map Cache: false
Extent:
XMin: -1.39040497928E7
YMin: 2801655.6347000003
XMax: -7444049.7928
YMax: 6410655.6347
Spatial Reference: 102100
(3857)
LatestVCSWkid(0)
Initial Extent:
XMin: -1.39040497928E7
YMin: 2801655.6347000003
XMax: -7444049.7928
YMax: 6410655.6347
Spatial Reference: 102100
(3857)
LatestVCSWkid(0)
Full Extent:
XMin: -1.39040497928E7
YMin: 2801655.6347000003
XMax: -7444049.7928
YMax: 6410655.6347
Spatial Reference: 102100
(3857)
LatestVCSWkid(0)
Pixel Size X: 1000.0
Pixel Size Y: 1000.0
Band Count: 1
Pixel Type: U8
RasterFunction Infos: {"rasterFunctionInfos": [
{
"help": "",
"name": "USFS_EDW_CRV_Water_ImportantAreasForSurfaceWaterByWater",
"description": "USFS_EDW_CRV_Water_ImportantAreasForSurfaceWaterByWater"
},
{
"help": "",
"name": "None",
"description": "Make a Raster or Raster Dataset into a Function Raster Dataset."
}
]}
Mensuration Capabilities: Basic
Inspection Capabilities:
Has Histograms: true
Has Colormap: false
Has Multi Dimensions : false
Rendering Rule:
Min Scale: 0
Max Scale: 0
Copyright Text: USDA Forest Service: Forests To Faucets (F2F);
Service Data Type: esriImageServiceDataTypeGeneric
Min Values: 0
Max Values: 100
Mean Values: 39.272751848237426
Standard Deviation Values: 32.021446432849956
Object ID Field: objectid
Fields:
-
objectid
(
alias: objectid
, type: esriFieldTypeOID
)
-
name
(
length: 200
, alias: name
, type: esriFieldTypeString
)
-
minps
(
alias: minps
, type: esriFieldTypeDouble
)
-
maxps
(
alias: maxps
, type: esriFieldTypeDouble
)
-
lowps
(
alias: lowps
, type: esriFieldTypeDouble
)
-
highps
(
alias: highps
, type: esriFieldTypeDouble
)
-
category
(
alias: category
, type: esriFieldTypeInteger
, Coded Values:
[0: Unknown]
, [1: Primary]
, [2: Overview]
, ...6 more...
)
-
tag
(
length: 100
, alias: tag
, type: esriFieldTypeString
)
-
groupname
(
length: 100
, alias: groupname
, type: esriFieldTypeString
)
-
productname
(
length: 100
, alias: productname
, type: esriFieldTypeString
)
-
centerx
(
alias: centerx
, type: esriFieldTypeDouble
)
-
centery
(
alias: centery
, type: esriFieldTypeDouble
)
-
zorder
(
alias: zorder
, type: esriFieldTypeInteger
)
-
shape
(
alias: shape
, type: esriFieldTypeGeometry
)
Default Mosaic Method: Northwest
Allowed Mosaic Methods: NorthWest,Center,LockRaster,ByAttribute,Nadir,Viewpoint,Seamline,None
SortField:
SortValue: N/A
Mosaic Operator: First
Default Compression Quality: 75
Default Resampling Method: Nearest
Max Record Count: 1000
Max Image Height: 100000
Max Image Width: 100000
Max Download Image Count: 20
Max Mosaic Image Count: 20
Allow Raster Function: true
Allow Copy: true
Allow Analysis: true
Allow Compute TiePoints: false
Supports Statistics: true
Supports Advanced Queries: true
Use StandardizedQueries: true
Raster Type Infos:
Name: Raster Dataset
Description: Supports all ArcGIS Raster Datasets
Help:
Has Raster Attribute Table: false
Edit Fields Info: N/A
Ownership Based AccessControl For Rasters: N/A
Child Resources:
Info
Histograms
Statistics
Key Properties
Legend
Raster Function Infos
Supported Operations:
Export Image
Query
Identify
Measure
Compute Histograms
Compute Statistics Histograms
Get Samples
Compute Class Statistics
Query GPS Info
Find Images
Image to Map
Map to Image
Measure from Image
Image to Map Multiray
Query Boundary
Compute Pixel Location
Compute Angles
Validate
Project