View In:
ArcGIS JavaScript
ArcGIS Enterprise Map Viewer
ArcGIS Earth
Service Description: Snow residence time (the average length of time that snow will remain on the ground, in days, for the contiguous United States) was modeled using the spatial analog models of Luce et al., [2014] (see also Lute and Luce, in review). These models are built on precipitation and snow data from Snowpack Telemetry (SNOTEL) stations across the western United States and temperature data from the TopoWx dataset [Oyler et al., 2014]. To simulate historical and future gridded snow, the models ingest gridded winter cumulative precipitation and winter average temperature (from the MACAv2-Metdata dataset described above). While the snow models have been rigorously validated [Lute and Luce, in review], their application to gridded climate model data has not been evaluated. Note that this models of Snow Water Equivalent (the amount of water contained in the snowpack on April 1, in millimeters, for the contiguous United States) is available from the data provider.
Spatial Extent: CONUS and Alaska* (*comparable SWE data, also available in the EDW, is available for Alaska)
Units: Percent change in Snow Residence Time, current vs. future
Name: Weather_Climate/USFS_CRV_Climate_SnowResidenceTimePercentChange
Description:
Single Fused Map Cache: false
Extent:
XMin: -1.5018487112399999E7
YMin: 2401774.5449206745
XMax: -6334157.186951585
YMax: 6867468.623599999
Spatial Reference: 102100
(3857)
LatestVCSWkid(0)
Initial Extent:
XMin: -1.5018487112399999E7
YMin: 2401774.5449206745
XMax: -6334157.186951585
YMax: 6867468.623599999
Spatial Reference: 102100
(3857)
LatestVCSWkid(0)
Full Extent:
XMin: -1.5018487112399999E7
YMin: 2401774.5449206745
XMax: -6334157.186951585
YMax: 6867468.623599999
Spatial Reference: 102100
(3857)
LatestVCSWkid(0)
Pixel Size X: 4661.476073778
Pixel Size Y: 4661.476073778
Band Count: 1
Pixel Type: S8
RasterFunction Infos: {"rasterFunctionInfos": [
{
"help": "",
"name": "Climate_SnowResidenceTimePercentChange",
"description": "Climate Snow Residence Time Percent Change RFT"
},
{
"help": "",
"name": "None",
"description": "Make a Raster or Raster Dataset into a Function Raster Dataset."
}
]}
Mensuration Capabilities: Basic
Inspection Capabilities:
Has Histograms: true
Has Colormap: false
Has Multi Dimensions : false
Rendering Rule:
Min Scale: 0
Max Scale: 0
Copyright Text: USDA Forest Service: Enterprise Data Warehouse (EDW): National Forest Climate Change Maps
Service Data Type: esriImageServiceDataTypeGeneric
Min Values: -100
Max Values: -8
Mean Values: -64.499631207224283
Standard Deviation Values: 21.432439704340133
Object ID Field: objectid
Fields:
-
objectid
(
alias: objectid
, type: esriFieldTypeOID
)
-
name
(
length: 200
, alias: name
, type: esriFieldTypeString
)
-
minps
(
alias: minps
, type: esriFieldTypeDouble
)
-
maxps
(
alias: maxps
, type: esriFieldTypeDouble
)
-
lowps
(
alias: lowps
, type: esriFieldTypeDouble
)
-
highps
(
alias: highps
, type: esriFieldTypeDouble
)
-
category
(
alias: category
, type: esriFieldTypeInteger
, Coded Values:
[0: Unknown]
, [1: Primary]
, [2: Overview]
, ...6 more...
)
-
tag
(
length: 100
, alias: tag
, type: esriFieldTypeString
)
-
groupname
(
length: 100
, alias: groupname
, type: esriFieldTypeString
)
-
productname
(
length: 100
, alias: productname
, type: esriFieldTypeString
)
-
centerx
(
alias: centerx
, type: esriFieldTypeDouble
)
-
centery
(
alias: centery
, type: esriFieldTypeDouble
)
-
zorder
(
alias: zorder
, type: esriFieldTypeInteger
)
-
shape
(
alias: shape
, type: esriFieldTypeGeometry
)
Default Mosaic Method: Northwest
Allowed Mosaic Methods: NorthWest,Center,LockRaster,ByAttribute,Nadir,Viewpoint,Seamline,None
SortField:
SortValue: N/A
Mosaic Operator: First
Default Compression Quality: 75
Default Resampling Method: Nearest
Max Record Count: 1000
Max Image Height: 100000
Max Image Width: 100000
Max Download Image Count: 20
Max Mosaic Image Count: 20
Allow Raster Function: true
Allow Copy: true
Allow Analysis: true
Allow Compute TiePoints: false
Supports Statistics: true
Supports Advanced Queries: true
Use StandardizedQueries: true
Raster Type Infos:
Name: Raster Dataset
Description: Supports all ArcGIS Raster Datasets
Help:
Has Raster Attribute Table: false
Edit Fields Info: N/A
Ownership Based AccessControl For Rasters: N/A
Child Resources:
Info
Histograms
Statistics
Key Properties
Legend
Raster Function Infos
Supported Operations:
Export Image
Query
Identify
Measure
Compute Histograms
Compute Statistics Histograms
Get Samples
Compute Class Statistics
Query GPS Info
Find Images
Image to Map
Map to Image
Measure from Image
Image to Map Multiray
Query Boundary
Compute Pixel Location
Compute Angles
Validate
Project