View In:
ArcGIS JavaScript
ArcGIS Enterprise Map Viewer
ArcGIS Earth
Service Description: This layer contains a footprint that represents the intersection of the "Wildfire Footprint (> 100 acres) (2000-2022)" data layer and the "Bark Beetle Footprint (2000-2022)" data layer.Wildfires (2000–2022). This dataset illustrates how increasing atmospheric dryness increases vegetation's flammability and susceptibility of trees to mortality by bark beetles. The dataset covers the years 2000–2022. It was derived from this data source: cumulative wildfire and wildland fire use perimeters greater than 1,000 acres in the western US and 500 acres in the eastern US ( MTBS - https://mtbs.gov/project-overview).Areas With Bark Beetle Mortality (2000–2022). This dataset illustrates how chronic precipitation deficits increase vegetation's flammability and susceptibility of trees to mortality by bark beetles. The dataset covers the years 2000–2022. It was derived from this data source: cumulative areas with bark beetle mortality mapped by Forest Health Protection and Partners (https://www.fs.usda.gov/science-technology/data-tools-products/fhp-mapping-reporting/detection-surveys).
Spatial Extent: CONUS
Units: Areas with wildfire & Areas with bark beetle mortality
Name: Weather_Climate/USFS_CRV_Climate_ForestDisturbance20002022
Description:
Single Fused Map Cache: false
Extent:
XMin: -1.8481384843E7
YMin: 1035320.3677000031
XMax: -7294384.8429999985
YMax: 6714520.367700003
Spatial Reference: 102100
(3857)
LatestVCSWkid(0)
Initial Extent:
XMin: -1.8481384843E7
YMin: 1035320.3677000031
XMax: -7294384.8429999985
YMax: 6714520.367700003
Spatial Reference: 102100
(3857)
LatestVCSWkid(0)
Full Extent:
XMin: -1.8481384843E7
YMin: 1035320.3677000031
XMax: -7294384.8429999985
YMax: 6714520.367700003
Spatial Reference: 102100
(3857)
LatestVCSWkid(0)
Pixel Size X: 100.0
Pixel Size Y: 100.0
Band Count: 1
Pixel Type: U4
RasterFunction Infos: {"rasterFunctionInfos": [
{
"help": "",
"name": "CRV_Climate_ForestDisturbance20002022",
"description": "CRV_Climate_ForestDisturbance20002022"
},
{
"help": "",
"name": "None",
"description": "Make a Raster or Raster Dataset into a Function Raster Dataset."
}
]}
Mensuration Capabilities: Basic
Inspection Capabilities:
Has Histograms: true
Has Colormap: false
Has Multi Dimensions : false
Rendering Rule:
Min Scale: 0
Max Scale: 0
Copyright Text: USDA - GEO; USDA - USFS – GTAC
Service Data Type: esriImageServiceDataTypeGeneric
Min Values: 0
Max Values: 3
Mean Values: 2.3204987683819867
Standard Deviation Values: 0.67108471624066124
Object ID Field: objectid
Fields:
-
objectid
(
alias: objectid
, type: esriFieldTypeOID
)
-
name
(
length: 200
, alias: name
, type: esriFieldTypeString
)
-
minps
(
alias: minps
, type: esriFieldTypeDouble
)
-
maxps
(
alias: maxps
, type: esriFieldTypeDouble
)
-
lowps
(
alias: lowps
, type: esriFieldTypeDouble
)
-
highps
(
alias: highps
, type: esriFieldTypeDouble
)
-
category
(
alias: category
, type: esriFieldTypeInteger
, Coded Values:
[0: Unknown]
, [1: Primary]
, [2: Overview]
, ...6 more...
)
-
tag
(
length: 100
, alias: tag
, type: esriFieldTypeString
)
-
groupname
(
length: 100
, alias: groupname
, type: esriFieldTypeString
)
-
productname
(
length: 100
, alias: productname
, type: esriFieldTypeString
)
-
centerx
(
alias: centerx
, type: esriFieldTypeDouble
)
-
centery
(
alias: centery
, type: esriFieldTypeDouble
)
-
zorder
(
alias: zorder
, type: esriFieldTypeInteger
)
-
shape
(
alias: shape
, type: esriFieldTypeGeometry
)
Default Mosaic Method: Northwest
Allowed Mosaic Methods: NorthWest,Center,LockRaster,ByAttribute,Nadir,Viewpoint,Seamline,None
SortField:
SortValue: N/A
Mosaic Operator: First
Default Compression Quality: 75
Default Resampling Method: Nearest
Max Record Count: 1000
Max Image Height: 100000
Max Image Width: 100000
Max Download Image Count: 20
Max Mosaic Image Count: 20
Allow Raster Function: true
Allow Copy: true
Allow Analysis: true
Allow Compute TiePoints: false
Supports Statistics: true
Supports Advanced Queries: true
Use StandardizedQueries: true
Raster Type Infos:
Name: Raster Dataset
Description: Supports all ArcGIS Raster Datasets
Help:
Has Raster Attribute Table: false
Edit Fields Info: N/A
Ownership Based AccessControl For Rasters: N/A
Child Resources:
Info
Histograms
Statistics
Key Properties
Legend
Raster Function Infos
Supported Operations:
Export Image
Query
Identify
Measure
Compute Histograms
Compute Statistics Histograms
Get Samples
Compute Class Statistics
Query GPS Info
Find Images
Image to Map
Map to Image
Measure from Image
Image to Map Multiray
Query Boundary
Compute Pixel Location
Compute Angles
Validate
Project