View In:
ArcGIS JavaScript
ArcGIS Enterprise Map Viewer
ArcGIS Earth
Service Description: The Vegzone layer was derived from overstory and understory species composition and abundance (percent cover) information in existing Gradient Nearest Neighbor (GNN) vegetation maps developed by the Landscape Ecology, Modeling, Mapping, and Analysis (LEMMA) group in the Pacific Northwest Research Station (http://lemma.forestry.oregonstate.edu/).
Species composition in the imputations is determined from forest inventory plot data (1990-2019). A combination of FIA-Periodic, FIA-Annual, and R6/R5 CVS plot designs were used to determine PVT at the vegzone (Series) and subzone (Subseries or Plant Association Group (PAG)) levels. FIA-Periodic and R6/R5 CVS Inventory plots were used where they were co-located with FIA-Annual plots to help interpret previous or subsequent disturbance and succession. These Interpretations are based on multiple observations (2-5 obs per location) of species composition through time. Each plot location was assigned 1 vegzone and 1 subzone across all observations based on a vegzone/subzone ruleset (Key) programmed in R.
Map Data (1986-2017) consists of annual imputations of FIA-Annual Plots (2001-2016) only, using GNN K-1 (single nearest neighbor) methodology (Ohmann 2001). Each raster call was evaluated across all imputation years (1986-2017) for subzone Majority, subzone Min Rank (earliest subzone in the ruleset), and subzone Variety. Subzone Variety was used as an index of disturbance through time. Where subzone Variety >4, the cell was considered disturbed and subzone Min Rank was used in the final PVT map for that raster cell. Where subzone Variety was <=4, the cell was considered undisturbed and subzone Majority was used in the final PVT map.
Presence and percent cover of tree species were used to infer potential forest vegetation zones. Other indicator species (trees not used in vegetation zone delineation and understory species) were grouped by moisture and temperature regimes. The abundance and number of species in a group served as indicators for moisture and temperature subzones within a vegetation zone. This delineation often indicated different disturbance regimes, rates of development after disturbance, and ultimately what type of forest would dominate in the absence of disturbance. GNN maps for the entire 1986-2017 LandTrendr normalized Landsat time sequence were used to account for species composition changes owing to recent disturbances such as fire or timber harvest. Where imputations from different map years were highly variable (>4 different vegzone/subzones) indicating 1 or more disturbances, the higher ranked (generally more mesic) vegetation zone and subzone was assigned.
Name: Vegetation/USFS_Vegetation_Zones
Description:
Single Fused Map Cache: false
Extent:
XMin: -1.42788697557E7
YMin: 3638531.3131000027
XMax: -1.22760397557E7
YMax: 6461741.313100003
Spatial Reference: 102100
(3857)
LatestVCSWkid(0)
Initial Extent:
XMin: -1.42788697557E7
YMin: 3638531.3131000027
XMax: -1.22760397557E7
YMax: 6461741.313100003
Spatial Reference: 102100
(3857)
LatestVCSWkid(0)
Full Extent:
XMin: -1.42788697557E7
YMin: 3638531.3131000027
XMax: -1.22760397557E7
YMax: 6461741.313100003
Spatial Reference: 102100
(3857)
LatestVCSWkid(0)
Pixel Size X: 30.0
Pixel Size Y: 30.0
Band Count: 1
Pixel Type: S8
RasterFunction Infos: {"rasterFunctionInfos": [
{
"help": "",
"name": "Vegetation Zones_RFT",
"description": "Vegetation Zones RFT simplified attribute table"
},
{
"help": "",
"name": "None",
"description": "Make a Raster or Raster Dataset into a Function Raster Dataset."
}
]}
Mensuration Capabilities: Basic
Inspection Capabilities:
Has Histograms: true
Has Colormap: false
Has Multi Dimensions : false
Rendering Rule:
Min Scale: 0
Max Scale: 0
Copyright Text: ELK citation: https://www.fs.usda.gov/pnw/tools/westside-elk-model-toolbox; Rowland et al. 2018 Wildlife Monograph (https://www.fs.usda.gov/treesearch/pubs/57491)
Service Data Type: esriImageServiceDataTypeGeneric
Min Values: 1
Max Values: 40
Mean Values: 10.107110787786242
Standard Deviation Values: 7.5592910272446323
Object ID Field: objectid
Fields:
-
objectid
(
alias: objectid
, type: esriFieldTypeOID
)
-
name
(
length: 200
, alias: name
, type: esriFieldTypeString
)
-
minps
(
alias: minps
, type: esriFieldTypeDouble
)
-
maxps
(
alias: maxps
, type: esriFieldTypeDouble
)
-
lowps
(
alias: lowps
, type: esriFieldTypeDouble
)
-
highps
(
alias: highps
, type: esriFieldTypeDouble
)
-
category
(
alias: category
, type: esriFieldTypeInteger
, Coded Values:
[0: Unknown]
, [1: Primary]
, [2: Overview]
, ...6 more...
)
-
tag
(
length: 100
, alias: tag
, type: esriFieldTypeString
)
-
groupname
(
length: 100
, alias: groupname
, type: esriFieldTypeString
)
-
productname
(
length: 100
, alias: productname
, type: esriFieldTypeString
)
-
centerx
(
alias: centerx
, type: esriFieldTypeDouble
)
-
centery
(
alias: centery
, type: esriFieldTypeDouble
)
-
zorder
(
alias: zorder
, type: esriFieldTypeInteger
)
-
shape
(
alias: shape
, type: esriFieldTypeGeometry
)
-
beginyear
(
alias: beginyear
, type: esriFieldTypeSmallInteger
)
-
endyear
(
alias: endyear
, type: esriFieldTypeSmallInteger
)
Default Mosaic Method: Northwest
Allowed Mosaic Methods: NorthWest,Center,LockRaster,ByAttribute,Nadir,Viewpoint,Seamline,None
SortField:
SortValue: N/A
Mosaic Operator: First
Default Compression Quality: 75
Default Resampling Method: Nearest
Max Record Count: 1000
Max Image Height: 100000
Max Image Width: 100000
Max Download Image Count: 20
Max Mosaic Image Count: 20
Allow Raster Function: true
Allow Copy: true
Allow Analysis: true
Allow Compute TiePoints: false
Supports Statistics: true
Supports Advanced Queries: true
Use StandardizedQueries: true
Raster Type Infos:
Name: Raster Dataset
Description: Supports all ArcGIS Raster Datasets
Help:
Has Raster Attribute Table: false
Edit Fields Info: N/A
Ownership Based AccessControl For Rasters: N/A
Child Resources:
Info
Histograms
Statistics
Key Properties
Legend
Raster Function Infos
Supported Operations:
Export Image
Query
Identify
Measure
Compute Histograms
Compute Statistics Histograms
Get Samples
Compute Class Statistics
Query GPS Info
Find Images
Image to Map
Map to Image
Measure from Image
Image to Map Multiray
Query Boundary
Compute Pixel Location
Compute Angles
Validate
Project