View In:
ArcGIS JavaScript
ArcGIS Enterprise Map Viewer
ArcGIS Earth
Service Description:
Name: Vegetation/USFS_FIA_ForestAtlas_BirdDensity_202
Description:
Single Fused Map Cache: false
Extent:
XMin: -1.42455715077E7
YMin: 2608298.3413999975
XMax: -7265821.5077
YMax: 6736548.3413999975
Spatial Reference: 102100
(3857)
LatestVCSWkid(0)
Initial Extent:
XMin: -1.42455715077E7
YMin: 2608298.3413999975
XMax: -7265821.5077
YMax: 6736548.3413999975
Spatial Reference: 102100
(3857)
LatestVCSWkid(0)
Full Extent:
XMin: -1.42455715077E7
YMin: 2608298.3413999975
XMax: -7265821.5077
YMax: 6736548.3413999975
Spatial Reference: 102100
(3857)
LatestVCSWkid(0)
Pixel Size X: 250.0
Pixel Size Y: 250.0
Band Count: 1
Pixel Type: S8
RasterFunction Infos: {"rasterFunctionInfos": [
{
"help": "",
"name": "FIA_BirdDensity",
"description": "Remap table and symbology for FIA bird species density"
},
{
"help": "",
"name": "None",
"description": "Make a Raster or Raster Dataset into a Function Raster Dataset."
}
]}
Mensuration Capabilities: Basic
Inspection Capabilities:
Has Histograms: true
Has Colormap: false
Has Multi Dimensions : false
Rendering Rule:
Min Scale: 0
Max Scale: 0
Copyright Text:
Service Data Type: esriImageServiceDataTypeScientific
Min Values: 27
Max Values: 126
Mean Values: 91.344833253165007
Standard Deviation Values: 13.36369989983737
Object ID Field: objectid
Fields:
-
objectid
(
alias: objectid
, type: esriFieldTypeOID
)
-
name
(
length: 200
, alias: name
, type: esriFieldTypeString
)
-
minps
(
alias: minps
, type: esriFieldTypeDouble
)
-
maxps
(
alias: maxps
, type: esriFieldTypeDouble
)
-
lowps
(
alias: lowps
, type: esriFieldTypeDouble
)
-
highps
(
alias: highps
, type: esriFieldTypeDouble
)
-
category
(
alias: category
, type: esriFieldTypeInteger
, Coded Values:
[0: Unknown]
, [1: Primary]
, [2: Overview]
, ...6 more...
)
-
tag
(
length: 100
, alias: tag
, type: esriFieldTypeString
)
-
groupname
(
length: 100
, alias: groupname
, type: esriFieldTypeString
)
-
productname
(
length: 100
, alias: productname
, type: esriFieldTypeString
)
-
centerx
(
alias: centerx
, type: esriFieldTypeDouble
)
-
centery
(
alias: centery
, type: esriFieldTypeDouble
)
-
zorder
(
alias: zorder
, type: esriFieldTypeInteger
)
-
shape
(
alias: shape
, type: esriFieldTypeGeometry
)
Default Mosaic Method: Northwest
Allowed Mosaic Methods: NorthWest,Center,LockRaster,ByAttribute,Nadir,Viewpoint,Seamline,None
SortField:
SortValue: N/A
Mosaic Operator: First
Default Compression Quality: 75
Default Resampling Method: Bilinear
Max Record Count: 1000
Max Image Height: 100000
Max Image Width: 100000
Max Download Image Count: 20
Max Mosaic Image Count: 100
Allow Raster Function: true
Allow Copy: true
Allow Analysis: true
Allow Compute TiePoints: false
Supports Statistics: true
Supports Advanced Queries: true
Use StandardizedQueries: true
Raster Type Infos:
Name: Raster Dataset
Description: Supports all ArcGIS Raster Datasets
Help:
Has Raster Attribute Table: false
Edit Fields Info: N/A
Ownership Based AccessControl For Rasters: N/A
Child Resources:
Info
Histograms
Statistics
Key Properties
Legend
Raster Function Infos
Supported Operations:
Export Image
Query
Identify
Measure
Compute Histograms
Compute Statistics Histograms
Get Samples
Compute Class Statistics
Query GPS Info
Find Images
Image to Map
Map to Image
Measure from Image
Image to Map Multiray
Query Boundary
Compute Pixel Location
Compute Angles
Validate
Project