View In:
ArcGIS JavaScript
ArcGIS Enterprise Map Viewer
ArcGIS Earth
Service Description: This is an image service contains pixel data for 327 individual tree species as well as total live tree aboveground forest biomass (tons/acre), 2014-2018. An efficient approach for mapping multiple individual tree species over large spatial domains was used to develop these raster datasets. The method integrates vegetation phenology derived from dense time series of Landsat imagery and raster data describing relevant environmental parameters with extensive field plot data of tree species aboveground biomass to create maps of tree species abundance and distribution at a 30-meter (m) pixel size for the Conterminous United States (CONUS). The approach uses the modeling techniques of k-nearest neighbors and canonical correspondence analysis, where model predictions are calculated using the mean of the nearest neighbors based on proximity in a feature space derived from the model.
Each species layer has undergone an extensive validation process and resulting statistics and data layers will soon be available here on ArcGIS Online and via our upcoming BIGMAP data dashboard.
Name: Vegetation/USFS_FIA_BIGMAP_AboveGroundBiomass
Description:
Single Fused Map Cache: false
Extent:
XMin: -2911620.0
YMin: 164760.0
XMax: 2933940.0
YMax: 3254760.0
Spatial Reference: 102039
(102039)
LatestVCSWkid(0)
Initial Extent:
XMin: -2911620.0
YMin: 164760.0
XMax: 2933940.0
YMax: 3254760.0
Spatial Reference: 102039
(102039)
LatestVCSWkid(0)
Full Extent:
XMin: -2911620.0
YMin: 164760.0
XMax: 2933940.0
YMax: 3254760.0
Spatial Reference: 102039
(102039)
LatestVCSWkid(0)
Pixel Size X: 30.0
Pixel Size Y: 30.0
Band Count: 1
Pixel Type: F32
RasterFunction Infos: {"rasterFunctionInfos": [
{
"help": "",
"name": "SPCD_0000_Total",
"description": "Total"
},
{
"help": "",
"name": "None",
"description": "Make a Raster or Raster Dataset into a Function Raster Dataset."
},
{
"help": "",
"name": "SPCD_0010_Abies_spp.",
"description": "Fir Spp."
},
{
"help": "",
"name": "SPCD_0011_Abies_amabilis",
"description": "Pacific Silver Fir"
},
{
"help": "",
"name": "SPCD_0012_Abies_balsamea",
"description": "Balsam Fir"
},
{
"help": "",
"name": "SPCD_0015_Abies_concolor",
"description": "White Fir"
},
{
"help": "",
"name": "SPCD_0016_Abies_fraseri",
"description": "Fraser Fir"
},
{
"help": "",
"name": "SPCD_0017_Abies_grandis",
"description": "Grand Fir"
},
{
"help": "",
"name": "SPCD_0018_Abies_lasiocarpa",
"description": "Corkbark Fir"
},
{
"help": "",
"name": "SPCD_0019_Abies_lasiocarpa",
"description": "Subalpine Fir"
},
{
"help": "",
"name": "SPCD_0020_Abies_magnifica",
"description": "California Red Fir"
},
{
"help": "",
"name": "SPCD_0021_Abies_shastensis",
"description": "Shasta Red Fir"
},
{
"help": "",
"name": "SPCD_0022_Abies_procera",
"description": "Noble Fir"
},
{
"help": "",
"name": "SPCD_0041_Chamaecyparis_lawsoniana",
"description": "Port-Orford-Cedar"
},
{
"help": "",
"name": "SPCD_0042_Chamaecyparis_nootkatensis",
"description": "Alaska Yellow-Cedar"
},
{
"help": "",
"name": "SPCD_0043_Chamaecyparis_thyoides",
"description": "Atlantic White-Cedar"
},
{
"help": "",
"name": "SPCD_0051_Cupressus_arizonica",
"description": "Arizona Cypress"
},
{
"help": "",
"name": "SPCD_0052_Cupressus_bakeri",
"description": "Baker Or Modoc Cypress"
},
{
"help": "",
"name": "SPCD_0055_Cupressus_sargentii",
"description": "Sargent'S Cypress"
},
{
"help": "",
"name": "SPCD_0056_Cupressus_macnabiana",
"description": "Macnab'S Cypress"
},
{
"help": "",
"name": "SPCD_0058_Juniperus_pinchotii",
"description": "Pinchot Juniper"
},
{
"help": "",
"name": "SPCD_0059_Juniperus_coahuilensis",
"description": "Redberry Juniper"
},
{
"help": "",
"name": "SPCD_0061_Juniperus_ashei",
"description": "Ashe Juniper"
},
{
"help": "",
"name": "SPCD_0062_Juniperus_californica",
"description": "California Juniper"
},
{
"help": "",
"name": "SPCD_0063_Juniperus_deppeana",
"description": "Alligator Juniper"
},
{
"help": "",
"name": "SPCD_0064_Juniperus_occidentalis",
"description": "Western Juniper"
},
{
"help": "",
"name": "SPCD_0065_Juniperus_osteosperma",
"description": "Utah Juniper"
},
{
"help": "",
"name": "SPCD_0066_Juniperus_scopulorum",
"description": "Rocky Mountain Juniper"
},
{
"help": "",
"name": "SPCD_0067_Juniperus_virginiana",
"description": "Southern Redcedar"
},
{
"help": "",
"name": "SPCD_0068_Juniperus_virginiana",
"description": "Eastern Redcedar"
},
{
"help": "",
"name": "SPCD_0069_Juniperus_monosperma",
"description": "Oneseed Juniper"
},
{
"help": "",
"name": "SPCD_0070_Larix_spp.",
"description": "Larch Spp."
},
{
"help": "",
"name": "SPCD_0071_Larix_laricina",
"description": "Tamarack"
},
{
"help": "",
"name": "SPCD_0072_Larix_lyallii",
"description": "Subalpine Larch"
},
{
"help": "",
"name": "SPCD_0073_Larix_occidentalis",
"description": "Western Larch"
},
{
"help": "",
"name": "SPCD_0081_Calocedrus_decurrens",
"description": "Incense-Cedar"
},
{
"help": "",
"name": "SPCD_0091_Picea_abies",
"description": "Norway Spruce"
},
{
"help": "",
"name": "SPCD_0092_Picea_breweriana",
"description": "Brewer Spruce"
},
{
"help": "",
"name": "SPCD_0093_Picea_engelmannii",
"description": "Engelmann Spruce"
},
{
"help": "",
"name": "SPCD_0094_Picea_glauca",
"description": "White Spruce"
},
{
"help": "",
"name": "SPCD_0095_Picea_mariana",
"description": "Black Spruce"
},
{
"help": "",
"name": "SPCD_0096_Picea_pungens",
"description": "Blue Spruce"
},
{
"help": "",
"name": "SPCD_0097_Picea_rubens",
"description": "Red Spruce"
},
{
"help": "",
"name": "SPCD_0098_Picea_sitchensis",
"description": "Sitka Spruce"
},
{
"help": "",
"name": "SPCD_0101_Pinus_albicaulis",
"description": "Whitebark Pine"
},
{
"help": "",
"name": "SPCD_0102_Pinus_aristata",
"description": "Rocky Mountain Bristlecone Pine"
},
{
"help": "",
"name": "SPCD_0103_Pinus_attenuata",
"description": "Knobcone Pine"
},
{
"help": "",
"name": "SPCD_0104_Pinus_balfouriana",
"description": "Foxtail Pine"
},
{
"help": "",
"name": "SPCD_0105_Pinus_banksiana",
"description": "Jack Pine"
},
{
"help": "",
"name": "SPCD_0106_Pinus_edulis",
"description": "Common Or Two-Needle Pinyon"
},
{
"help": "",
"name": "SPCD_0107_Pinus_clausa",
"description": "Sand Pine"
},
{
"help": "",
"name": "SPCD_0108_Pinus_contorta",
"description": "Lodgepole Pine"
},
{
"help": "",
"name": "SPCD_0109_Pinus_coulteri",
"description": "Coulter Pine"
},
{
"help": "",
"name": "SPCD_0110_Pinus_echinata",
"description": "Shortleaf Pine"
},
{
"help": "",
"name": "SPCD_0111_Pinus_elliottii",
"description": "Slash Pine"
},
{
"help": "",
"name": "SPCD_0113_Pinus_flexilis",
"description": "Limber Pine"
},
{
"help": "",
"name": "SPCD_0114_Pinus_strobiformis",
"description": "Southwestern White Pine "
},
{
"help": "",
"name": "SPCD_0115_Pinus_glabra",
"description": "Spruce Pine"
},
{
"help": "",
"name": "SPCD_0116_Pinus_jeffreyi",
"description": "Jeffrey Pine"
},
{
"help": "",
"name": "SPCD_0117_Pinus_lambertiana",
"description": "Sugar Pine"
},
{
"help": "",
"name": "SPCD_0118_Pinus_leiophylla",
"description": "Chihuahuan Pine"
},
{
"help": "",
"name": "SPCD_0119_Pinus_monticola",
"description": "Western White Pine"
},
{
"help": "",
"name": "SPCD_0120_Pinus_muricata",
"description": "Bishop Pine"
},
{
"help": "",
"name": "SPCD_0121_Pinus_palustris",
"description": "Longleaf Pine"
},
{
"help": "",
"name": "SPCD_0122_Pinus_ponderosa",
"description": "Ponderosa Pine"
},
{
"help": "",
"name": "SPCD_0123_Pinus_pungens",
"description": "Table Mountain Pine"
},
{
"help": "",
"name": "SPCD_0125_Pinus_resinosa",
"description": "Red Pine"
},
{
"help": "",
"name": "SPCD_0126_Pinus_rigida",
"description": "Pitch Pine"
},
{
"help": "",
"name": "SPCD_0127_Pinus_sabiniana",
"description": "Gray Or California Foothill Pine"
},
{
"help": "",
"name": "SPCD_0128_Pinus_serotina",
"description": "Pond Pine"
},
{
"help": "",
"name": "SPCD_0129_Pinus_strobus",
"description": "Eastern White Pine"
},
{
"help": "",
"name": "SPCD_0130_Pinus_sylvestris",
"description": "Scotch Pine"
},
{
"help": "",
"name": "SPCD_0131_Pinus_taeda",
"description": "Loblolly Pine"
},
{
"help": "",
"name": "SPCD_0132_Pinus_virginiana",
"description": "Virginia Pine"
},
{
"help": "",
"name": "SPCD_0133_Pinus_monophylla",
"description": "Singleleaf Pinyon"
},
{
"help": "",
"name": "SPCD_0134_Pinus_discolor",
"description": "Border Pinyon"
},
{
"help": "",
"name": "SPCD_0136_Pinus_nigra",
"description": "Austrian Pine"
},
{
"help": "",
"name": "SPCD_0137_Pinus_washoensis",
"description": "Washoe Pine"
},
{
"help": "",
"name": "SPCD_0140_Pinus_cembroides",
"description": "Mexican Pinyon Pine"
},
{
"help": "",
"name": "SPCD_0141_Pinus_remota",
"description": "Papershell Pinyon Pine"
},
{
"help": "",
"name": "SPCD_0142_Pinus_longaeva",
"description": "Great Basin Bristlecone Pine"
},
{
"help": "",
"name": "SPCD_0143_Pinus_monophylla",
"description": "Arizona Pinyon Pine"
},
{
"help": "",
"name": "SPCD_0201_Pseudotsuga_macrocarpa",
"description": "Bigcone Douglas-Fir"
},
{
"help": "",
"name": "SPCD_0202_Pseudotsuga_menziesii",
"description": "Douglas-Fir"
},
{
"help": "",
"name": "SPCD_0211_Sequoia_sempervirens",
"description": "Redwood"
},
{
"help": "",
"name": "SPCD_0212_Sequoiadendron_giganteum",
"description": "Giant Sequoia"
},
{
"help": "",
"name": "SPCD_0221_Taxodium_distichum",
"description": "Baldcypress"
},
{
"help": "",
"name": "SPCD_0222_Taxodium_ascendens",
"description": "Pondcypress"
},
{
"help": "",
"name": "SPCD_0231_Taxus_brevifolia",
"description": "Pacific Yew"
},
{
"help": "",
"name": "SPCD_0241_Thuja_occidentalis",
"description": "Northern White-Cedar"
},
{
"help": "",
"name": "SPCD_0242_Thuja_plicata",
"description": "Western Redcedar"
},
{
"help": "",
"name": "SPCD_0251_Torreya_californica",
"description": "California Torreya (Nutmeg)"
},
{
"help": "",
"name": "SPCD_0261_Tsuga_canadensis",
"description": "Eastern Hemlock"
},
{
"help": "",
"name": "SPCD_0262_Tsuga_caroliniana",
"description": "Carolina Hemlock"
},
{
"help": "",
"name": "SPCD_0263_Tsuga_heterophylla",
"description": "Western Hemlock"
},
{
"help": "",
"name": "SPCD_0264_Tsuga_mertensiana",
"description": "Mountain Hemlock"
},
{
"help": "",
"name": "SPCD_0303_Acacia_farnesiana",
"description": "Sweet Acacia"
},
{
"help": "",
"name": "SPCD_0311_Acer_barbatum",
"description": "Florida Maple"
},
{
"help": "",
"name": "SPCD_0312_Acer_macrophyllum",
"description": "Bigleaf Maple"
},
{
"help": "",
"name": "SPCD_0313_Acer_negundo",
"description": "Boxelder"
},
{
"help": "",
"name": "SPCD_0314_Acer_nigrum",
"description": "Black Maple"
},
{
"help": "",
"name": "SPCD_0315_Acer_pensylvanicum",
"description": "Striped Maple"
},
{
"help": "",
"name": "SPCD_0316_Acer_rubrum",
"description": "Red Maple"
},
{
"help": "",
"name": "SPCD_0317_Acer_saccharinum",
"description": "Silver Maple"
},
{
"help": "",
"name": "SPCD_0318_Acer_saccharum",
"description": "Sugar Maple"
},
{
"help": "",
"name": "SPCD_0319_Acer_spicatum",
"description": "Mountain Maple"
},
{
"help": "",
"name": "SPCD_0320_Acer_platanoides",
"description": "Norway Maple"
},
{
"help": "",
"name": "SPCD_0322_Acer_grandidentatum",
"description": "Bigtooth Maple"
},
{
"help": "",
"name": "SPCD_0323_Acer_leucoderme",
"description": "Chalk Maple"
},
{
"help": "",
"name": "SPCD_0331_Aesculus_glabra",
"description": "Ohio Buckeye"
},
{
"help": "",
"name": "SPCD_0332_Aesculus_flava",
"description": "Yellow Buckeye"
},
{
"help": "",
"name": "SPCD_0333_Aesculus_californica",
"description": "California Buckeye"
},
{
"help": "",
"name": "SPCD_0334_Aesculus_glabra",
"description": "Texas Buckeye"
},
{
"help": "",
"name": "SPCD_0341_Ailanthus_altissima",
"description": "Ailanthus"
},
{
"help": "",
"name": "SPCD_0345_Albizia_julibrissin",
"description": "Mimosa, Silktree"
},
{
"help": "",
"name": "SPCD_0351_Alnus_rubra",
"description": "Red Alder"
},
{
"help": "",
"name": "SPCD_0352_Alnus_rhombifolia",
"description": "White Alder"
},
{
"help": "",
"name": "SPCD_0356_Amelanchier_spp.",
"description": "Serviceberry Spp."
},
{
"help": "",
"name": "SPCD_0361_Arbutus_menziesii",
"description": "Pacific Madrone"
},
{
"help": "",
"name": "SPCD_0363_Arbutus_xalapensis",
"description": "Texas Madrone"
},
{
"help": "",
"name": "SPCD_0367_Asimina_triloba",
"description": "Pawpaw"
},
{
"help": "",
"name": "SPCD_0371_Betula_alleghaniensis",
"description": "Yellow Birch"
},
{
"help": "",
"name": "SPCD_0372_Betula_lenta",
"description": "Sweet Birch"
},
{
"help": "",
"name": "SPCD_0373_Betula_nigra",
"description": "River Birch"
},
{
"help": "",
"name": "SPCD_0374_Betula_occidentalis",
"description": "Water Birch"
},
{
"help": "",
"name": "SPCD_0375_Betula_papyrifera",
"description": "Paper Birch"
},
{
"help": "",
"name": "SPCD_0379_Betula_populifolia",
"description": "Gray Birch"
},
{
"help": "",
"name": "SPCD_0381_Sideroxylon_lanuginosum",
"description": "Chittamwood, Gum Bumelia"
},
{
"help": "",
"name": "SPCD_0391_Carpinus_caroliniana",
"description": "American Hornbeam, Musclewood"
},
{
"help": "",
"name": "SPCD_0400_Carya_spp.",
"description": "Hickory Spp."
},
{
"help": "",
"name": "SPCD_0401_Carya_aquatica",
"description": "Water Hickory"
},
{
"help": "",
"name": "SPCD_0402_Carya_cordiformis",
"description": "Bitternut Hickory"
},
{
"help": "",
"name": "SPCD_0403_Carya_glabra",
"description": "Pignut Hickory"
},
{
"help": "",
"name": "SPCD_0404_Carya_illinoinensis",
"description": "Pecan"
},
{
"help": "",
"name": "SPCD_0405_Carya_laciniosa",
"description": "Shellbark Hickory"
},
{
"help": "",
"name": "SPCD_0407_Carya_ovata",
"description": "Shagbark Hickory"
},
{
"help": "",
"name": "SPCD_0408_Carya_texana",
"description": "Black Hickory"
},
{
"help": "",
"name": "SPCD_0409_Carya_alba",
"description": "Mockernut Hickory"
},
{
"help": "",
"name": "SPCD_0410_Carya_pallida",
"description": "Sand Hickory"
},
{
"help": "",
"name": "SPCD_0411_Carya_floridana",
"description": "Scrub Hickory"
},
{
"help": "",
"name": "SPCD_0412_Carya_ovalis",
"description": "Red Hickory"
},
{
"help": "",
"name": "SPCD_0413_Carya_carolinae-septentrionalis",
"description": "Southern Shagbark Hickory"
},
{
"help": "",
"name": "SPCD_0421_Castanea_dentata",
"description": "American Chestnut"
},
{
"help": "",
"name": "SPCD_0422_Castanea_pumila",
"description": "Allegheny Chinkapin"
},
{
"help": "",
"name": "SPCD_0423_Castanea_pumila",
"description": "Ozark Chinkapin"
},
{
"help": "",
"name": "SPCD_0431_Chrysolepis_chrysophylla",
"description": "Giant Chinkapin, Golden Chinkapin"
},
{
"help": "",
"name": "SPCD_0451_Catalpa_bignonioides",
"description": "Southern Catalpa"
},
{
"help": "",
"name": "SPCD_0452_Catalpa_speciosa",
"description": "Northern Catalpa"
},
{
"help": "",
"name": "SPCD_0461_Celtis_laevigata",
"description": "Sugarberry"
},
{
"help": "",
"name": "SPCD_0462_Celtis_occidentalis",
"description": "Hackberry"
},
{
"help": "",
"name": "SPCD_0463_Celtis_laevigata",
"description": "Netleaf Hackberry"
},
{
"help": "",
"name": "SPCD_0471_Cercis_canadensis",
"description": "Eastern Redbud"
},
{
"help": "",
"name": "SPCD_0475_Cercocarpus_ledifolius",
"description": "Curlleaf Mountain-Mahogany"
},
{
"help": "",
"name": "SPCD_0481_Cladrastis_kentukea",
"description": "Yellowwood"
},
{
"help": "",
"name": "SPCD_0491_Cornus_florida",
"description": "Flowering Dogwood"
},
{
"help": "",
"name": "SPCD_0492_Cornus_nuttallii",
"description": "Pacific Dogwood"
},
{
"help": "",
"name": "SPCD_0500_Crataegus_spp.",
"description": "Hawthorn Spp."
},
{
"help": "",
"name": "SPCD_0501_Crataegus_crus-galli",
"description": "Cockspur Hawthorn"
},
{
"help": "",
"name": "SPCD_0502_Crataegus_mollis",
"description": "Downy Hawthorn"
},
{
"help": "",
"name": "SPCD_0513_Eucalyptus_grandis",
"description": "Grand Eucalyptus"
},
{
"help": "",
"name": "SPCD_0521_Diospyros_virginiana",
"description": "Common Persimmon"
},
{
"help": "",
"name": "SPCD_0522_Diospyros_texana",
"description": "Texas Persimmon"
},
{
"help": "",
"name": "SPCD_0523_Ehretia_anacua",
"description": "Anacua Knockaway"
},
{
"help": "",
"name": "SPCD_0531_Fagus_grandifolia",
"description": "American Beech"
},
{
"help": "",
"name": "SPCD_0541_Fraxinus_americana",
"description": "White Ash"
},
{
"help": "",
"name": "SPCD_0542_Fraxinus_latifolia",
"description": "Oregon Ash"
},
{
"help": "",
"name": "SPCD_0543_Fraxinus_nigra",
"description": "Black Ash"
},
{
"help": "",
"name": "SPCD_0544_Fraxinus_pennsylvanica",
"description": "Green Ash"
},
{
"help": "",
"name": "SPCD_0545_Fraxinus_profunda",
"description": "Pumpkin Ash"
},
{
"help": "",
"name": "SPCD_0546_Fraxinus_quadrangulata",
"description": "Blue Ash"
},
{
"help": "",
"name": "SPCD_0547_Fraxinus_velutina",
"description": "Velvet Ash"
},
{
"help": "",
"name": "SPCD_0548_Fraxinus_caroliniana",
"description": "Carolina Ash"
},
{
"help": "",
"name": "SPCD_0549_Fraxinus_texensis",
"description": "Texas Ash"
},
{
"help": "",
"name": "SPCD_0551_Gleditsia_aquatica",
"description": "Waterlocust"
},
{
"help": "",
"name": "SPCD_0552_Gleditsia_triacanthos",
"description": "Honeylocust"
},
{
"help": "",
"name": "SPCD_0555_Gordonia_lasianthus",
"description": "Loblolly-Bay"
},
{
"help": "",
"name": "SPCD_0571_Gymnocladus_dioicus",
"description": "Kentucky Coffeetree"
},
{
"help": "",
"name": "SPCD_0581_Halesia_carolina",
"description": "Carolina Silverbell"
},
{
"help": "",
"name": "SPCD_0582_Halesia_diptera",
"description": "Two-Wing Silverbell"
},
{
"help": "",
"name": "SPCD_0591_Ilex_opaca",
"description": "American Holly"
},
{
"help": "",
"name": "SPCD_0601_Juglans_cinerea",
"description": "Butternut"
},
{
"help": "",
"name": "SPCD_0602_Juglans_nigra",
"description": "Black Walnut"
},
{
"help": "",
"name": "SPCD_0604_Juglans_californica",
"description": "Southern California Black Walnut"
},
{
"help": "",
"name": "SPCD_0605_Juglans_microcarpa",
"description": "Texas Walnut"
},
{
"help": "",
"name": "SPCD_0606_Juglans_major",
"description": "Arizona Walnut"
},
{
"help": "",
"name": "SPCD_0611_Liquidambar_styraciflua",
"description": "Sweetgum"
},
{
"help": "",
"name": "SPCD_0621_Liriodendron_tulipifera",
"description": "Yellow-Poplar"
},
{
"help": "",
"name": "SPCD_0631_Lithocarpus_densiflorus",
"description": "Tanoak"
},
{
"help": "",
"name": "SPCD_0641_Maclura_pomifera",
"description": "Osage-Orange"
},
{
"help": "",
"name": "SPCD_0651_Magnolia_acuminata",
"description": "Cucumbertree"
},
{
"help": "",
"name": "SPCD_0652_Magnolia_grandiflora",
"description": "Southern Magnolia"
},
{
"help": "",
"name": "SPCD_0653_Magnolia_virginiana",
"description": "Sweetbay"
},
{
"help": "",
"name": "SPCD_0654_Magnolia_macrophylla",
"description": "Bigleaf Magnolia"
},
{
"help": "",
"name": "SPCD_0655_Magnolia_fraseri",
"description": "Mountain Or Fraser Magnolia"
},
{
"help": "",
"name": "SPCD_0658_Magnolia_tripetala",
"description": "Umbrella Magnolia"
},
{
"help": "",
"name": "SPCD_0660_Malus_spp.",
"description": "Apple Spp."
},
{
"help": "",
"name": "SPCD_0661_Malus_fusca",
"description": "Oregon Crab Apple"
},
{
"help": "",
"name": "SPCD_0662_Malus_angustifolia",
"description": "Southern Crab Apple"
},
{
"help": "",
"name": "SPCD_0663_Malus_coronaria",
"description": "Sweet Crab Apple"
},
{
"help": "",
"name": "SPCD_0681_Morus_alba",
"description": "White Mulberry"
},
{
"help": "",
"name": "SPCD_0682_Morus_rubra",
"description": "Red Mulberry"
},
{
"help": "",
"name": "SPCD_0683_Morus_microphylla",
"description": "Texas Mulberry"
},
{
"help": "",
"name": "SPCD_0691_Nyssa_aquatica",
"description": "Water Tupelo"
},
{
"help": "",
"name": "SPCD_0692_Nyssa_ogeche",
"description": "Ogeechee Tupelo"
},
{
"help": "",
"name": "SPCD_0693_Nyssa_sylvatica",
"description": "Blackgum"
},
{
"help": "",
"name": "SPCD_0694_Nyssa_biflora",
"description": "Swamp Tupelo"
},
{
"help": "",
"name": "SPCD_0701_Ostrya_virginiana",
"description": "Eastern Hophornbeam"
},
{
"help": "",
"name": "SPCD_0711_Oxydendrum_arboreum",
"description": "Sourwood"
},
{
"help": "",
"name": "SPCD_0712_Paulownia_tomentosa",
"description": "Paulownia, Empress-Tree"
},
{
"help": "",
"name": "SPCD_0721_Persea_borbonia",
"description": "Redbay"
},
{
"help": "",
"name": "SPCD_0722_Planera_aquatica",
"description": "Water-Elm, Planertree"
},
{
"help": "",
"name": "SPCD_0730_Platanus_racemosa",
"description": "California Sycamore"
},
{
"help": "",
"name": "SPCD_0731_Platanus_occidentalis",
"description": "American Sycamore"
},
{
"help": "",
"name": "SPCD_0740_Populus_spp.",
"description": "Cottonwood And Poplar Spp."
},
{
"help": "",
"name": "SPCD_0741_Populus_balsamifera",
"description": "Balsam Poplar"
},
{
"help": "",
"name": "SPCD_0742_Populus_deltoides",
"description": "Eastern Cottonwood"
},
{
"help": "",
"name": "SPCD_0743_Populus_grandidentata",
"description": "Bigtooth Aspen"
},
{
"help": "",
"name": "SPCD_0744_Populus_heterophylla",
"description": "Swamp Cottonwood"
},
{
"help": "",
"name": "SPCD_0745_Populus_deltoides",
"description": "Plains Cottonwood"
},
{
"help": "",
"name": "SPCD_0746_Populus_tremuloides",
"description": "Quaking Aspen"
},
{
"help": "",
"name": "SPCD_0747_Populus_balsamifera",
"description": "Black Cottonwood"
},
{
"help": "",
"name": "SPCD_0748_Populus_fremontii",
"description": "Fremont Cottonwood"
},
{
"help": "",
"name": "SPCD_0749_Populus_angustifolia",
"description": "Narrowleaf Cottonwood"
},
{
"help": "",
"name": "SPCD_0756_Prosopis_glandulosa",
"description": "Honey Mesquite "
},
{
"help": "",
"name": "SPCD_0757_Prosopis_velutina",
"description": "Velvet Mesquite"
},
{
"help": "",
"name": "SPCD_0761_Prunus_pensylvanica",
"description": "Pin Cherry"
},
{
"help": "",
"name": "SPCD_0762_Prunus_serotina",
"description": "Black Cherry"
},
{
"help": "",
"name": "SPCD_0763_Prunus_virginiana",
"description": "Chokecherry"
},
{
"help": "",
"name": "SPCD_0766_Prunus_americana",
"description": "American Plum"
},
{
"help": "",
"name": "SPCD_0768_Prunus_emarginata",
"description": "Bitter Cherry"
},
{
"help": "",
"name": "SPCD_0771_Prunus_avium",
"description": "Sweet Cherry"
},
{
"help": "",
"name": "SPCD_0772_Prunus_cerasus",
"description": "Sour Cherry"
},
{
"help": "",
"name": "SPCD_0801_Quercus_agrifolia",
"description": "California Live Oak"
},
{
"help": "",
"name": "SPCD_0802_Quercus_alba",
"description": "White Oak"
},
{
"help": "",
"name": "SPCD_0803_Quercus_arizonica",
"description": "Arizona White Oak"
},
{
"help": "",
"name": "SPCD_0804_Quercus_bicolor",
"description": "Swamp White Oak"
},
{
"help": "",
"name": "SPCD_0805_Quercus_chrysolepis",
"description": "Canyon Live Oak"
},
{
"help": "",
"name": "SPCD_0806_Quercus_coccinea",
"description": "Scarlet Oak"
},
{
"help": "",
"name": "SPCD_0807_Quercus_douglasii",
"description": "Blue Oak"
},
{
"help": "",
"name": "SPCD_0808_Quercus_sinuata",
"description": "Durand Oak"
},
{
"help": "",
"name": "SPCD_0809_Quercus_ellipsoidalis",
"description": "Northern Pin Oak"
},
{
"help": "",
"name": "SPCD_0810_Quercus_emoryi",
"description": "Emory Oak"
},
{
"help": "",
"name": "SPCD_0811_Quercus_engelmannii",
"description": "Engelmann Oak"
},
{
"help": "",
"name": "SPCD_0812_Quercus_falcata",
"description": "Southern Red Oak"
},
{
"help": "",
"name": "SPCD_0813_Quercus_pagoda",
"description": "Cherrybark Oak"
},
{
"help": "",
"name": "SPCD_0814_Quercus_gambelii",
"description": "Gambel Oak"
},
{
"help": "",
"name": "SPCD_0815_Quercus_garryana",
"description": "Oregon White Oak"
},
{
"help": "",
"name": "SPCD_0816_Quercus_ilicifolia",
"description": "Scrub Oak"
},
{
"help": "",
"name": "SPCD_0817_Quercus_imbricaria",
"description": "Shingle Oak"
},
{
"help": "",
"name": "SPCD_0818_Quercus_kelloggii",
"description": "California Black Oak"
},
{
"help": "",
"name": "SPCD_0819_Quercus_laevis",
"description": "Turkey Oak"
},
{
"help": "",
"name": "SPCD_0820_Quercus_laurifolia",
"description": "Laurel Oak"
},
{
"help": "",
"name": "SPCD_0821_Quercus_lobata",
"description": "California White Oak"
},
{
"help": "",
"name": "SPCD_0822_Quercus_lyrata",
