View In:
ArcGIS JavaScript
ArcGIS Enterprise Map Viewer
ArcGIS Earth
Service Description: This data publication contains 2015 high-resolution land cover data for each of the 105 counties within Kansas. These data are a digital representation of land cover derived from 1-meter aerial imagery from the National Agriculture Imagery Program (NAIP). There is a separate file for each county. Data are intended for use in rural areas and therefore do not include land cover in cities and towns. Land cover classes (tree cover, other land cover, water, or city/town) were mapped using an object-based image analysis approach and supervised classification
Name: Vegetation/USFS_EDW__HighResolutionTreeCoverOfKansas_2015
Description:
Single Fused Map Cache: false
Extent:
XMin: -1.136227276E7
YMin: 4436844.912699999
XMax: -1.052914976E7
YMax: 4868584.912699999
Spatial Reference: 102100
(3857)
LatestVCSWkid(0)
Initial Extent:
XMin: -1.136227276E7
YMin: 4436844.912699999
XMax: -1.052914976E7
YMax: 4868584.912699999
Spatial Reference: 102100
(3857)
LatestVCSWkid(0)
Full Extent:
XMin: -1.136227276E7
YMin: 4436844.912699999
XMax: -1.052914976E7
YMax: 4868584.912699999
Spatial Reference: 102100
(3857)
LatestVCSWkid(0)
Pixel Size X: 1.0
Pixel Size Y: 1.0
Band Count: 1
Pixel Type: U4
RasterFunction Infos: {"rasterFunctionInfos": [
{
"help": "",
"name": "HighResolutionTreeCoverOfKansas_2015",
"description": "HighResolutionTreeCoverOfKansas_2015"
},
{
"help": "",
"name": "None",
"description": "Make a Raster or Raster Dataset into a Function Raster Dataset."
}
]}
Mensuration Capabilities: Basic
Inspection Capabilities:
Has Histograms: true
Has Colormap: false
Has Multi Dimensions : false
Rendering Rule:
Min Scale: 0
Max Scale: 0
Copyright Text: USDA - GEO; USDA - USFS – GTAC
Service Data Type: esriImageServiceDataTypeGeneric
Min Values: 0
Max Values: 15
Mean Values: 2.1990685319523648
Standard Deviation Values: 1.8606406565163307
Object ID Field: objectid
Fields:
-
objectid
(
alias: objectid
, type: esriFieldTypeOID
)
-
name
(
length: 200
, alias: name
, type: esriFieldTypeString
)
-
minps
(
alias: minps
, type: esriFieldTypeDouble
)
-
maxps
(
alias: maxps
, type: esriFieldTypeDouble
)
-
lowps
(
alias: lowps
, type: esriFieldTypeDouble
)
-
highps
(
alias: highps
, type: esriFieldTypeDouble
)
-
category
(
alias: category
, type: esriFieldTypeInteger
, Coded Values:
[0: Unknown]
, [1: Primary]
, [2: Overview]
, ...6 more...
)
-
tag
(
length: 100
, alias: tag
, type: esriFieldTypeString
)
-
groupname
(
length: 100
, alias: groupname
, type: esriFieldTypeString
)
-
productname
(
length: 100
, alias: productname
, type: esriFieldTypeString
)
-
centerx
(
alias: centerx
, type: esriFieldTypeDouble
)
-
centery
(
alias: centery
, type: esriFieldTypeDouble
)
-
zorder
(
alias: zorder
, type: esriFieldTypeInteger
)
-
shape
(
alias: shape
, type: esriFieldTypeGeometry
)
Default Mosaic Method: Northwest
Allowed Mosaic Methods: NorthWest,Center,LockRaster,ByAttribute,Nadir,Viewpoint,Seamline,None
SortField:
SortValue: N/A
Mosaic Operator: First
Default Compression Quality: 75
Default Resampling Method: Nearest
Max Record Count: 1000
Max Image Height: 100000
Max Image Width: 100000
Max Download Image Count: 20
Max Mosaic Image Count: 20
Allow Raster Function: true
Allow Copy: true
Allow Analysis: true
Allow Compute TiePoints: false
Supports Statistics: true
Supports Advanced Queries: true
Use StandardizedQueries: true
Raster Type Infos:
Name: Raster Dataset
Description: Supports all ArcGIS Raster Datasets
Help:
Has Raster Attribute Table: false
Edit Fields Info: N/A
Ownership Based AccessControl For Rasters: N/A
Child Resources:
Info
Histograms
Statistics
Key Properties
Legend
Raster Function Infos
Supported Operations:
Export Image
Query
Identify
Measure
Compute Histograms
Compute Statistics Histograms
Get Samples
Compute Class Statistics
Query GPS Info
Find Images
Image to Map
Map to Image
Measure from Image
Image to Map Multiray
Query Boundary
Compute Pixel Location
Compute Angles
Validate
Project