View In:
ArcGIS JavaScript
ArcGIS Enterprise Map Viewer
ArcGIS Earth
Service Description: The USDA Forest Service (USFS) builds two versions of percent tree canopy cover data, in order to serve needs of multiple user communities. These datasets encompass conterminous United States (CONUS), Coastal Alaska, Hawaii, and Puerto Rico and U.S. Virgin Islands (PRUSVI). The two versions of data within the v2025-6 TCC product suite include: The initial model outputs referred to as the Science data; And a modified version built for the National Land Cover Database and referred to as NLCD data. The Science data - the focus of this metadata - are the initial annual model outputs that consist of two images: percent tree canopy cover (TCC) and standard error. These data are best suited for users who will carry out their own detailed statistical and uncertainty analyses on the dataset, and place lower priority on the visual appearance of the dataset for cartographic purposes. Datasets for the years 1985 through 2025 are available. The Science data were produced using a random forest regression algorithm. TCC pixel values range from 0 to 100 percent. The value 254 represents the non-processing area mask where no cloud or cloud shadow-free data are available to produce an output, and 255 represents the background value. The Science data are accessible for multiple user communities, through multiple channels and platforms. For information on the NLCD TCC data and processing steps see the NLCD metadata. Information on the Science data and processing steps are included here. Data Download and Methods Documents: - https://data.fs.usda.gov/geodata/rastergateway/treecanopycover/
Name: Vegetation/USFS_EDW_Science_TCC_Hawaii
Description:
Single Fused Map Cache: false
Extent:
XMin: -1.78427163819E7
YMin: 2139038.749499999
XMax: -1.72266963819E7
YMax: 2544308.749499999
Spatial Reference: 102100
(3857)
LatestVCSWkid(0)
Initial Extent:
XMin: -1.78427163819E7
YMin: 2139038.749499999
XMax: -1.72266963819E7
YMax: 2544308.749499999
Spatial Reference: 102100
(3857)
LatestVCSWkid(0)
Full Extent:
XMin: -1.78427163819E7
YMin: 2139038.749499999
XMax: -1.72266963819E7
YMax: 2544308.749499999
Spatial Reference: 102100
(3857)
LatestVCSWkid(0)
Time Info:
Start Time Field: beginyear
End Time Field: endyear
Time Extent:
[1985/01/01 00:00:00 UTC, 2025/01/01 00:00:00 UTC]
Time Reference:
N/A
Pixel Size X: 30.0
Pixel Size Y: 30.0
Band Count: 1
Pixel Type: U8
RasterFunction Infos: {"rasterFunctionInfos": [
{
"help": "",
"name": "NLCDTCC_noBkgrd",
"description": "TCC RFT without background values"
},
{
"help": "",
"name": "None",
"description": "Make a Raster or Raster Dataset into a Function Raster Dataset."
}
]}
Mensuration Capabilities: Basic
Inspection Capabilities:
Has Histograms: true
Has Colormap: false
Has Multi Dimensions : false
Rendering Rule:
Min Scale: 0
Max Scale: 0
Copyright Text: Funding for this project was provided by the U.S. Forest Service (USFS). The TCC data products are developed and maintained by the USDA Forest Service through integrated teams and support from the Geospatial Office and Research and Development - Forest Inventory and Analysis.
Service Data Type: esriImageServiceDataTypeThematic
Min Values: 0
Max Values: 254
Mean Values: 33.589501067527827
Standard Deviation Values: 45.115393390803057
Object ID Field: objectid
Fields:
-
objectid
(
alias: objectid
, type: esriFieldTypeOID
)
-
name
(
length: 200
, alias: name
, type: esriFieldTypeString
)
-
minps
(
alias: minps
, type: esriFieldTypeDouble
)
-
maxps
(
alias: maxps
, type: esriFieldTypeDouble
)
-
lowps
(
alias: lowps
, type: esriFieldTypeDouble
)
-
highps
(
alias: highps
, type: esriFieldTypeDouble
)
-
category
(
alias: category
, type: esriFieldTypeInteger
, Coded Values:
[0: Unknown]
, [1: Primary]
, [2: Overview]
, ...6 more...
)
-
tag
(
length: 100
, alias: tag
, type: esriFieldTypeString
)
-
groupname
(
length: 100
, alias: groupname
, type: esriFieldTypeString
)
-
productname
(
length: 100
, alias: productname
, type: esriFieldTypeString
)
-
centerx
(
alias: centerx
, type: esriFieldTypeDouble
)
-
centery
(
alias: centery
, type: esriFieldTypeDouble
)
-
zorder
(
alias: zorder
, type: esriFieldTypeInteger
)
-
shape
(
alias: shape
, type: esriFieldTypeGeometry
)
-
beginyear
(
alias: beginyear
, type: esriFieldTypeSmallInteger
)
-
endyear
(
alias: endyear
, type: esriFieldTypeSmallInteger
)
-
dataset_name
(
length: 100
, alias: dataset_name
, type: esriFieldTypeString
)
-
resolution
(
alias: resolution
, type: esriFieldTypeDouble
)
Default Mosaic Method: Northwest
Allowed Mosaic Methods: NorthWest,Center,LockRaster,ByAttribute,Nadir,Viewpoint,Seamline,None
SortField:
SortValue: N/A
Mosaic Operator: First
Default Compression Quality: 75
Default Resampling Method: Nearest
Max Record Count: 1000
Max Image Height: 100000
Max Image Width: 100000
Max Download Image Count: 20
Max Mosaic Image Count: 100
Allow Raster Function: true
Allow Copy: true
Allow Analysis: true
Allow Compute TiePoints: false
Supports Statistics: true
Supports Advanced Queries: true
Use StandardizedQueries: true
Raster Type Infos:
Name: Raster Dataset
Description: Supports all ArcGIS Raster Datasets
Help:
Has Raster Attribute Table: false
Edit Fields Info: N/A
Ownership Based AccessControl For Rasters: N/A
Child Resources:
Info
Histograms
Statistics
Key Properties
Legend
Raster Function Infos
Supported Operations:
Export Image
Query
Identify
Measure
Compute Histograms
Compute Statistics Histograms
Get Samples
Compute Class Statistics
Query GPS Info
Find Images
Image to Map
Map to Image
Measure from Image
Image to Map Multiray
Query Boundary
Compute Pixel Location
Compute Angles
Validate
Project